BEGIN:VCALENDAR
VERSION:2.0
PRODID:-//Touchpoints180™ | Getting to Your Best Life - ECPv6.15.20//NONSGML v1.0//EN
CALSCALE:GREGORIAN
METHOD:PUBLISH
X-WR-CALNAME:Touchpoints180™ | Getting to Your Best Life
X-ORIGINAL-URL:https://www.touchpoints180.org
X-WR-CALDESC:Events for Touchpoints180™ | Getting to Your Best Life
REFRESH-INTERVAL;VALUE=DURATION:PT1H
X-Robots-Tag:noindex
X-PUBLISHED-TTL:PT1H
BEGIN:VTIMEZONE
TZID:America/New_York
BEGIN:DAYLIGHT
TZOFFSETFROM:-0500
TZOFFSETTO:-0400
TZNAME:EDT
DTSTART:20260308T070000
END:DAYLIGHT
BEGIN:STANDARD
TZOFFSETFROM:-0400
TZOFFSETTO:-0500
TZNAME:EST
DTSTART:20261101T060000
END:STANDARD
BEGIN:DAYLIGHT
TZOFFSETFROM:-0500
TZOFFSETTO:-0400
TZNAME:EDT
DTSTART:20270314T070000
END:DAYLIGHT
BEGIN:STANDARD
TZOFFSETFROM:-0400
TZOFFSETTO:-0500
TZNAME:EST
DTSTART:20271107T060000
END:STANDARD
BEGIN:DAYLIGHT
TZOFFSETFROM:-0500
TZOFFSETTO:-0400
TZNAME:EDT
DTSTART:20280312T070000
END:DAYLIGHT
BEGIN:STANDARD
TZOFFSETFROM:-0400
TZOFFSETTO:-0500
TZNAME:EST
DTSTART:20281105T060000
END:STANDARD
END:VTIMEZONE
BEGIN:VEVENT
DTSTART;TZID=America/New_York:20270706T080000
DTEND;TZID=America/New_York:20270706T090000
DTSTAMP:20260420T164358
CREATED:20250321T003305Z
LAST-MODIFIED:20250321T105547Z
UID:10002699-1814860800-1814864400@www.touchpoints180.org
SUMMARY:Commitment
DESCRIPTION:Click to join this workshop on the first Tuesday of the month:  https://us06web.zoom.us/j/84912072130?pwd=PonaoBcV7LXPtApAaFr1YcYwov11nm.1
URL:https://www.touchpoints180.org/event/commitment/2027-07-06/
CATEGORIES:Commitment
END:VEVENT
BEGIN:VEVENT
DTSTART;TZID=America/New_York:20270706T120000
DTEND;TZID=America/New_York:20270706T123000
DTSTAMP:20260420T164358
CREATED:20260406T204434Z
LAST-MODIFIED:20260406T204812Z
UID:10008340-1814875200-1814877000@www.touchpoints180.org
SUMMARY:Exercise Snacks
DESCRIPTION:Kick your metabolism into gear with an exercise snack! Join Jacqui on Zoom \nTuesday:  Meeting ID: 891 3442 6124\nhttps://us06web.zoom.us/j/89134426124?pwd=GjmQ31ogUOkEzbp1qX2as9EBfaBYuB.1
URL:https://www.touchpoints180.org/event/exercise-snacks-2/2027-07-06/
CATEGORIES:Exercise Snacks
END:VEVENT
BEGIN:VEVENT
DTSTART;TZID=America/New_York:20270706T140000
DTEND;TZID=America/New_York:20270706T150000
DTSTAMP:20260420T164358
CREATED:20250321T000649Z
LAST-MODIFIED:20250321T110615Z
UID:10000382-1814882400-1814886000@www.touchpoints180.org
SUMMARY:New Beginnings
DESCRIPTION:Click to join the workshop: https://us06web.zoom.us/j/86564583544?pwd=LgMe7NGQRe0NRsT9jibL6FPkJ9YQt3.1
URL:https://www.touchpoints180.org/event/new-beginnings-2/2027-07-06/
CATEGORIES:New Beginnings
END:VEVENT
BEGIN:VEVENT
DTSTART;TZID=America/New_York:20270706T163000
DTEND;TZID=America/New_York:20270706T173000
DTSTAMP:20260420T164358
CREATED:20250502T000546Z
LAST-MODIFIED:20250502T000548Z
UID:10001949-1814891400-1814895000@www.touchpoints180.org
SUMMARY:Transformations
DESCRIPTION:Click to join this workshop:  https://us06web.zoom.us/j/85819620236?pwd=ByHAP9sf9PKBFcJF2al6aAZ58BP5p1.1
URL:https://www.touchpoints180.org/event/transformations-2/2027-07-06/
CATEGORIES:Transformation
END:VEVENT
END:VCALENDAR