BEGIN:VCALENDAR
VERSION:2.0
PRODID:-//Touchpoints180™ | Getting to Your Best Life - ECPv6.15.20//NONSGML v1.0//EN
CALSCALE:GREGORIAN
METHOD:PUBLISH
X-WR-CALNAME:Touchpoints180™ | Getting to Your Best Life
X-ORIGINAL-URL:https://www.touchpoints180.org
X-WR-CALDESC:Events for Touchpoints180™ | Getting to Your Best Life
REFRESH-INTERVAL;VALUE=DURATION:PT1H
X-Robots-Tag:noindex
X-PUBLISHED-TTL:PT1H
BEGIN:VTIMEZONE
TZID:America/New_York
BEGIN:DAYLIGHT
TZOFFSETFROM:-0500
TZOFFSETTO:-0400
TZNAME:EDT
DTSTART:20260308T070000
END:DAYLIGHT
BEGIN:STANDARD
TZOFFSETFROM:-0400
TZOFFSETTO:-0500
TZNAME:EST
DTSTART:20261101T060000
END:STANDARD
BEGIN:DAYLIGHT
TZOFFSETFROM:-0500
TZOFFSETTO:-0400
TZNAME:EDT
DTSTART:20270314T070000
END:DAYLIGHT
BEGIN:STANDARD
TZOFFSETFROM:-0400
TZOFFSETTO:-0500
TZNAME:EST
DTSTART:20271107T060000
END:STANDARD
BEGIN:DAYLIGHT
TZOFFSETFROM:-0500
TZOFFSETTO:-0400
TZNAME:EDT
DTSTART:20280312T070000
END:DAYLIGHT
BEGIN:STANDARD
TZOFFSETFROM:-0400
TZOFFSETTO:-0500
TZNAME:EST
DTSTART:20281105T060000
END:STANDARD
END:VTIMEZONE
BEGIN:VEVENT
DTSTART;TZID=America/New_York:20270301T100000
DTEND;TZID=America/New_York:20270301T110000
DTSTAMP:20260421T081545
CREATED:20251123T223810Z
LAST-MODIFIED:20260313T174043Z
UID:10007833-1803895200-1803898800@www.touchpoints180.org
SUMMARY:AKA "Ask Keri Anything"
DESCRIPTION:Click here to join the workshop:  https://us06web.zoom.us/j/87572737147?pwd=9aW54g86Wi66nL5vtLlHzA5bO3q4gD.1
URL:https://www.touchpoints180.org/event/aka-workshop/2027-03-01/
CATEGORIES:AKA "Ask Keri"
END:VEVENT
BEGIN:VEVENT
DTSTART;TZID=America/New_York:20270305T100000
DTEND;TZID=America/New_York:20270305T110000
DTSTAMP:20260421T081545
CREATED:20260309T164704Z
LAST-MODIFIED:20260309T164705Z
UID:10007524-1804240800-1804244400@www.touchpoints180.org
SUMMARY:AKA "Ask Keri Anything"
DESCRIPTION:Click here to join the workshop which will begin at 10 am:  https://us06web.zoom.us/j/87572737147?pwd=9aW54g86Wi66nL5vtLlHzA5bO3q4gD.1
URL:https://www.touchpoints180.org/event/aka-workshop-2-2/2027-03-05/
CATEGORIES:AKA "Ask Keri"
END:VEVENT
BEGIN:VEVENT
DTSTART;TZID=America/New_York:20270308T100000
DTEND;TZID=America/New_York:20270308T110000
DTSTAMP:20260421T081545
CREATED:20251123T223810Z
LAST-MODIFIED:20260313T174043Z
UID:10007834-1804500000-1804503600@www.touchpoints180.org
SUMMARY:AKA "Ask Keri Anything"
DESCRIPTION:Click here to join the workshop:  https://us06web.zoom.us/j/87572737147?pwd=9aW54g86Wi66nL5vtLlHzA5bO3q4gD.1
URL:https://www.touchpoints180.org/event/aka-workshop/2027-03-08/
CATEGORIES:AKA "Ask Keri"
END:VEVENT
BEGIN:VEVENT
DTSTART;TZID=America/New_York:20270312T100000
DTEND;TZID=America/New_York:20270312T110000
DTSTAMP:20260421T081545
CREATED:20260309T164704Z
LAST-MODIFIED:20260309T164705Z
UID:10007525-1804845600-1804849200@www.touchpoints180.org
SUMMARY:AKA "Ask Keri Anything"
DESCRIPTION:Click here to join the workshop which will begin at 10 am:  https://us06web.zoom.us/j/87572737147?pwd=9aW54g86Wi66nL5vtLlHzA5bO3q4gD.1
URL:https://www.touchpoints180.org/event/aka-workshop-2-2/2027-03-12/
CATEGORIES:AKA "Ask Keri"
END:VEVENT
BEGIN:VEVENT
DTSTART;TZID=America/New_York:20270315T100000
DTEND;TZID=America/New_York:20270315T110000
DTSTAMP:20260421T081545
CREATED:20251123T223810Z
LAST-MODIFIED:20260313T174043Z
UID:10007835-1805104800-1805108400@www.touchpoints180.org
SUMMARY:AKA "Ask Keri Anything"
DESCRIPTION:Click here to join the workshop:  https://us06web.zoom.us/j/87572737147?pwd=9aW54g86Wi66nL5vtLlHzA5bO3q4gD.1
URL:https://www.touchpoints180.org/event/aka-workshop/2027-03-15/
CATEGORIES:AKA "Ask Keri"
END:VEVENT
BEGIN:VEVENT
DTSTART;TZID=America/New_York:20270319T100000
DTEND;TZID=America/New_York:20270319T110000
DTSTAMP:20260421T081545
CREATED:20260309T164704Z
LAST-MODIFIED:20260309T164705Z
UID:10007526-1805450400-1805454000@www.touchpoints180.org
SUMMARY:AKA "Ask Keri Anything"
DESCRIPTION:Click here to join the workshop which will begin at 10 am:  https://us06web.zoom.us/j/87572737147?pwd=9aW54g86Wi66nL5vtLlHzA5bO3q4gD.1
URL:https://www.touchpoints180.org/event/aka-workshop-2-2/2027-03-19/
CATEGORIES:AKA "Ask Keri"
END:VEVENT
BEGIN:VEVENT
DTSTART;TZID=America/New_York:20270322T100000
DTEND;TZID=America/New_York:20270322T110000
DTSTAMP:20260421T081545
CREATED:20251123T223810Z
LAST-MODIFIED:20260313T174043Z
UID:10007836-1805709600-1805713200@www.touchpoints180.org
SUMMARY:AKA "Ask Keri Anything"
DESCRIPTION:Click here to join the workshop:  https://us06web.zoom.us/j/87572737147?pwd=9aW54g86Wi66nL5vtLlHzA5bO3q4gD.1
URL:https://www.touchpoints180.org/event/aka-workshop/2027-03-22/
CATEGORIES:AKA "Ask Keri"
END:VEVENT
BEGIN:VEVENT
DTSTART;TZID=America/New_York:20270326T100000
DTEND;TZID=America/New_York:20270326T110000
DTSTAMP:20260421T081545
CREATED:20260309T164704Z
LAST-MODIFIED:20260309T164705Z
UID:10007527-1806055200-1806058800@www.touchpoints180.org
SUMMARY:AKA "Ask Keri Anything"
DESCRIPTION:Click here to join the workshop which will begin at 10 am:  https://us06web.zoom.us/j/87572737147?pwd=9aW54g86Wi66nL5vtLlHzA5bO3q4gD.1
URL:https://www.touchpoints180.org/event/aka-workshop-2-2/2027-03-26/
CATEGORIES:AKA "Ask Keri"
END:VEVENT
BEGIN:VEVENT
DTSTART;TZID=America/New_York:20270329T100000
DTEND;TZID=America/New_York:20270329T110000
DTSTAMP:20260421T081545
CREATED:20251123T223810Z
LAST-MODIFIED:20260313T174043Z
UID:10007837-1806314400-1806318000@www.touchpoints180.org
SUMMARY:AKA "Ask Keri Anything"
DESCRIPTION:Click here to join the workshop:  https://us06web.zoom.us/j/87572737147?pwd=9aW54g86Wi66nL5vtLlHzA5bO3q4gD.1
URL:https://www.touchpoints180.org/event/aka-workshop/2027-03-29/
CATEGORIES:AKA "Ask Keri"
END:VEVENT
END:VCALENDAR