BEGIN:VCALENDAR
VERSION:2.0
PRODID:-//Touchpoints180™ | Getting to Your Best Life - ECPv6.15.20//NONSGML v1.0//EN
CALSCALE:GREGORIAN
METHOD:PUBLISH
X-WR-CALNAME:Touchpoints180™ | Getting to Your Best Life
X-ORIGINAL-URL:https://www.touchpoints180.org
X-WR-CALDESC:Events for Touchpoints180™ | Getting to Your Best Life
REFRESH-INTERVAL;VALUE=DURATION:PT1H
X-Robots-Tag:noindex
X-PUBLISHED-TTL:PT1H
BEGIN:VTIMEZONE
TZID:America/New_York
BEGIN:DAYLIGHT
TZOFFSETFROM:-0500
TZOFFSETTO:-0400
TZNAME:EDT
DTSTART:20280312T070000
END:DAYLIGHT
BEGIN:STANDARD
TZOFFSETFROM:-0400
TZOFFSETTO:-0500
TZNAME:EST
DTSTART:20281105T060000
END:STANDARD
BEGIN:DAYLIGHT
TZOFFSETFROM:-0500
TZOFFSETTO:-0400
TZNAME:EDT
DTSTART:20290311T070000
END:DAYLIGHT
BEGIN:STANDARD
TZOFFSETFROM:-0400
TZOFFSETTO:-0500
TZNAME:EST
DTSTART:20291104T060000
END:STANDARD
BEGIN:DAYLIGHT
TZOFFSETFROM:-0500
TZOFFSETTO:-0400
TZNAME:EDT
DTSTART:20300310T070000
END:DAYLIGHT
BEGIN:STANDARD
TZOFFSETFROM:-0400
TZOFFSETTO:-0500
TZNAME:EST
DTSTART:20301103T060000
END:STANDARD
END:VTIMEZONE
BEGIN:VEVENT
DTSTART;TZID=America/New_York:20290101T100000
DTEND;TZID=America/New_York:20290101T110000
DTSTAMP:20260422T025815
CREATED:20251123T223810Z
LAST-MODIFIED:20260313T174043Z
UID:10007929-1861956000-1861959600@www.touchpoints180.org
SUMMARY:AKA "Ask Keri Anything"
DESCRIPTION:Click here to join the workshop:  https://us06web.zoom.us/j/87572737147?pwd=9aW54g86Wi66nL5vtLlHzA5bO3q4gD.1
URL:https://www.touchpoints180.org/event/aka-workshop/2029-01-01/
CATEGORIES:AKA "Ask Keri"
END:VEVENT
BEGIN:VEVENT
DTSTART;TZID=America/New_York:20290105T100000
DTEND;TZID=America/New_York:20290105T110000
DTSTAMP:20260422T025815
CREATED:20260309T164704Z
LAST-MODIFIED:20260309T164705Z
UID:10007620-1862301600-1862305200@www.touchpoints180.org
SUMMARY:AKA "Ask Keri Anything"
DESCRIPTION:Click here to join the workshop which will begin at 10 am:  https://us06web.zoom.us/j/87572737147?pwd=9aW54g86Wi66nL5vtLlHzA5bO3q4gD.1
URL:https://www.touchpoints180.org/event/aka-workshop-2-2/2029-01-05/
CATEGORIES:AKA "Ask Keri"
END:VEVENT
BEGIN:VEVENT
DTSTART;TZID=America/New_York:20290108T100000
DTEND;TZID=America/New_York:20290108T110000
DTSTAMP:20260422T025815
CREATED:20251123T223810Z
LAST-MODIFIED:20260313T174043Z
UID:10007930-1862560800-1862564400@www.touchpoints180.org
SUMMARY:AKA "Ask Keri Anything"
DESCRIPTION:Click here to join the workshop:  https://us06web.zoom.us/j/87572737147?pwd=9aW54g86Wi66nL5vtLlHzA5bO3q4gD.1
URL:https://www.touchpoints180.org/event/aka-workshop/2029-01-08/
CATEGORIES:AKA "Ask Keri"
END:VEVENT
BEGIN:VEVENT
DTSTART;TZID=America/New_York:20290112T100000
DTEND;TZID=America/New_York:20290112T110000
DTSTAMP:20260422T025815
CREATED:20260309T164704Z
LAST-MODIFIED:20260309T164705Z
UID:10007621-1862906400-1862910000@www.touchpoints180.org
SUMMARY:AKA "Ask Keri Anything"
DESCRIPTION:Click here to join the workshop which will begin at 10 am:  https://us06web.zoom.us/j/87572737147?pwd=9aW54g86Wi66nL5vtLlHzA5bO3q4gD.1
URL:https://www.touchpoints180.org/event/aka-workshop-2-2/2029-01-12/
CATEGORIES:AKA "Ask Keri"
END:VEVENT
BEGIN:VEVENT
DTSTART;TZID=America/New_York:20290115T100000
DTEND;TZID=America/New_York:20290115T110000
DTSTAMP:20260422T025815
CREATED:20251123T223810Z
LAST-MODIFIED:20260313T174043Z
UID:10007931-1863165600-1863169200@www.touchpoints180.org
SUMMARY:AKA "Ask Keri Anything"
DESCRIPTION:Click here to join the workshop:  https://us06web.zoom.us/j/87572737147?pwd=9aW54g86Wi66nL5vtLlHzA5bO3q4gD.1
URL:https://www.touchpoints180.org/event/aka-workshop/2029-01-15/
CATEGORIES:AKA "Ask Keri"
END:VEVENT
BEGIN:VEVENT
DTSTART;TZID=America/New_York:20290119T100000
DTEND;TZID=America/New_York:20290119T110000
DTSTAMP:20260422T025815
CREATED:20260309T164704Z
LAST-MODIFIED:20260309T164705Z
UID:10007622-1863511200-1863514800@www.touchpoints180.org
SUMMARY:AKA "Ask Keri Anything"
DESCRIPTION:Click here to join the workshop which will begin at 10 am:  https://us06web.zoom.us/j/87572737147?pwd=9aW54g86Wi66nL5vtLlHzA5bO3q4gD.1
URL:https://www.touchpoints180.org/event/aka-workshop-2-2/2029-01-19/
CATEGORIES:AKA "Ask Keri"
END:VEVENT
BEGIN:VEVENT
DTSTART;TZID=America/New_York:20290122T100000
DTEND;TZID=America/New_York:20290122T110000
DTSTAMP:20260422T025815
CREATED:20251123T223810Z
LAST-MODIFIED:20260313T174043Z
UID:10007932-1863770400-1863774000@www.touchpoints180.org
SUMMARY:AKA "Ask Keri Anything"
DESCRIPTION:Click here to join the workshop:  https://us06web.zoom.us/j/87572737147?pwd=9aW54g86Wi66nL5vtLlHzA5bO3q4gD.1
URL:https://www.touchpoints180.org/event/aka-workshop/2029-01-22/
CATEGORIES:AKA "Ask Keri"
END:VEVENT
BEGIN:VEVENT
DTSTART;TZID=America/New_York:20290126T100000
DTEND;TZID=America/New_York:20290126T110000
DTSTAMP:20260422T025815
CREATED:20260309T164704Z
LAST-MODIFIED:20260309T164705Z
UID:10007623-1864116000-1864119600@www.touchpoints180.org
SUMMARY:AKA "Ask Keri Anything"
DESCRIPTION:Click here to join the workshop which will begin at 10 am:  https://us06web.zoom.us/j/87572737147?pwd=9aW54g86Wi66nL5vtLlHzA5bO3q4gD.1
URL:https://www.touchpoints180.org/event/aka-workshop-2-2/2029-01-26/
CATEGORIES:AKA "Ask Keri"
END:VEVENT
BEGIN:VEVENT
DTSTART;TZID=America/New_York:20290129T100000
DTEND;TZID=America/New_York:20290129T110000
DTSTAMP:20260422T025815
CREATED:20251123T223810Z
LAST-MODIFIED:20260313T174043Z
UID:10007933-1864375200-1864378800@www.touchpoints180.org
SUMMARY:AKA "Ask Keri Anything"
DESCRIPTION:Click here to join the workshop:  https://us06web.zoom.us/j/87572737147?pwd=9aW54g86Wi66nL5vtLlHzA5bO3q4gD.1
URL:https://www.touchpoints180.org/event/aka-workshop/2029-01-29/
CATEGORIES:AKA "Ask Keri"
END:VEVENT
END:VCALENDAR