BEGIN:VCALENDAR
VERSION:2.0
PRODID:-//Touchpoints180™ | Getting to Your Best Life - ECPv6.15.20//NONSGML v1.0//EN
CALSCALE:GREGORIAN
METHOD:PUBLISH
X-WR-CALNAME:Touchpoints180™ | Getting to Your Best Life
X-ORIGINAL-URL:https://www.touchpoints180.org
X-WR-CALDESC:Events for Touchpoints180™ | Getting to Your Best Life
REFRESH-INTERVAL;VALUE=DURATION:PT1H
X-Robots-Tag:noindex
X-PUBLISHED-TTL:PT1H
BEGIN:VTIMEZONE
TZID:America/New_York
BEGIN:DAYLIGHT
TZOFFSETFROM:-0500
TZOFFSETTO:-0400
TZNAME:EDT
DTSTART:20290311T070000
END:DAYLIGHT
BEGIN:STANDARD
TZOFFSETFROM:-0400
TZOFFSETTO:-0500
TZNAME:EST
DTSTART:20291104T060000
END:STANDARD
BEGIN:DAYLIGHT
TZOFFSETFROM:-0500
TZOFFSETTO:-0400
TZNAME:EDT
DTSTART:20300310T070000
END:DAYLIGHT
BEGIN:STANDARD
TZOFFSETFROM:-0400
TZOFFSETTO:-0500
TZNAME:EST
DTSTART:20301103T060000
END:STANDARD
BEGIN:DAYLIGHT
TZOFFSETFROM:-0500
TZOFFSETTO:-0400
TZNAME:EDT
DTSTART:20310309T070000
END:DAYLIGHT
BEGIN:STANDARD
TZOFFSETFROM:-0400
TZOFFSETTO:-0500
TZNAME:EST
DTSTART:20311102T060000
END:STANDARD
END:VTIMEZONE
BEGIN:VEVENT
DTSTART;TZID=America/New_York:20300503T100000
DTEND;TZID=America/New_York:20300503T110000
DTSTAMP:20260425T112126
CREATED:20260309T164704Z
LAST-MODIFIED:20260309T164705Z
UID:10007689-1904032800-1904036400@www.touchpoints180.org
SUMMARY:AKA "Ask Keri Anything"
DESCRIPTION:Click here to join the workshop which will begin at 10 am:  https://us06web.zoom.us/j/87572737147?pwd=9aW54g86Wi66nL5vtLlHzA5bO3q4gD.1
URL:https://www.touchpoints180.org/event/aka-workshop-2-2/2030-05-03/
CATEGORIES:AKA "Ask Keri"
END:VEVENT
BEGIN:VEVENT
DTSTART;TZID=America/New_York:20300506T100000
DTEND;TZID=America/New_York:20300506T110000
DTSTAMP:20260425T112126
CREATED:20251123T223810Z
LAST-MODIFIED:20260313T174043Z
UID:10007999-1904292000-1904295600@www.touchpoints180.org
SUMMARY:AKA "Ask Keri Anything"
DESCRIPTION:Click here to join the workshop:  https://us06web.zoom.us/j/87572737147?pwd=9aW54g86Wi66nL5vtLlHzA5bO3q4gD.1
URL:https://www.touchpoints180.org/event/aka-workshop/2030-05-06/
CATEGORIES:AKA "Ask Keri"
END:VEVENT
BEGIN:VEVENT
DTSTART;TZID=America/New_York:20300510T100000
DTEND;TZID=America/New_York:20300510T110000
DTSTAMP:20260425T112126
CREATED:20260309T164704Z
LAST-MODIFIED:20260309T164705Z
UID:10007690-1904637600-1904641200@www.touchpoints180.org
SUMMARY:AKA "Ask Keri Anything"
DESCRIPTION:Click here to join the workshop which will begin at 10 am:  https://us06web.zoom.us/j/87572737147?pwd=9aW54g86Wi66nL5vtLlHzA5bO3q4gD.1
URL:https://www.touchpoints180.org/event/aka-workshop-2-2/2030-05-10/
CATEGORIES:AKA "Ask Keri"
END:VEVENT
BEGIN:VEVENT
DTSTART;TZID=America/New_York:20300513T100000
DTEND;TZID=America/New_York:20300513T110000
DTSTAMP:20260425T112126
CREATED:20251123T223810Z
LAST-MODIFIED:20260313T174043Z
UID:10008000-1904896800-1904900400@www.touchpoints180.org
SUMMARY:AKA "Ask Keri Anything"
DESCRIPTION:Click here to join the workshop:  https://us06web.zoom.us/j/87572737147?pwd=9aW54g86Wi66nL5vtLlHzA5bO3q4gD.1
URL:https://www.touchpoints180.org/event/aka-workshop/2030-05-13/
CATEGORIES:AKA "Ask Keri"
END:VEVENT
BEGIN:VEVENT
DTSTART;TZID=America/New_York:20300517T100000
DTEND;TZID=America/New_York:20300517T110000
DTSTAMP:20260425T112126
CREATED:20260309T164704Z
LAST-MODIFIED:20260309T164705Z
UID:10007691-1905242400-1905246000@www.touchpoints180.org
SUMMARY:AKA "Ask Keri Anything"
DESCRIPTION:Click here to join the workshop which will begin at 10 am:  https://us06web.zoom.us/j/87572737147?pwd=9aW54g86Wi66nL5vtLlHzA5bO3q4gD.1
URL:https://www.touchpoints180.org/event/aka-workshop-2-2/2030-05-17/
CATEGORIES:AKA "Ask Keri"
END:VEVENT
BEGIN:VEVENT
DTSTART;TZID=America/New_York:20300520T100000
DTEND;TZID=America/New_York:20300520T110000
DTSTAMP:20260425T112126
CREATED:20251123T223810Z
LAST-MODIFIED:20260313T174043Z
UID:10008001-1905501600-1905505200@www.touchpoints180.org
SUMMARY:AKA "Ask Keri Anything"
DESCRIPTION:Click here to join the workshop:  https://us06web.zoom.us/j/87572737147?pwd=9aW54g86Wi66nL5vtLlHzA5bO3q4gD.1
URL:https://www.touchpoints180.org/event/aka-workshop/2030-05-20/
CATEGORIES:AKA "Ask Keri"
END:VEVENT
BEGIN:VEVENT
DTSTART;TZID=America/New_York:20300524T100000
DTEND;TZID=America/New_York:20300524T110000
DTSTAMP:20260425T112126
CREATED:20260309T164704Z
LAST-MODIFIED:20260309T164705Z
UID:10007692-1905847200-1905850800@www.touchpoints180.org
SUMMARY:AKA "Ask Keri Anything"
DESCRIPTION:Click here to join the workshop which will begin at 10 am:  https://us06web.zoom.us/j/87572737147?pwd=9aW54g86Wi66nL5vtLlHzA5bO3q4gD.1
URL:https://www.touchpoints180.org/event/aka-workshop-2-2/2030-05-24/
CATEGORIES:AKA "Ask Keri"
END:VEVENT
BEGIN:VEVENT
DTSTART;TZID=America/New_York:20300527T100000
DTEND;TZID=America/New_York:20300527T110000
DTSTAMP:20260425T112126
CREATED:20251123T223810Z
LAST-MODIFIED:20260313T174043Z
UID:10008002-1906106400-1906110000@www.touchpoints180.org
SUMMARY:AKA "Ask Keri Anything"
DESCRIPTION:Click here to join the workshop:  https://us06web.zoom.us/j/87572737147?pwd=9aW54g86Wi66nL5vtLlHzA5bO3q4gD.1
URL:https://www.touchpoints180.org/event/aka-workshop/2030-05-27/
CATEGORIES:AKA "Ask Keri"
END:VEVENT
BEGIN:VEVENT
DTSTART;TZID=America/New_York:20300531T100000
DTEND;TZID=America/New_York:20300531T110000
DTSTAMP:20260425T112126
CREATED:20260309T164704Z
LAST-MODIFIED:20260309T164705Z
UID:10007693-1906452000-1906455600@www.touchpoints180.org
SUMMARY:AKA "Ask Keri Anything"
DESCRIPTION:Click here to join the workshop which will begin at 10 am:  https://us06web.zoom.us/j/87572737147?pwd=9aW54g86Wi66nL5vtLlHzA5bO3q4gD.1
URL:https://www.touchpoints180.org/event/aka-workshop-2-2/2030-05-31/
CATEGORIES:AKA "Ask Keri"
END:VEVENT
END:VCALENDAR