BEGIN:VCALENDAR
VERSION:2.0
PRODID:-//Touchpoints180™ | Getting to Your Best Life - ECPv6.15.20//NONSGML v1.0//EN
CALSCALE:GREGORIAN
METHOD:PUBLISH
X-ORIGINAL-URL:https://www.touchpoints180.org
X-WR-CALDESC:Events for Touchpoints180™ | Getting to Your Best Life
REFRESH-INTERVAL;VALUE=DURATION:PT1H
X-Robots-Tag:noindex
X-PUBLISHED-TTL:PT1H
BEGIN:VTIMEZONE
TZID:America/New_York
BEGIN:DAYLIGHT
TZOFFSETFROM:-0500
TZOFFSETTO:-0400
TZNAME:EDT
DTSTART:20290311T070000
END:DAYLIGHT
BEGIN:STANDARD
TZOFFSETFROM:-0400
TZOFFSETTO:-0500
TZNAME:EST
DTSTART:20291104T060000
END:STANDARD
BEGIN:DAYLIGHT
TZOFFSETFROM:-0500
TZOFFSETTO:-0400
TZNAME:EDT
DTSTART:20300310T070000
END:DAYLIGHT
BEGIN:STANDARD
TZOFFSETFROM:-0400
TZOFFSETTO:-0500
TZNAME:EST
DTSTART:20301103T060000
END:STANDARD
BEGIN:DAYLIGHT
TZOFFSETFROM:-0500
TZOFFSETTO:-0400
TZNAME:EDT
DTSTART:20310309T070000
END:DAYLIGHT
BEGIN:STANDARD
TZOFFSETFROM:-0400
TZOFFSETTO:-0500
TZNAME:EST
DTSTART:20311102T060000
END:STANDARD
END:VTIMEZONE
BEGIN:VEVENT
DTSTART;TZID=America/New_York:20300701T100000
DTEND;TZID=America/New_York:20300701T110000
DTSTAMP:20260425T155245
CREATED:20251123T223810Z
LAST-MODIFIED:20260313T174043Z
UID:10008007-1909130400-1909134000@www.touchpoints180.org
SUMMARY:AKA "Ask Keri Anything"
DESCRIPTION:Click here to join the workshop:  https://us06web.zoom.us/j/87572737147?pwd=9aW54g86Wi66nL5vtLlHzA5bO3q4gD.1
URL:https://www.touchpoints180.org/event/aka-workshop/2030-07-01/
CATEGORIES:AKA "Ask Keri"
END:VEVENT
BEGIN:VEVENT
DTSTART;TZID=America/New_York:20300705T100000
DTEND;TZID=America/New_York:20300705T110000
DTSTAMP:20260425T155245
CREATED:20260309T164704Z
LAST-MODIFIED:20260309T164705Z
UID:10007698-1909476000-1909479600@www.touchpoints180.org
SUMMARY:AKA "Ask Keri Anything"
DESCRIPTION:Click here to join the workshop which will begin at 10 am:  https://us06web.zoom.us/j/87572737147?pwd=9aW54g86Wi66nL5vtLlHzA5bO3q4gD.1
URL:https://www.touchpoints180.org/event/aka-workshop-2-2/2030-07-05/
CATEGORIES:AKA "Ask Keri"
END:VEVENT
BEGIN:VEVENT
DTSTART;TZID=America/New_York:20300708T100000
DTEND;TZID=America/New_York:20300708T110000
DTSTAMP:20260425T155245
CREATED:20251123T223810Z
LAST-MODIFIED:20260313T174043Z
UID:10008008-1909735200-1909738800@www.touchpoints180.org
SUMMARY:AKA "Ask Keri Anything"
DESCRIPTION:Click here to join the workshop:  https://us06web.zoom.us/j/87572737147?pwd=9aW54g86Wi66nL5vtLlHzA5bO3q4gD.1
URL:https://www.touchpoints180.org/event/aka-workshop/2030-07-08/
CATEGORIES:AKA "Ask Keri"
END:VEVENT
BEGIN:VEVENT
DTSTART;TZID=America/New_York:20300712T100000
DTEND;TZID=America/New_York:20300712T110000
DTSTAMP:20260425T155245
CREATED:20260309T164704Z
LAST-MODIFIED:20260309T164705Z
UID:10007699-1910080800-1910084400@www.touchpoints180.org
SUMMARY:AKA "Ask Keri Anything"
DESCRIPTION:Click here to join the workshop which will begin at 10 am:  https://us06web.zoom.us/j/87572737147?pwd=9aW54g86Wi66nL5vtLlHzA5bO3q4gD.1
URL:https://www.touchpoints180.org/event/aka-workshop-2-2/2030-07-12/
CATEGORIES:AKA "Ask Keri"
END:VEVENT
BEGIN:VEVENT
DTSTART;TZID=America/New_York:20300715T100000
DTEND;TZID=America/New_York:20300715T110000
DTSTAMP:20260425T155245
CREATED:20251123T223810Z
LAST-MODIFIED:20260313T174043Z
UID:10008009-1910340000-1910343600@www.touchpoints180.org
SUMMARY:AKA "Ask Keri Anything"
DESCRIPTION:Click here to join the workshop:  https://us06web.zoom.us/j/87572737147?pwd=9aW54g86Wi66nL5vtLlHzA5bO3q4gD.1
URL:https://www.touchpoints180.org/event/aka-workshop/2030-07-15/
CATEGORIES:AKA "Ask Keri"
END:VEVENT
BEGIN:VEVENT
DTSTART;TZID=America/New_York:20300719T100000
DTEND;TZID=America/New_York:20300719T110000
DTSTAMP:20260425T155245
CREATED:20260309T164704Z
LAST-MODIFIED:20260309T164705Z
UID:10007700-1910685600-1910689200@www.touchpoints180.org
SUMMARY:AKA "Ask Keri Anything"
DESCRIPTION:Click here to join the workshop which will begin at 10 am:  https://us06web.zoom.us/j/87572737147?pwd=9aW54g86Wi66nL5vtLlHzA5bO3q4gD.1
URL:https://www.touchpoints180.org/event/aka-workshop-2-2/2030-07-19/
CATEGORIES:AKA "Ask Keri"
END:VEVENT
BEGIN:VEVENT
DTSTART;TZID=America/New_York:20300722T100000
DTEND;TZID=America/New_York:20300722T110000
DTSTAMP:20260425T155245
CREATED:20251123T223810Z
LAST-MODIFIED:20260313T174043Z
UID:10008010-1910944800-1910948400@www.touchpoints180.org
SUMMARY:AKA "Ask Keri Anything"
DESCRIPTION:Click here to join the workshop:  https://us06web.zoom.us/j/87572737147?pwd=9aW54g86Wi66nL5vtLlHzA5bO3q4gD.1
URL:https://www.touchpoints180.org/event/aka-workshop/2030-07-22/
CATEGORIES:AKA "Ask Keri"
END:VEVENT
BEGIN:VEVENT
DTSTART;TZID=America/New_York:20300726T100000
DTEND;TZID=America/New_York:20300726T110000
DTSTAMP:20260425T155245
CREATED:20260309T164704Z
LAST-MODIFIED:20260309T164705Z
UID:10007701-1911290400-1911294000@www.touchpoints180.org
SUMMARY:AKA "Ask Keri Anything"
DESCRIPTION:Click here to join the workshop which will begin at 10 am:  https://us06web.zoom.us/j/87572737147?pwd=9aW54g86Wi66nL5vtLlHzA5bO3q4gD.1
URL:https://www.touchpoints180.org/event/aka-workshop-2-2/2030-07-26/
CATEGORIES:AKA "Ask Keri"
END:VEVENT
BEGIN:VEVENT
DTSTART;TZID=America/New_York:20300729T100000
DTEND;TZID=America/New_York:20300729T110000
DTSTAMP:20260425T155245
CREATED:20251123T223810Z
LAST-MODIFIED:20260313T174043Z
UID:10008011-1911549600-1911553200@www.touchpoints180.org
SUMMARY:AKA "Ask Keri Anything"
DESCRIPTION:Click here to join the workshop:  https://us06web.zoom.us/j/87572737147?pwd=9aW54g86Wi66nL5vtLlHzA5bO3q4gD.1
URL:https://www.touchpoints180.org/event/aka-workshop/2030-07-29/
CATEGORIES:AKA "Ask Keri"
END:VEVENT
END:VCALENDAR