BEGIN:VCALENDAR
VERSION:2.0
PRODID:-//Touchpoints180™ | Getting to Your Best Life - ECPv6.15.20//NONSGML v1.0//EN
CALSCALE:GREGORIAN
METHOD:PUBLISH
X-WR-CALNAME:Touchpoints180™ | Getting to Your Best Life
X-ORIGINAL-URL:https://www.touchpoints180.org
X-WR-CALDESC:Events for Touchpoints180™ | Getting to Your Best Life
REFRESH-INTERVAL;VALUE=DURATION:PT1H
X-Robots-Tag:noindex
X-PUBLISHED-TTL:PT1H
BEGIN:VTIMEZONE
TZID:America/New_York
BEGIN:DAYLIGHT
TZOFFSETFROM:-0500
TZOFFSETTO:-0400
TZNAME:EDT
DTSTART:20290311T070000
END:DAYLIGHT
BEGIN:STANDARD
TZOFFSETFROM:-0400
TZOFFSETTO:-0500
TZNAME:EST
DTSTART:20291104T060000
END:STANDARD
BEGIN:DAYLIGHT
TZOFFSETFROM:-0500
TZOFFSETTO:-0400
TZNAME:EDT
DTSTART:20300310T070000
END:DAYLIGHT
BEGIN:STANDARD
TZOFFSETFROM:-0400
TZOFFSETTO:-0500
TZNAME:EST
DTSTART:20301103T060000
END:STANDARD
BEGIN:DAYLIGHT
TZOFFSETFROM:-0500
TZOFFSETTO:-0400
TZNAME:EDT
DTSTART:20310309T070000
END:DAYLIGHT
BEGIN:STANDARD
TZOFFSETFROM:-0400
TZOFFSETTO:-0500
TZNAME:EST
DTSTART:20311102T060000
END:STANDARD
END:VTIMEZONE
BEGIN:VEVENT
DTSTART;TZID=America/New_York:20301101T100000
DTEND;TZID=America/New_York:20301101T110000
DTSTAMP:20260425T234015
CREATED:20260309T164704Z
LAST-MODIFIED:20260309T164705Z
UID:10007715-1919757600-1919761200@www.touchpoints180.org
SUMMARY:AKA "Ask Keri Anything"
DESCRIPTION:Click here to join the workshop which will begin at 10 am:  https://us06web.zoom.us/j/87572737147?pwd=9aW54g86Wi66nL5vtLlHzA5bO3q4gD.1
URL:https://www.touchpoints180.org/event/aka-workshop-2-2/2030-11-01/
CATEGORIES:AKA "Ask Keri"
END:VEVENT
BEGIN:VEVENT
DTSTART;TZID=America/New_York:20301104T100000
DTEND;TZID=America/New_York:20301104T110000
DTSTAMP:20260425T234015
CREATED:20251123T223810Z
LAST-MODIFIED:20260313T174043Z
UID:10008025-1920016800-1920020400@www.touchpoints180.org
SUMMARY:AKA "Ask Keri Anything"
DESCRIPTION:Click here to join the workshop:  https://us06web.zoom.us/j/87572737147?pwd=9aW54g86Wi66nL5vtLlHzA5bO3q4gD.1
URL:https://www.touchpoints180.org/event/aka-workshop/2030-11-04/
CATEGORIES:AKA "Ask Keri"
END:VEVENT
BEGIN:VEVENT
DTSTART;TZID=America/New_York:20301108T100000
DTEND;TZID=America/New_York:20301108T110000
DTSTAMP:20260425T234015
CREATED:20260309T164704Z
LAST-MODIFIED:20260309T164705Z
UID:10007716-1920362400-1920366000@www.touchpoints180.org
SUMMARY:AKA "Ask Keri Anything"
DESCRIPTION:Click here to join the workshop which will begin at 10 am:  https://us06web.zoom.us/j/87572737147?pwd=9aW54g86Wi66nL5vtLlHzA5bO3q4gD.1
URL:https://www.touchpoints180.org/event/aka-workshop-2-2/2030-11-08/
CATEGORIES:AKA "Ask Keri"
END:VEVENT
BEGIN:VEVENT
DTSTART;TZID=America/New_York:20301111T100000
DTEND;TZID=America/New_York:20301111T110000
DTSTAMP:20260425T234015
CREATED:20251123T223810Z
LAST-MODIFIED:20260313T174043Z
UID:10008026-1920621600-1920625200@www.touchpoints180.org
SUMMARY:AKA "Ask Keri Anything"
DESCRIPTION:Click here to join the workshop:  https://us06web.zoom.us/j/87572737147?pwd=9aW54g86Wi66nL5vtLlHzA5bO3q4gD.1
URL:https://www.touchpoints180.org/event/aka-workshop/2030-11-11/
CATEGORIES:AKA "Ask Keri"
END:VEVENT
BEGIN:VEVENT
DTSTART;TZID=America/New_York:20301115T100000
DTEND;TZID=America/New_York:20301115T110000
DTSTAMP:20260425T234015
CREATED:20260309T164704Z
LAST-MODIFIED:20260309T164705Z
UID:10007717-1920967200-1920970800@www.touchpoints180.org
SUMMARY:AKA "Ask Keri Anything"
DESCRIPTION:Click here to join the workshop which will begin at 10 am:  https://us06web.zoom.us/j/87572737147?pwd=9aW54g86Wi66nL5vtLlHzA5bO3q4gD.1
URL:https://www.touchpoints180.org/event/aka-workshop-2-2/2030-11-15/
CATEGORIES:AKA "Ask Keri"
END:VEVENT
BEGIN:VEVENT
DTSTART;TZID=America/New_York:20301118T100000
DTEND;TZID=America/New_York:20301118T110000
DTSTAMP:20260425T234015
CREATED:20251123T223810Z
LAST-MODIFIED:20260313T174043Z
UID:10008027-1921226400-1921230000@www.touchpoints180.org
SUMMARY:AKA "Ask Keri Anything"
DESCRIPTION:Click here to join the workshop:  https://us06web.zoom.us/j/87572737147?pwd=9aW54g86Wi66nL5vtLlHzA5bO3q4gD.1
URL:https://www.touchpoints180.org/event/aka-workshop/2030-11-18/
CATEGORIES:AKA "Ask Keri"
END:VEVENT
BEGIN:VEVENT
DTSTART;TZID=America/New_York:20301122T100000
DTEND;TZID=America/New_York:20301122T110000
DTSTAMP:20260425T234015
CREATED:20260309T164704Z
LAST-MODIFIED:20260309T164705Z
UID:10007718-1921572000-1921575600@www.touchpoints180.org
SUMMARY:AKA "Ask Keri Anything"
DESCRIPTION:Click here to join the workshop which will begin at 10 am:  https://us06web.zoom.us/j/87572737147?pwd=9aW54g86Wi66nL5vtLlHzA5bO3q4gD.1
URL:https://www.touchpoints180.org/event/aka-workshop-2-2/2030-11-22/
CATEGORIES:AKA "Ask Keri"
END:VEVENT
BEGIN:VEVENT
DTSTART;TZID=America/New_York:20301125T100000
DTEND;TZID=America/New_York:20301125T110000
DTSTAMP:20260425T234015
CREATED:20251123T223810Z
LAST-MODIFIED:20260313T174043Z
UID:10008028-1921831200-1921834800@www.touchpoints180.org
SUMMARY:AKA "Ask Keri Anything"
DESCRIPTION:Click here to join the workshop:  https://us06web.zoom.us/j/87572737147?pwd=9aW54g86Wi66nL5vtLlHzA5bO3q4gD.1
URL:https://www.touchpoints180.org/event/aka-workshop/2030-11-25/
CATEGORIES:AKA "Ask Keri"
END:VEVENT
BEGIN:VEVENT
DTSTART;TZID=America/New_York:20301129T100000
DTEND;TZID=America/New_York:20301129T110000
DTSTAMP:20260425T234015
CREATED:20260309T164704Z
LAST-MODIFIED:20260309T164705Z
UID:10007719-1922176800-1922180400@www.touchpoints180.org
SUMMARY:AKA "Ask Keri Anything"
DESCRIPTION:Click here to join the workshop which will begin at 10 am:  https://us06web.zoom.us/j/87572737147?pwd=9aW54g86Wi66nL5vtLlHzA5bO3q4gD.1
URL:https://www.touchpoints180.org/event/aka-workshop-2-2/2030-11-29/
CATEGORIES:AKA "Ask Keri"
END:VEVENT
END:VCALENDAR