BEGIN:VCALENDAR
VERSION:2.0
PRODID:-//Touchpoints180™ | Getting to Your Best Life - ECPv6.15.20//NONSGML v1.0//EN
CALSCALE:GREGORIAN
METHOD:PUBLISH
X-WR-CALNAME:Touchpoints180™ | Getting to Your Best Life
X-ORIGINAL-URL:https://www.touchpoints180.org
X-WR-CALDESC:Events for Touchpoints180™ | Getting to Your Best Life
REFRESH-INTERVAL;VALUE=DURATION:PT1H
X-Robots-Tag:noindex
X-PUBLISHED-TTL:PT1H
BEGIN:VTIMEZONE
TZID:America/New_York
BEGIN:DAYLIGHT
TZOFFSETFROM:-0500
TZOFFSETTO:-0400
TZNAME:EDT
DTSTART:20260308T070000
END:DAYLIGHT
BEGIN:STANDARD
TZOFFSETFROM:-0400
TZOFFSETTO:-0500
TZNAME:EST
DTSTART:20261101T060000
END:STANDARD
BEGIN:DAYLIGHT
TZOFFSETFROM:-0500
TZOFFSETTO:-0400
TZNAME:EDT
DTSTART:20270314T070000
END:DAYLIGHT
BEGIN:STANDARD
TZOFFSETFROM:-0400
TZOFFSETTO:-0500
TZNAME:EST
DTSTART:20271107T060000
END:STANDARD
BEGIN:DAYLIGHT
TZOFFSETFROM:-0500
TZOFFSETTO:-0400
TZNAME:EDT
DTSTART:20280312T070000
END:DAYLIGHT
BEGIN:STANDARD
TZOFFSETFROM:-0400
TZOFFSETTO:-0500
TZNAME:EST
DTSTART:20281105T060000
END:STANDARD
END:VTIMEZONE
BEGIN:VEVENT
DTSTART;TZID=America/New_York:20270701T120000
DTEND;TZID=America/New_York:20270701T123000
DTSTAMP:20260422T233655
CREATED:20260406T204949Z
LAST-MODIFIED:20260406T204949Z
UID:10009643-1814443200-1814445000@www.touchpoints180.org
SUMMARY:Exercise Snacks
DESCRIPTION:Kick your metabolism into gear with an exercise snack! Join Jacqui on Zoom \n\n\n\nThursday:  Meeting ID: 869 2775 0800\n\nhttps://us06web.zoom.us/j/86927750800?pwd=KyYO24HalChBSE1j8apHDo1oaacuit.1
URL:https://www.touchpoints180.org/event/exercise-snacks-4/2027-07-01/
CATEGORIES:Exercise Snacks
END:VEVENT
BEGIN:VEVENT
DTSTART;TZID=America/New_York:20270705T120000
DTEND;TZID=America/New_York:20270705T123000
DTSTAMP:20260422T233655
CREATED:20260404T153304Z
LAST-MODIFIED:20260406T204737Z
UID:10008600-1814788800-1814790600@www.touchpoints180.org
SUMMARY:Exercise Snacks
DESCRIPTION:Kick your metabolism into gear with an exercise snack! Join Jacqui on Zoom today 12-12:30 pm: https://us06web.zoom.us/j/89281574123?pwd=yWYPXbwoBnaAjjWcp4fcgpCuYaT439.1
URL:https://www.touchpoints180.org/event/exercise-snacks/2027-07-05/
CATEGORIES:Exercise Snacks
END:VEVENT
BEGIN:VEVENT
DTSTART;TZID=America/New_York:20270706T120000
DTEND;TZID=America/New_York:20270706T123000
DTSTAMP:20260422T233655
CREATED:20260406T204434Z
LAST-MODIFIED:20260406T204812Z
UID:10008340-1814875200-1814877000@www.touchpoints180.org
SUMMARY:Exercise Snacks
DESCRIPTION:Kick your metabolism into gear with an exercise snack! Join Jacqui on Zoom \nTuesday:  Meeting ID: 891 3442 6124\nhttps://us06web.zoom.us/j/89134426124?pwd=GjmQ31ogUOkEzbp1qX2as9EBfaBYuB.1
URL:https://www.touchpoints180.org/event/exercise-snacks-2/2027-07-06/
CATEGORIES:Exercise Snacks
END:VEVENT
BEGIN:VEVENT
DTSTART;TZID=America/New_York:20270707T120000
DTEND;TZID=America/New_York:20270707T123000
DTSTAMP:20260422T233655
CREATED:20260406T204846Z
LAST-MODIFIED:20260406T204846Z
UID:10009122-1814961600-1814963400@www.touchpoints180.org
SUMMARY:Exercise Snacks
DESCRIPTION:Kick your metabolism into gear with an exercise snack! Join Jacqui on Zoom \n\nWednesday:  Meeting ID: 860 0865 9079\nhttps://us06web.zoom.us/j/86008659079?pwd=BiPyWVUlrWOTXmER9BkbqdqU73coQf.1
URL:https://www.touchpoints180.org/event/exercise-snacks-3/2027-07-07/
CATEGORIES:Exercise Snacks
END:VEVENT
BEGIN:VEVENT
DTSTART;TZID=America/New_York:20270708T120000
DTEND;TZID=America/New_York:20270708T123000
DTSTAMP:20260422T233655
CREATED:20260406T204949Z
LAST-MODIFIED:20260406T204949Z
UID:10009644-1815048000-1815049800@www.touchpoints180.org
SUMMARY:Exercise Snacks
DESCRIPTION:Kick your metabolism into gear with an exercise snack! Join Jacqui on Zoom \n\n\n\nThursday:  Meeting ID: 869 2775 0800\n\nhttps://us06web.zoom.us/j/86927750800?pwd=KyYO24HalChBSE1j8apHDo1oaacuit.1
URL:https://www.touchpoints180.org/event/exercise-snacks-4/2027-07-08/
CATEGORIES:Exercise Snacks
END:VEVENT
BEGIN:VEVENT
DTSTART;TZID=America/New_York:20270712T120000
DTEND;TZID=America/New_York:20270712T123000
DTSTAMP:20260422T233655
CREATED:20260404T153304Z
LAST-MODIFIED:20260406T204737Z
UID:10008601-1815393600-1815395400@www.touchpoints180.org
SUMMARY:Exercise Snacks
DESCRIPTION:Kick your metabolism into gear with an exercise snack! Join Jacqui on Zoom today 12-12:30 pm: https://us06web.zoom.us/j/89281574123?pwd=yWYPXbwoBnaAjjWcp4fcgpCuYaT439.1
URL:https://www.touchpoints180.org/event/exercise-snacks/2027-07-12/
CATEGORIES:Exercise Snacks
END:VEVENT
BEGIN:VEVENT
DTSTART;TZID=America/New_York:20270713T120000
DTEND;TZID=America/New_York:20270713T123000
DTSTAMP:20260422T233655
CREATED:20260406T204434Z
LAST-MODIFIED:20260406T204812Z
UID:10008341-1815480000-1815481800@www.touchpoints180.org
SUMMARY:Exercise Snacks
DESCRIPTION:Kick your metabolism into gear with an exercise snack! Join Jacqui on Zoom \nTuesday:  Meeting ID: 891 3442 6124\nhttps://us06web.zoom.us/j/89134426124?pwd=GjmQ31ogUOkEzbp1qX2as9EBfaBYuB.1
URL:https://www.touchpoints180.org/event/exercise-snacks-2/2027-07-13/
CATEGORIES:Exercise Snacks
END:VEVENT
BEGIN:VEVENT
DTSTART;TZID=America/New_York:20270714T120000
DTEND;TZID=America/New_York:20270714T123000
DTSTAMP:20260422T233655
CREATED:20260406T204846Z
LAST-MODIFIED:20260406T204846Z
UID:10009123-1815566400-1815568200@www.touchpoints180.org
SUMMARY:Exercise Snacks
DESCRIPTION:Kick your metabolism into gear with an exercise snack! Join Jacqui on Zoom \n\nWednesday:  Meeting ID: 860 0865 9079\nhttps://us06web.zoom.us/j/86008659079?pwd=BiPyWVUlrWOTXmER9BkbqdqU73coQf.1
URL:https://www.touchpoints180.org/event/exercise-snacks-3/2027-07-14/
CATEGORIES:Exercise Snacks
END:VEVENT
BEGIN:VEVENT
DTSTART;TZID=America/New_York:20270715T120000
DTEND;TZID=America/New_York:20270715T123000
DTSTAMP:20260422T233655
CREATED:20260406T204949Z
LAST-MODIFIED:20260406T204949Z
UID:10009645-1815652800-1815654600@www.touchpoints180.org
SUMMARY:Exercise Snacks
DESCRIPTION:Kick your metabolism into gear with an exercise snack! Join Jacqui on Zoom \n\n\n\nThursday:  Meeting ID: 869 2775 0800\n\nhttps://us06web.zoom.us/j/86927750800?pwd=KyYO24HalChBSE1j8apHDo1oaacuit.1
URL:https://www.touchpoints180.org/event/exercise-snacks-4/2027-07-15/
CATEGORIES:Exercise Snacks
END:VEVENT
BEGIN:VEVENT
DTSTART;TZID=America/New_York:20270719T120000
DTEND;TZID=America/New_York:20270719T123000
DTSTAMP:20260422T233655
CREATED:20260404T153304Z
LAST-MODIFIED:20260406T204737Z
UID:10008602-1815998400-1816000200@www.touchpoints180.org
SUMMARY:Exercise Snacks
DESCRIPTION:Kick your metabolism into gear with an exercise snack! Join Jacqui on Zoom today 12-12:30 pm: https://us06web.zoom.us/j/89281574123?pwd=yWYPXbwoBnaAjjWcp4fcgpCuYaT439.1
URL:https://www.touchpoints180.org/event/exercise-snacks/2027-07-19/
CATEGORIES:Exercise Snacks
END:VEVENT
BEGIN:VEVENT
DTSTART;TZID=America/New_York:20270720T120000
DTEND;TZID=America/New_York:20270720T123000
DTSTAMP:20260422T233655
CREATED:20260406T204434Z
LAST-MODIFIED:20260406T204812Z
UID:10008342-1816084800-1816086600@www.touchpoints180.org
SUMMARY:Exercise Snacks
DESCRIPTION:Kick your metabolism into gear with an exercise snack! Join Jacqui on Zoom \nTuesday:  Meeting ID: 891 3442 6124\nhttps://us06web.zoom.us/j/89134426124?pwd=GjmQ31ogUOkEzbp1qX2as9EBfaBYuB.1
URL:https://www.touchpoints180.org/event/exercise-snacks-2/2027-07-20/
CATEGORIES:Exercise Snacks
END:VEVENT
BEGIN:VEVENT
DTSTART;TZID=America/New_York:20270721T120000
DTEND;TZID=America/New_York:20270721T123000
DTSTAMP:20260422T233655
CREATED:20260406T204846Z
LAST-MODIFIED:20260406T204846Z
UID:10009124-1816171200-1816173000@www.touchpoints180.org
SUMMARY:Exercise Snacks
DESCRIPTION:Kick your metabolism into gear with an exercise snack! Join Jacqui on Zoom \n\nWednesday:  Meeting ID: 860 0865 9079\nhttps://us06web.zoom.us/j/86008659079?pwd=BiPyWVUlrWOTXmER9BkbqdqU73coQf.1
URL:https://www.touchpoints180.org/event/exercise-snacks-3/2027-07-21/
CATEGORIES:Exercise Snacks
END:VEVENT
BEGIN:VEVENT
DTSTART;TZID=America/New_York:20270722T120000
DTEND;TZID=America/New_York:20270722T123000
DTSTAMP:20260422T233655
CREATED:20260406T204949Z
LAST-MODIFIED:20260406T204949Z
UID:10009646-1816257600-1816259400@www.touchpoints180.org
SUMMARY:Exercise Snacks
DESCRIPTION:Kick your metabolism into gear with an exercise snack! Join Jacqui on Zoom \n\n\n\nThursday:  Meeting ID: 869 2775 0800\n\nhttps://us06web.zoom.us/j/86927750800?pwd=KyYO24HalChBSE1j8apHDo1oaacuit.1
URL:https://www.touchpoints180.org/event/exercise-snacks-4/2027-07-22/
CATEGORIES:Exercise Snacks
END:VEVENT
BEGIN:VEVENT
DTSTART;TZID=America/New_York:20270726T120000
DTEND;TZID=America/New_York:20270726T123000
DTSTAMP:20260422T233655
CREATED:20260404T153304Z
LAST-MODIFIED:20260406T204737Z
UID:10008603-1816603200-1816605000@www.touchpoints180.org
SUMMARY:Exercise Snacks
DESCRIPTION:Kick your metabolism into gear with an exercise snack! Join Jacqui on Zoom today 12-12:30 pm: https://us06web.zoom.us/j/89281574123?pwd=yWYPXbwoBnaAjjWcp4fcgpCuYaT439.1
URL:https://www.touchpoints180.org/event/exercise-snacks/2027-07-26/
CATEGORIES:Exercise Snacks
END:VEVENT
BEGIN:VEVENT
DTSTART;TZID=America/New_York:20270727T120000
DTEND;TZID=America/New_York:20270727T123000
DTSTAMP:20260422T233655
CREATED:20260406T204434Z
LAST-MODIFIED:20260406T204812Z
UID:10008343-1816689600-1816691400@www.touchpoints180.org
SUMMARY:Exercise Snacks
DESCRIPTION:Kick your metabolism into gear with an exercise snack! Join Jacqui on Zoom \nTuesday:  Meeting ID: 891 3442 6124\nhttps://us06web.zoom.us/j/89134426124?pwd=GjmQ31ogUOkEzbp1qX2as9EBfaBYuB.1
URL:https://www.touchpoints180.org/event/exercise-snacks-2/2027-07-27/
CATEGORIES:Exercise Snacks
END:VEVENT
BEGIN:VEVENT
DTSTART;TZID=America/New_York:20270728T120000
DTEND;TZID=America/New_York:20270728T123000
DTSTAMP:20260422T233655
CREATED:20260406T204846Z
LAST-MODIFIED:20260406T204846Z
UID:10009125-1816776000-1816777800@www.touchpoints180.org
SUMMARY:Exercise Snacks
DESCRIPTION:Kick your metabolism into gear with an exercise snack! Join Jacqui on Zoom \n\nWednesday:  Meeting ID: 860 0865 9079\nhttps://us06web.zoom.us/j/86008659079?pwd=BiPyWVUlrWOTXmER9BkbqdqU73coQf.1
URL:https://www.touchpoints180.org/event/exercise-snacks-3/2027-07-28/
CATEGORIES:Exercise Snacks
END:VEVENT
BEGIN:VEVENT
DTSTART;TZID=America/New_York:20270729T120000
DTEND;TZID=America/New_York:20270729T123000
DTSTAMP:20260422T233655
CREATED:20260406T204949Z
LAST-MODIFIED:20260406T204949Z
UID:10009647-1816862400-1816864200@www.touchpoints180.org
SUMMARY:Exercise Snacks
DESCRIPTION:Kick your metabolism into gear with an exercise snack! Join Jacqui on Zoom \n\n\n\nThursday:  Meeting ID: 869 2775 0800\n\nhttps://us06web.zoom.us/j/86927750800?pwd=KyYO24HalChBSE1j8apHDo1oaacuit.1
URL:https://www.touchpoints180.org/event/exercise-snacks-4/2027-07-29/
CATEGORIES:Exercise Snacks
END:VEVENT
END:VCALENDAR