BEGIN:VCALENDAR
VERSION:2.0
PRODID:-//Touchpoints180™ | Getting to Your Best Life - ECPv6.15.20//NONSGML v1.0//EN
CALSCALE:GREGORIAN
METHOD:PUBLISH
X-WR-CALNAME:Touchpoints180™ | Getting to Your Best Life
X-ORIGINAL-URL:https://www.touchpoints180.org
X-WR-CALDESC:Events for Touchpoints180™ | Getting to Your Best Life
REFRESH-INTERVAL;VALUE=DURATION:PT1H
X-Robots-Tag:noindex
X-PUBLISHED-TTL:PT1H
BEGIN:VTIMEZONE
TZID:America/New_York
BEGIN:DAYLIGHT
TZOFFSETFROM:-0500
TZOFFSETTO:-0400
TZNAME:EDT
DTSTART:20260308T070000
END:DAYLIGHT
BEGIN:STANDARD
TZOFFSETFROM:-0400
TZOFFSETTO:-0500
TZNAME:EST
DTSTART:20261101T060000
END:STANDARD
BEGIN:DAYLIGHT
TZOFFSETFROM:-0500
TZOFFSETTO:-0400
TZNAME:EDT
DTSTART:20270314T070000
END:DAYLIGHT
BEGIN:STANDARD
TZOFFSETFROM:-0400
TZOFFSETTO:-0500
TZNAME:EST
DTSTART:20271107T060000
END:STANDARD
BEGIN:DAYLIGHT
TZOFFSETFROM:-0500
TZOFFSETTO:-0400
TZNAME:EDT
DTSTART:20280312T070000
END:DAYLIGHT
BEGIN:STANDARD
TZOFFSETFROM:-0400
TZOFFSETTO:-0500
TZNAME:EST
DTSTART:20281105T060000
END:STANDARD
END:VTIMEZONE
BEGIN:VEVENT
DTSTART;TZID=America/New_York:20270802T120000
DTEND;TZID=America/New_York:20270802T123000
DTSTAMP:20260423T024447
CREATED:20260404T153304Z
LAST-MODIFIED:20260406T204737Z
UID:10008604-1817208000-1817209800@www.touchpoints180.org
SUMMARY:Exercise Snacks
DESCRIPTION:Kick your metabolism into gear with an exercise snack! Join Jacqui on Zoom today 12-12:30 pm: https://us06web.zoom.us/j/89281574123?pwd=yWYPXbwoBnaAjjWcp4fcgpCuYaT439.1
URL:https://www.touchpoints180.org/event/exercise-snacks/2027-08-02/
CATEGORIES:Exercise Snacks
END:VEVENT
BEGIN:VEVENT
DTSTART;TZID=America/New_York:20270803T120000
DTEND;TZID=America/New_York:20270803T123000
DTSTAMP:20260423T024447
CREATED:20260406T204434Z
LAST-MODIFIED:20260406T204812Z
UID:10008344-1817294400-1817296200@www.touchpoints180.org
SUMMARY:Exercise Snacks
DESCRIPTION:Kick your metabolism into gear with an exercise snack! Join Jacqui on Zoom \nTuesday:  Meeting ID: 891 3442 6124\nhttps://us06web.zoom.us/j/89134426124?pwd=GjmQ31ogUOkEzbp1qX2as9EBfaBYuB.1
URL:https://www.touchpoints180.org/event/exercise-snacks-2/2027-08-03/
CATEGORIES:Exercise Snacks
END:VEVENT
BEGIN:VEVENT
DTSTART;TZID=America/New_York:20270804T120000
DTEND;TZID=America/New_York:20270804T123000
DTSTAMP:20260423T024447
CREATED:20260406T204846Z
LAST-MODIFIED:20260406T204846Z
UID:10009126-1817380800-1817382600@www.touchpoints180.org
SUMMARY:Exercise Snacks
DESCRIPTION:Kick your metabolism into gear with an exercise snack! Join Jacqui on Zoom \n\nWednesday:  Meeting ID: 860 0865 9079\nhttps://us06web.zoom.us/j/86008659079?pwd=BiPyWVUlrWOTXmER9BkbqdqU73coQf.1
URL:https://www.touchpoints180.org/event/exercise-snacks-3/2027-08-04/
CATEGORIES:Exercise Snacks
END:VEVENT
BEGIN:VEVENT
DTSTART;TZID=America/New_York:20270805T120000
DTEND;TZID=America/New_York:20270805T123000
DTSTAMP:20260423T024447
CREATED:20260406T204949Z
LAST-MODIFIED:20260406T204949Z
UID:10009648-1817467200-1817469000@www.touchpoints180.org
SUMMARY:Exercise Snacks
DESCRIPTION:Kick your metabolism into gear with an exercise snack! Join Jacqui on Zoom \n\n\n\nThursday:  Meeting ID: 869 2775 0800\n\nhttps://us06web.zoom.us/j/86927750800?pwd=KyYO24HalChBSE1j8apHDo1oaacuit.1
URL:https://www.touchpoints180.org/event/exercise-snacks-4/2027-08-05/
CATEGORIES:Exercise Snacks
END:VEVENT
BEGIN:VEVENT
DTSTART;TZID=America/New_York:20270809T120000
DTEND;TZID=America/New_York:20270809T123000
DTSTAMP:20260423T024447
CREATED:20260404T153304Z
LAST-MODIFIED:20260406T204737Z
UID:10008605-1817812800-1817814600@www.touchpoints180.org
SUMMARY:Exercise Snacks
DESCRIPTION:Kick your metabolism into gear with an exercise snack! Join Jacqui on Zoom today 12-12:30 pm: https://us06web.zoom.us/j/89281574123?pwd=yWYPXbwoBnaAjjWcp4fcgpCuYaT439.1
URL:https://www.touchpoints180.org/event/exercise-snacks/2027-08-09/
CATEGORIES:Exercise Snacks
END:VEVENT
BEGIN:VEVENT
DTSTART;TZID=America/New_York:20270810T120000
DTEND;TZID=America/New_York:20270810T123000
DTSTAMP:20260423T024447
CREATED:20260406T204434Z
LAST-MODIFIED:20260406T204812Z
UID:10008345-1817899200-1817901000@www.touchpoints180.org
SUMMARY:Exercise Snacks
DESCRIPTION:Kick your metabolism into gear with an exercise snack! Join Jacqui on Zoom \nTuesday:  Meeting ID: 891 3442 6124\nhttps://us06web.zoom.us/j/89134426124?pwd=GjmQ31ogUOkEzbp1qX2as9EBfaBYuB.1
URL:https://www.touchpoints180.org/event/exercise-snacks-2/2027-08-10/
CATEGORIES:Exercise Snacks
END:VEVENT
BEGIN:VEVENT
DTSTART;TZID=America/New_York:20270811T120000
DTEND;TZID=America/New_York:20270811T123000
DTSTAMP:20260423T024447
CREATED:20260406T204846Z
LAST-MODIFIED:20260406T204846Z
UID:10009127-1817985600-1817987400@www.touchpoints180.org
SUMMARY:Exercise Snacks
DESCRIPTION:Kick your metabolism into gear with an exercise snack! Join Jacqui on Zoom \n\nWednesday:  Meeting ID: 860 0865 9079\nhttps://us06web.zoom.us/j/86008659079?pwd=BiPyWVUlrWOTXmER9BkbqdqU73coQf.1
URL:https://www.touchpoints180.org/event/exercise-snacks-3/2027-08-11/
CATEGORIES:Exercise Snacks
END:VEVENT
BEGIN:VEVENT
DTSTART;TZID=America/New_York:20270812T120000
DTEND;TZID=America/New_York:20270812T123000
DTSTAMP:20260423T024447
CREATED:20260406T204949Z
LAST-MODIFIED:20260406T204949Z
UID:10009649-1818072000-1818073800@www.touchpoints180.org
SUMMARY:Exercise Snacks
DESCRIPTION:Kick your metabolism into gear with an exercise snack! Join Jacqui on Zoom \n\n\n\nThursday:  Meeting ID: 869 2775 0800\n\nhttps://us06web.zoom.us/j/86927750800?pwd=KyYO24HalChBSE1j8apHDo1oaacuit.1
URL:https://www.touchpoints180.org/event/exercise-snacks-4/2027-08-12/
CATEGORIES:Exercise Snacks
END:VEVENT
BEGIN:VEVENT
DTSTART;TZID=America/New_York:20270816T120000
DTEND;TZID=America/New_York:20270816T123000
DTSTAMP:20260423T024447
CREATED:20260404T153304Z
LAST-MODIFIED:20260406T204737Z
UID:10008606-1818417600-1818419400@www.touchpoints180.org
SUMMARY:Exercise Snacks
DESCRIPTION:Kick your metabolism into gear with an exercise snack! Join Jacqui on Zoom today 12-12:30 pm: https://us06web.zoom.us/j/89281574123?pwd=yWYPXbwoBnaAjjWcp4fcgpCuYaT439.1
URL:https://www.touchpoints180.org/event/exercise-snacks/2027-08-16/
CATEGORIES:Exercise Snacks
END:VEVENT
BEGIN:VEVENT
DTSTART;TZID=America/New_York:20270817T120000
DTEND;TZID=America/New_York:20270817T123000
DTSTAMP:20260423T024447
CREATED:20260406T204434Z
LAST-MODIFIED:20260406T204812Z
UID:10008346-1818504000-1818505800@www.touchpoints180.org
SUMMARY:Exercise Snacks
DESCRIPTION:Kick your metabolism into gear with an exercise snack! Join Jacqui on Zoom \nTuesday:  Meeting ID: 891 3442 6124\nhttps://us06web.zoom.us/j/89134426124?pwd=GjmQ31ogUOkEzbp1qX2as9EBfaBYuB.1
URL:https://www.touchpoints180.org/event/exercise-snacks-2/2027-08-17/
CATEGORIES:Exercise Snacks
END:VEVENT
BEGIN:VEVENT
DTSTART;TZID=America/New_York:20270818T120000
DTEND;TZID=America/New_York:20270818T123000
DTSTAMP:20260423T024447
CREATED:20260406T204846Z
LAST-MODIFIED:20260406T204846Z
UID:10009128-1818590400-1818592200@www.touchpoints180.org
SUMMARY:Exercise Snacks
DESCRIPTION:Kick your metabolism into gear with an exercise snack! Join Jacqui on Zoom \n\nWednesday:  Meeting ID: 860 0865 9079\nhttps://us06web.zoom.us/j/86008659079?pwd=BiPyWVUlrWOTXmER9BkbqdqU73coQf.1
URL:https://www.touchpoints180.org/event/exercise-snacks-3/2027-08-18/
CATEGORIES:Exercise Snacks
END:VEVENT
BEGIN:VEVENT
DTSTART;TZID=America/New_York:20270819T120000
DTEND;TZID=America/New_York:20270819T123000
DTSTAMP:20260423T024447
CREATED:20260406T204949Z
LAST-MODIFIED:20260406T204949Z
UID:10009650-1818676800-1818678600@www.touchpoints180.org
SUMMARY:Exercise Snacks
DESCRIPTION:Kick your metabolism into gear with an exercise snack! Join Jacqui on Zoom \n\n\n\nThursday:  Meeting ID: 869 2775 0800\n\nhttps://us06web.zoom.us/j/86927750800?pwd=KyYO24HalChBSE1j8apHDo1oaacuit.1
URL:https://www.touchpoints180.org/event/exercise-snacks-4/2027-08-19/
CATEGORIES:Exercise Snacks
END:VEVENT
BEGIN:VEVENT
DTSTART;TZID=America/New_York:20270823T120000
DTEND;TZID=America/New_York:20270823T123000
DTSTAMP:20260423T024447
CREATED:20260404T153304Z
LAST-MODIFIED:20260406T204737Z
UID:10008607-1819022400-1819024200@www.touchpoints180.org
SUMMARY:Exercise Snacks
DESCRIPTION:Kick your metabolism into gear with an exercise snack! Join Jacqui on Zoom today 12-12:30 pm: https://us06web.zoom.us/j/89281574123?pwd=yWYPXbwoBnaAjjWcp4fcgpCuYaT439.1
URL:https://www.touchpoints180.org/event/exercise-snacks/2027-08-23/
CATEGORIES:Exercise Snacks
END:VEVENT
BEGIN:VEVENT
DTSTART;TZID=America/New_York:20270824T120000
DTEND;TZID=America/New_York:20270824T123000
DTSTAMP:20260423T024447
CREATED:20260406T204434Z
LAST-MODIFIED:20260406T204812Z
UID:10008347-1819108800-1819110600@www.touchpoints180.org
SUMMARY:Exercise Snacks
DESCRIPTION:Kick your metabolism into gear with an exercise snack! Join Jacqui on Zoom \nTuesday:  Meeting ID: 891 3442 6124\nhttps://us06web.zoom.us/j/89134426124?pwd=GjmQ31ogUOkEzbp1qX2as9EBfaBYuB.1
URL:https://www.touchpoints180.org/event/exercise-snacks-2/2027-08-24/
CATEGORIES:Exercise Snacks
END:VEVENT
BEGIN:VEVENT
DTSTART;TZID=America/New_York:20270825T120000
DTEND;TZID=America/New_York:20270825T123000
DTSTAMP:20260423T024447
CREATED:20260406T204846Z
LAST-MODIFIED:20260406T204846Z
UID:10009129-1819195200-1819197000@www.touchpoints180.org
SUMMARY:Exercise Snacks
DESCRIPTION:Kick your metabolism into gear with an exercise snack! Join Jacqui on Zoom \n\nWednesday:  Meeting ID: 860 0865 9079\nhttps://us06web.zoom.us/j/86008659079?pwd=BiPyWVUlrWOTXmER9BkbqdqU73coQf.1
URL:https://www.touchpoints180.org/event/exercise-snacks-3/2027-08-25/
CATEGORIES:Exercise Snacks
END:VEVENT
BEGIN:VEVENT
DTSTART;TZID=America/New_York:20270826T120000
DTEND;TZID=America/New_York:20270826T123000
DTSTAMP:20260423T024447
CREATED:20260406T204949Z
LAST-MODIFIED:20260406T204949Z
UID:10009651-1819281600-1819283400@www.touchpoints180.org
SUMMARY:Exercise Snacks
DESCRIPTION:Kick your metabolism into gear with an exercise snack! Join Jacqui on Zoom \n\n\n\nThursday:  Meeting ID: 869 2775 0800\n\nhttps://us06web.zoom.us/j/86927750800?pwd=KyYO24HalChBSE1j8apHDo1oaacuit.1
URL:https://www.touchpoints180.org/event/exercise-snacks-4/2027-08-26/
CATEGORIES:Exercise Snacks
END:VEVENT
BEGIN:VEVENT
DTSTART;TZID=America/New_York:20270830T120000
DTEND;TZID=America/New_York:20270830T123000
DTSTAMP:20260423T024447
CREATED:20260404T153304Z
LAST-MODIFIED:20260406T204737Z
UID:10008608-1819627200-1819629000@www.touchpoints180.org
SUMMARY:Exercise Snacks
DESCRIPTION:Kick your metabolism into gear with an exercise snack! Join Jacqui on Zoom today 12-12:30 pm: https://us06web.zoom.us/j/89281574123?pwd=yWYPXbwoBnaAjjWcp4fcgpCuYaT439.1
URL:https://www.touchpoints180.org/event/exercise-snacks/2027-08-30/
CATEGORIES:Exercise Snacks
END:VEVENT
BEGIN:VEVENT
DTSTART;TZID=America/New_York:20270831T120000
DTEND;TZID=America/New_York:20270831T123000
DTSTAMP:20260423T024447
CREATED:20260406T204434Z
LAST-MODIFIED:20260406T204812Z
UID:10008348-1819713600-1819715400@www.touchpoints180.org
SUMMARY:Exercise Snacks
DESCRIPTION:Kick your metabolism into gear with an exercise snack! Join Jacqui on Zoom \nTuesday:  Meeting ID: 891 3442 6124\nhttps://us06web.zoom.us/j/89134426124?pwd=GjmQ31ogUOkEzbp1qX2as9EBfaBYuB.1
URL:https://www.touchpoints180.org/event/exercise-snacks-2/2027-08-31/
CATEGORIES:Exercise Snacks
END:VEVENT
END:VCALENDAR