BEGIN:VCALENDAR
VERSION:2.0
PRODID:-//Touchpoints180™ | Getting to Your Best Life - ECPv6.15.20//NONSGML v1.0//EN
CALSCALE:GREGORIAN
METHOD:PUBLISH
X-WR-CALNAME:Touchpoints180™ | Getting to Your Best Life
X-ORIGINAL-URL:https://www.touchpoints180.org
X-WR-CALDESC:Events for Touchpoints180™ | Getting to Your Best Life
REFRESH-INTERVAL;VALUE=DURATION:PT1H
X-Robots-Tag:noindex
X-PUBLISHED-TTL:PT1H
BEGIN:VTIMEZONE
TZID:America/New_York
BEGIN:DAYLIGHT
TZOFFSETFROM:-0500
TZOFFSETTO:-0400
TZNAME:EDT
DTSTART:20270314T070000
END:DAYLIGHT
BEGIN:STANDARD
TZOFFSETFROM:-0400
TZOFFSETTO:-0500
TZNAME:EST
DTSTART:20271107T060000
END:STANDARD
BEGIN:DAYLIGHT
TZOFFSETFROM:-0500
TZOFFSETTO:-0400
TZNAME:EDT
DTSTART:20280312T070000
END:DAYLIGHT
BEGIN:STANDARD
TZOFFSETFROM:-0400
TZOFFSETTO:-0500
TZNAME:EST
DTSTART:20281105T060000
END:STANDARD
BEGIN:DAYLIGHT
TZOFFSETFROM:-0500
TZOFFSETTO:-0400
TZNAME:EDT
DTSTART:20290311T070000
END:DAYLIGHT
BEGIN:STANDARD
TZOFFSETFROM:-0400
TZOFFSETTO:-0500
TZNAME:EST
DTSTART:20291104T060000
END:STANDARD
END:VTIMEZONE
BEGIN:VEVENT
DTSTART;TZID=America/New_York:20280103T120000
DTEND;TZID=America/New_York:20280103T123000
DTSTAMP:20260423T122238
CREATED:20260404T153304Z
LAST-MODIFIED:20260406T204737Z
UID:10008626-1830513600-1830515400@www.touchpoints180.org
SUMMARY:Exercise Snacks
DESCRIPTION:Kick your metabolism into gear with an exercise snack! Join Jacqui on Zoom today 12-12:30 pm: https://us06web.zoom.us/j/89281574123?pwd=yWYPXbwoBnaAjjWcp4fcgpCuYaT439.1
URL:https://www.touchpoints180.org/event/exercise-snacks/2028-01-03/
CATEGORIES:Exercise Snacks
END:VEVENT
BEGIN:VEVENT
DTSTART;TZID=America/New_York:20280104T120000
DTEND;TZID=America/New_York:20280104T123000
DTSTAMP:20260423T122238
CREATED:20260406T204434Z
LAST-MODIFIED:20260406T204812Z
UID:10008366-1830600000-1830601800@www.touchpoints180.org
SUMMARY:Exercise Snacks
DESCRIPTION:Kick your metabolism into gear with an exercise snack! Join Jacqui on Zoom \nTuesday:  Meeting ID: 891 3442 6124\nhttps://us06web.zoom.us/j/89134426124?pwd=GjmQ31ogUOkEzbp1qX2as9EBfaBYuB.1
URL:https://www.touchpoints180.org/event/exercise-snacks-2/2028-01-04/
CATEGORIES:Exercise Snacks
END:VEVENT
BEGIN:VEVENT
DTSTART;TZID=America/New_York:20280105T120000
DTEND;TZID=America/New_York:20280105T123000
DTSTAMP:20260423T122238
CREATED:20260406T204846Z
LAST-MODIFIED:20260406T204846Z
UID:10009148-1830686400-1830688200@www.touchpoints180.org
SUMMARY:Exercise Snacks
DESCRIPTION:Kick your metabolism into gear with an exercise snack! Join Jacqui on Zoom \n\nWednesday:  Meeting ID: 860 0865 9079\nhttps://us06web.zoom.us/j/86008659079?pwd=BiPyWVUlrWOTXmER9BkbqdqU73coQf.1
URL:https://www.touchpoints180.org/event/exercise-snacks-3/2028-01-05/
CATEGORIES:Exercise Snacks
END:VEVENT
BEGIN:VEVENT
DTSTART;TZID=America/New_York:20280106T120000
DTEND;TZID=America/New_York:20280106T123000
DTSTAMP:20260423T122238
CREATED:20260406T204949Z
LAST-MODIFIED:20260406T204949Z
UID:10009670-1830772800-1830774600@www.touchpoints180.org
SUMMARY:Exercise Snacks
DESCRIPTION:Kick your metabolism into gear with an exercise snack! Join Jacqui on Zoom \n\n\n\nThursday:  Meeting ID: 869 2775 0800\n\nhttps://us06web.zoom.us/j/86927750800?pwd=KyYO24HalChBSE1j8apHDo1oaacuit.1
URL:https://www.touchpoints180.org/event/exercise-snacks-4/2028-01-06/
CATEGORIES:Exercise Snacks
END:VEVENT
BEGIN:VEVENT
DTSTART;TZID=America/New_York:20280110T120000
DTEND;TZID=America/New_York:20280110T123000
DTSTAMP:20260423T122238
CREATED:20260404T153304Z
LAST-MODIFIED:20260406T204737Z
UID:10008627-1831118400-1831120200@www.touchpoints180.org
SUMMARY:Exercise Snacks
DESCRIPTION:Kick your metabolism into gear with an exercise snack! Join Jacqui on Zoom today 12-12:30 pm: https://us06web.zoom.us/j/89281574123?pwd=yWYPXbwoBnaAjjWcp4fcgpCuYaT439.1
URL:https://www.touchpoints180.org/event/exercise-snacks/2028-01-10/
CATEGORIES:Exercise Snacks
END:VEVENT
BEGIN:VEVENT
DTSTART;TZID=America/New_York:20280111T120000
DTEND;TZID=America/New_York:20280111T123000
DTSTAMP:20260423T122238
CREATED:20260406T204434Z
LAST-MODIFIED:20260406T204812Z
UID:10008367-1831204800-1831206600@www.touchpoints180.org
SUMMARY:Exercise Snacks
DESCRIPTION:Kick your metabolism into gear with an exercise snack! Join Jacqui on Zoom \nTuesday:  Meeting ID: 891 3442 6124\nhttps://us06web.zoom.us/j/89134426124?pwd=GjmQ31ogUOkEzbp1qX2as9EBfaBYuB.1
URL:https://www.touchpoints180.org/event/exercise-snacks-2/2028-01-11/
CATEGORIES:Exercise Snacks
END:VEVENT
BEGIN:VEVENT
DTSTART;TZID=America/New_York:20280112T120000
DTEND;TZID=America/New_York:20280112T123000
DTSTAMP:20260423T122238
CREATED:20260406T204846Z
LAST-MODIFIED:20260406T204846Z
UID:10009149-1831291200-1831293000@www.touchpoints180.org
SUMMARY:Exercise Snacks
DESCRIPTION:Kick your metabolism into gear with an exercise snack! Join Jacqui on Zoom \n\nWednesday:  Meeting ID: 860 0865 9079\nhttps://us06web.zoom.us/j/86008659079?pwd=BiPyWVUlrWOTXmER9BkbqdqU73coQf.1
URL:https://www.touchpoints180.org/event/exercise-snacks-3/2028-01-12/
CATEGORIES:Exercise Snacks
END:VEVENT
BEGIN:VEVENT
DTSTART;TZID=America/New_York:20280113T120000
DTEND;TZID=America/New_York:20280113T123000
DTSTAMP:20260423T122238
CREATED:20260406T204949Z
LAST-MODIFIED:20260406T204949Z
UID:10009671-1831377600-1831379400@www.touchpoints180.org
SUMMARY:Exercise Snacks
DESCRIPTION:Kick your metabolism into gear with an exercise snack! Join Jacqui on Zoom \n\n\n\nThursday:  Meeting ID: 869 2775 0800\n\nhttps://us06web.zoom.us/j/86927750800?pwd=KyYO24HalChBSE1j8apHDo1oaacuit.1
URL:https://www.touchpoints180.org/event/exercise-snacks-4/2028-01-13/
CATEGORIES:Exercise Snacks
END:VEVENT
BEGIN:VEVENT
DTSTART;TZID=America/New_York:20280117T120000
DTEND;TZID=America/New_York:20280117T123000
DTSTAMP:20260423T122238
CREATED:20260404T153304Z
LAST-MODIFIED:20260406T204737Z
UID:10008628-1831723200-1831725000@www.touchpoints180.org
SUMMARY:Exercise Snacks
DESCRIPTION:Kick your metabolism into gear with an exercise snack! Join Jacqui on Zoom today 12-12:30 pm: https://us06web.zoom.us/j/89281574123?pwd=yWYPXbwoBnaAjjWcp4fcgpCuYaT439.1
URL:https://www.touchpoints180.org/event/exercise-snacks/2028-01-17/
CATEGORIES:Exercise Snacks
END:VEVENT
BEGIN:VEVENT
DTSTART;TZID=America/New_York:20280118T120000
DTEND;TZID=America/New_York:20280118T123000
DTSTAMP:20260423T122238
CREATED:20260406T204434Z
LAST-MODIFIED:20260406T204812Z
UID:10008368-1831809600-1831811400@www.touchpoints180.org
SUMMARY:Exercise Snacks
DESCRIPTION:Kick your metabolism into gear with an exercise snack! Join Jacqui on Zoom \nTuesday:  Meeting ID: 891 3442 6124\nhttps://us06web.zoom.us/j/89134426124?pwd=GjmQ31ogUOkEzbp1qX2as9EBfaBYuB.1
URL:https://www.touchpoints180.org/event/exercise-snacks-2/2028-01-18/
CATEGORIES:Exercise Snacks
END:VEVENT
BEGIN:VEVENT
DTSTART;TZID=America/New_York:20280119T120000
DTEND;TZID=America/New_York:20280119T123000
DTSTAMP:20260423T122238
CREATED:20260406T204846Z
LAST-MODIFIED:20260406T204846Z
UID:10009150-1831896000-1831897800@www.touchpoints180.org
SUMMARY:Exercise Snacks
DESCRIPTION:Kick your metabolism into gear with an exercise snack! Join Jacqui on Zoom \n\nWednesday:  Meeting ID: 860 0865 9079\nhttps://us06web.zoom.us/j/86008659079?pwd=BiPyWVUlrWOTXmER9BkbqdqU73coQf.1
URL:https://www.touchpoints180.org/event/exercise-snacks-3/2028-01-19/
CATEGORIES:Exercise Snacks
END:VEVENT
BEGIN:VEVENT
DTSTART;TZID=America/New_York:20280120T120000
DTEND;TZID=America/New_York:20280120T123000
DTSTAMP:20260423T122238
CREATED:20260406T204949Z
LAST-MODIFIED:20260406T204949Z
UID:10009672-1831982400-1831984200@www.touchpoints180.org
SUMMARY:Exercise Snacks
DESCRIPTION:Kick your metabolism into gear with an exercise snack! Join Jacqui on Zoom \n\n\n\nThursday:  Meeting ID: 869 2775 0800\n\nhttps://us06web.zoom.us/j/86927750800?pwd=KyYO24HalChBSE1j8apHDo1oaacuit.1
URL:https://www.touchpoints180.org/event/exercise-snacks-4/2028-01-20/
CATEGORIES:Exercise Snacks
END:VEVENT
BEGIN:VEVENT
DTSTART;TZID=America/New_York:20280124T120000
DTEND;TZID=America/New_York:20280124T123000
DTSTAMP:20260423T122238
CREATED:20260404T153304Z
LAST-MODIFIED:20260406T204737Z
UID:10008629-1832328000-1832329800@www.touchpoints180.org
SUMMARY:Exercise Snacks
DESCRIPTION:Kick your metabolism into gear with an exercise snack! Join Jacqui on Zoom today 12-12:30 pm: https://us06web.zoom.us/j/89281574123?pwd=yWYPXbwoBnaAjjWcp4fcgpCuYaT439.1
URL:https://www.touchpoints180.org/event/exercise-snacks/2028-01-24/
CATEGORIES:Exercise Snacks
END:VEVENT
BEGIN:VEVENT
DTSTART;TZID=America/New_York:20280125T120000
DTEND;TZID=America/New_York:20280125T123000
DTSTAMP:20260423T122238
CREATED:20260406T204434Z
LAST-MODIFIED:20260406T204812Z
UID:10008369-1832414400-1832416200@www.touchpoints180.org
SUMMARY:Exercise Snacks
DESCRIPTION:Kick your metabolism into gear with an exercise snack! Join Jacqui on Zoom \nTuesday:  Meeting ID: 891 3442 6124\nhttps://us06web.zoom.us/j/89134426124?pwd=GjmQ31ogUOkEzbp1qX2as9EBfaBYuB.1
URL:https://www.touchpoints180.org/event/exercise-snacks-2/2028-01-25/
CATEGORIES:Exercise Snacks
END:VEVENT
BEGIN:VEVENT
DTSTART;TZID=America/New_York:20280126T120000
DTEND;TZID=America/New_York:20280126T123000
DTSTAMP:20260423T122238
CREATED:20260406T204846Z
LAST-MODIFIED:20260406T204846Z
UID:10009151-1832500800-1832502600@www.touchpoints180.org
SUMMARY:Exercise Snacks
DESCRIPTION:Kick your metabolism into gear with an exercise snack! Join Jacqui on Zoom \n\nWednesday:  Meeting ID: 860 0865 9079\nhttps://us06web.zoom.us/j/86008659079?pwd=BiPyWVUlrWOTXmER9BkbqdqU73coQf.1
URL:https://www.touchpoints180.org/event/exercise-snacks-3/2028-01-26/
CATEGORIES:Exercise Snacks
END:VEVENT
BEGIN:VEVENT
DTSTART;TZID=America/New_York:20280127T120000
DTEND;TZID=America/New_York:20280127T123000
DTSTAMP:20260423T122238
CREATED:20260406T204949Z
LAST-MODIFIED:20260406T204949Z
UID:10009673-1832587200-1832589000@www.touchpoints180.org
SUMMARY:Exercise Snacks
DESCRIPTION:Kick your metabolism into gear with an exercise snack! Join Jacqui on Zoom \n\n\n\nThursday:  Meeting ID: 869 2775 0800\n\nhttps://us06web.zoom.us/j/86927750800?pwd=KyYO24HalChBSE1j8apHDo1oaacuit.1
URL:https://www.touchpoints180.org/event/exercise-snacks-4/2028-01-27/
CATEGORIES:Exercise Snacks
END:VEVENT
BEGIN:VEVENT
DTSTART;TZID=America/New_York:20280131T120000
DTEND;TZID=America/New_York:20280131T123000
DTSTAMP:20260423T122238
CREATED:20260404T153304Z
LAST-MODIFIED:20260406T204737Z
UID:10008630-1832932800-1832934600@www.touchpoints180.org
SUMMARY:Exercise Snacks
DESCRIPTION:Kick your metabolism into gear with an exercise snack! Join Jacqui on Zoom today 12-12:30 pm: https://us06web.zoom.us/j/89281574123?pwd=yWYPXbwoBnaAjjWcp4fcgpCuYaT439.1
URL:https://www.touchpoints180.org/event/exercise-snacks/2028-01-31/
CATEGORIES:Exercise Snacks
END:VEVENT
END:VCALENDAR