BEGIN:VCALENDAR
VERSION:2.0
PRODID:-//Touchpoints180™ | Getting to Your Best Life - ECPv6.15.20//NONSGML v1.0//EN
CALSCALE:GREGORIAN
METHOD:PUBLISH
X-WR-CALNAME:Touchpoints180™ | Getting to Your Best Life
X-ORIGINAL-URL:https://www.touchpoints180.org
X-WR-CALDESC:Events for Touchpoints180™ | Getting to Your Best Life
REFRESH-INTERVAL;VALUE=DURATION:PT1H
X-Robots-Tag:noindex
X-PUBLISHED-TTL:PT1H
BEGIN:VTIMEZONE
TZID:America/New_York
BEGIN:DAYLIGHT
TZOFFSETFROM:-0500
TZOFFSETTO:-0400
TZNAME:EDT
DTSTART:20270314T070000
END:DAYLIGHT
BEGIN:STANDARD
TZOFFSETFROM:-0400
TZOFFSETTO:-0500
TZNAME:EST
DTSTART:20271107T060000
END:STANDARD
BEGIN:DAYLIGHT
TZOFFSETFROM:-0500
TZOFFSETTO:-0400
TZNAME:EDT
DTSTART:20280312T070000
END:DAYLIGHT
BEGIN:STANDARD
TZOFFSETFROM:-0400
TZOFFSETTO:-0500
TZNAME:EST
DTSTART:20281105T060000
END:STANDARD
BEGIN:DAYLIGHT
TZOFFSETFROM:-0500
TZOFFSETTO:-0400
TZNAME:EDT
DTSTART:20290311T070000
END:DAYLIGHT
BEGIN:STANDARD
TZOFFSETFROM:-0400
TZOFFSETTO:-0500
TZNAME:EST
DTSTART:20291104T060000
END:STANDARD
END:VTIMEZONE
BEGIN:VEVENT
DTSTART;TZID=America/New_York:20280703T120000
DTEND;TZID=America/New_York:20280703T123000
DTSTAMP:20260423T224422
CREATED:20260404T153304Z
LAST-MODIFIED:20260406T204737Z
UID:10008652-1846238400-1846240200@www.touchpoints180.org
SUMMARY:Exercise Snacks
DESCRIPTION:Kick your metabolism into gear with an exercise snack! Join Jacqui on Zoom today 12-12:30 pm: https://us06web.zoom.us/j/89281574123?pwd=yWYPXbwoBnaAjjWcp4fcgpCuYaT439.1
URL:https://www.touchpoints180.org/event/exercise-snacks/2028-07-03/
CATEGORIES:Exercise Snacks
END:VEVENT
BEGIN:VEVENT
DTSTART;TZID=America/New_York:20280704T120000
DTEND;TZID=America/New_York:20280704T123000
DTSTAMP:20260423T224422
CREATED:20260406T204434Z
LAST-MODIFIED:20260406T204812Z
UID:10008392-1846324800-1846326600@www.touchpoints180.org
SUMMARY:Exercise Snacks
DESCRIPTION:Kick your metabolism into gear with an exercise snack! Join Jacqui on Zoom \nTuesday:  Meeting ID: 891 3442 6124\nhttps://us06web.zoom.us/j/89134426124?pwd=GjmQ31ogUOkEzbp1qX2as9EBfaBYuB.1
URL:https://www.touchpoints180.org/event/exercise-snacks-2/2028-07-04/
CATEGORIES:Exercise Snacks
END:VEVENT
BEGIN:VEVENT
DTSTART;TZID=America/New_York:20280705T120000
DTEND;TZID=America/New_York:20280705T123000
DTSTAMP:20260423T224422
CREATED:20260406T204846Z
LAST-MODIFIED:20260406T204846Z
UID:10009174-1846411200-1846413000@www.touchpoints180.org
SUMMARY:Exercise Snacks
DESCRIPTION:Kick your metabolism into gear with an exercise snack! Join Jacqui on Zoom \n\nWednesday:  Meeting ID: 860 0865 9079\nhttps://us06web.zoom.us/j/86008659079?pwd=BiPyWVUlrWOTXmER9BkbqdqU73coQf.1
URL:https://www.touchpoints180.org/event/exercise-snacks-3/2028-07-05/
CATEGORIES:Exercise Snacks
END:VEVENT
BEGIN:VEVENT
DTSTART;TZID=America/New_York:20280706T120000
DTEND;TZID=America/New_York:20280706T123000
DTSTAMP:20260423T224422
CREATED:20260406T204949Z
LAST-MODIFIED:20260406T204949Z
UID:10009696-1846497600-1846499400@www.touchpoints180.org
SUMMARY:Exercise Snacks
DESCRIPTION:Kick your metabolism into gear with an exercise snack! Join Jacqui on Zoom \n\n\n\nThursday:  Meeting ID: 869 2775 0800\n\nhttps://us06web.zoom.us/j/86927750800?pwd=KyYO24HalChBSE1j8apHDo1oaacuit.1
URL:https://www.touchpoints180.org/event/exercise-snacks-4/2028-07-06/
CATEGORIES:Exercise Snacks
END:VEVENT
BEGIN:VEVENT
DTSTART;TZID=America/New_York:20280710T120000
DTEND;TZID=America/New_York:20280710T123000
DTSTAMP:20260423T224422
CREATED:20260404T153304Z
LAST-MODIFIED:20260406T204737Z
UID:10008653-1846843200-1846845000@www.touchpoints180.org
SUMMARY:Exercise Snacks
DESCRIPTION:Kick your metabolism into gear with an exercise snack! Join Jacqui on Zoom today 12-12:30 pm: https://us06web.zoom.us/j/89281574123?pwd=yWYPXbwoBnaAjjWcp4fcgpCuYaT439.1
URL:https://www.touchpoints180.org/event/exercise-snacks/2028-07-10/
CATEGORIES:Exercise Snacks
END:VEVENT
BEGIN:VEVENT
DTSTART;TZID=America/New_York:20280711T120000
DTEND;TZID=America/New_York:20280711T123000
DTSTAMP:20260423T224422
CREATED:20260406T204434Z
LAST-MODIFIED:20260406T204812Z
UID:10008393-1846929600-1846931400@www.touchpoints180.org
SUMMARY:Exercise Snacks
DESCRIPTION:Kick your metabolism into gear with an exercise snack! Join Jacqui on Zoom \nTuesday:  Meeting ID: 891 3442 6124\nhttps://us06web.zoom.us/j/89134426124?pwd=GjmQ31ogUOkEzbp1qX2as9EBfaBYuB.1
URL:https://www.touchpoints180.org/event/exercise-snacks-2/2028-07-11/
CATEGORIES:Exercise Snacks
END:VEVENT
BEGIN:VEVENT
DTSTART;TZID=America/New_York:20280712T120000
DTEND;TZID=America/New_York:20280712T123000
DTSTAMP:20260423T224422
CREATED:20260406T204846Z
LAST-MODIFIED:20260406T204846Z
UID:10009175-1847016000-1847017800@www.touchpoints180.org
SUMMARY:Exercise Snacks
DESCRIPTION:Kick your metabolism into gear with an exercise snack! Join Jacqui on Zoom \n\nWednesday:  Meeting ID: 860 0865 9079\nhttps://us06web.zoom.us/j/86008659079?pwd=BiPyWVUlrWOTXmER9BkbqdqU73coQf.1
URL:https://www.touchpoints180.org/event/exercise-snacks-3/2028-07-12/
CATEGORIES:Exercise Snacks
END:VEVENT
BEGIN:VEVENT
DTSTART;TZID=America/New_York:20280713T120000
DTEND;TZID=America/New_York:20280713T123000
DTSTAMP:20260423T224422
CREATED:20260406T204949Z
LAST-MODIFIED:20260406T204949Z
UID:10009697-1847102400-1847104200@www.touchpoints180.org
SUMMARY:Exercise Snacks
DESCRIPTION:Kick your metabolism into gear with an exercise snack! Join Jacqui on Zoom \n\n\n\nThursday:  Meeting ID: 869 2775 0800\n\nhttps://us06web.zoom.us/j/86927750800?pwd=KyYO24HalChBSE1j8apHDo1oaacuit.1
URL:https://www.touchpoints180.org/event/exercise-snacks-4/2028-07-13/
CATEGORIES:Exercise Snacks
END:VEVENT
BEGIN:VEVENT
DTSTART;TZID=America/New_York:20280717T120000
DTEND;TZID=America/New_York:20280717T123000
DTSTAMP:20260423T224422
CREATED:20260404T153304Z
LAST-MODIFIED:20260406T204737Z
UID:10008654-1847448000-1847449800@www.touchpoints180.org
SUMMARY:Exercise Snacks
DESCRIPTION:Kick your metabolism into gear with an exercise snack! Join Jacqui on Zoom today 12-12:30 pm: https://us06web.zoom.us/j/89281574123?pwd=yWYPXbwoBnaAjjWcp4fcgpCuYaT439.1
URL:https://www.touchpoints180.org/event/exercise-snacks/2028-07-17/
CATEGORIES:Exercise Snacks
END:VEVENT
BEGIN:VEVENT
DTSTART;TZID=America/New_York:20280718T120000
DTEND;TZID=America/New_York:20280718T123000
DTSTAMP:20260423T224422
CREATED:20260406T204434Z
LAST-MODIFIED:20260406T204812Z
UID:10008394-1847534400-1847536200@www.touchpoints180.org
SUMMARY:Exercise Snacks
DESCRIPTION:Kick your metabolism into gear with an exercise snack! Join Jacqui on Zoom \nTuesday:  Meeting ID: 891 3442 6124\nhttps://us06web.zoom.us/j/89134426124?pwd=GjmQ31ogUOkEzbp1qX2as9EBfaBYuB.1
URL:https://www.touchpoints180.org/event/exercise-snacks-2/2028-07-18/
CATEGORIES:Exercise Snacks
END:VEVENT
BEGIN:VEVENT
DTSTART;TZID=America/New_York:20280719T120000
DTEND;TZID=America/New_York:20280719T123000
DTSTAMP:20260423T224422
CREATED:20260406T204846Z
LAST-MODIFIED:20260406T204846Z
UID:10009176-1847620800-1847622600@www.touchpoints180.org
SUMMARY:Exercise Snacks
DESCRIPTION:Kick your metabolism into gear with an exercise snack! Join Jacqui on Zoom \n\nWednesday:  Meeting ID: 860 0865 9079\nhttps://us06web.zoom.us/j/86008659079?pwd=BiPyWVUlrWOTXmER9BkbqdqU73coQf.1
URL:https://www.touchpoints180.org/event/exercise-snacks-3/2028-07-19/
CATEGORIES:Exercise Snacks
END:VEVENT
BEGIN:VEVENT
DTSTART;TZID=America/New_York:20280720T120000
DTEND;TZID=America/New_York:20280720T123000
DTSTAMP:20260423T224422
CREATED:20260406T204949Z
LAST-MODIFIED:20260406T204949Z
UID:10009698-1847707200-1847709000@www.touchpoints180.org
SUMMARY:Exercise Snacks
DESCRIPTION:Kick your metabolism into gear with an exercise snack! Join Jacqui on Zoom \n\n\n\nThursday:  Meeting ID: 869 2775 0800\n\nhttps://us06web.zoom.us/j/86927750800?pwd=KyYO24HalChBSE1j8apHDo1oaacuit.1
URL:https://www.touchpoints180.org/event/exercise-snacks-4/2028-07-20/
CATEGORIES:Exercise Snacks
END:VEVENT
BEGIN:VEVENT
DTSTART;TZID=America/New_York:20280724T120000
DTEND;TZID=America/New_York:20280724T123000
DTSTAMP:20260423T224422
CREATED:20260404T153304Z
LAST-MODIFIED:20260406T204737Z
UID:10008655-1848052800-1848054600@www.touchpoints180.org
SUMMARY:Exercise Snacks
DESCRIPTION:Kick your metabolism into gear with an exercise snack! Join Jacqui on Zoom today 12-12:30 pm: https://us06web.zoom.us/j/89281574123?pwd=yWYPXbwoBnaAjjWcp4fcgpCuYaT439.1
URL:https://www.touchpoints180.org/event/exercise-snacks/2028-07-24/
CATEGORIES:Exercise Snacks
END:VEVENT
BEGIN:VEVENT
DTSTART;TZID=America/New_York:20280725T120000
DTEND;TZID=America/New_York:20280725T123000
DTSTAMP:20260423T224422
CREATED:20260406T204434Z
LAST-MODIFIED:20260406T204812Z
UID:10008395-1848139200-1848141000@www.touchpoints180.org
SUMMARY:Exercise Snacks
DESCRIPTION:Kick your metabolism into gear with an exercise snack! Join Jacqui on Zoom \nTuesday:  Meeting ID: 891 3442 6124\nhttps://us06web.zoom.us/j/89134426124?pwd=GjmQ31ogUOkEzbp1qX2as9EBfaBYuB.1
URL:https://www.touchpoints180.org/event/exercise-snacks-2/2028-07-25/
CATEGORIES:Exercise Snacks
END:VEVENT
BEGIN:VEVENT
DTSTART;TZID=America/New_York:20280726T120000
DTEND;TZID=America/New_York:20280726T123000
DTSTAMP:20260423T224422
CREATED:20260406T204846Z
LAST-MODIFIED:20260406T204846Z
UID:10009177-1848225600-1848227400@www.touchpoints180.org
SUMMARY:Exercise Snacks
DESCRIPTION:Kick your metabolism into gear with an exercise snack! Join Jacqui on Zoom \n\nWednesday:  Meeting ID: 860 0865 9079\nhttps://us06web.zoom.us/j/86008659079?pwd=BiPyWVUlrWOTXmER9BkbqdqU73coQf.1
URL:https://www.touchpoints180.org/event/exercise-snacks-3/2028-07-26/
CATEGORIES:Exercise Snacks
END:VEVENT
BEGIN:VEVENT
DTSTART;TZID=America/New_York:20280727T120000
DTEND;TZID=America/New_York:20280727T123000
DTSTAMP:20260423T224422
CREATED:20260406T204949Z
LAST-MODIFIED:20260406T204949Z
UID:10009699-1848312000-1848313800@www.touchpoints180.org
SUMMARY:Exercise Snacks
DESCRIPTION:Kick your metabolism into gear with an exercise snack! Join Jacqui on Zoom \n\n\n\nThursday:  Meeting ID: 869 2775 0800\n\nhttps://us06web.zoom.us/j/86927750800?pwd=KyYO24HalChBSE1j8apHDo1oaacuit.1
URL:https://www.touchpoints180.org/event/exercise-snacks-4/2028-07-27/
CATEGORIES:Exercise Snacks
END:VEVENT
BEGIN:VEVENT
DTSTART;TZID=America/New_York:20280731T120000
DTEND;TZID=America/New_York:20280731T123000
DTSTAMP:20260423T224422
CREATED:20260404T153304Z
LAST-MODIFIED:20260406T204737Z
UID:10008656-1848657600-1848659400@www.touchpoints180.org
SUMMARY:Exercise Snacks
DESCRIPTION:Kick your metabolism into gear with an exercise snack! Join Jacqui on Zoom today 12-12:30 pm: https://us06web.zoom.us/j/89281574123?pwd=yWYPXbwoBnaAjjWcp4fcgpCuYaT439.1
URL:https://www.touchpoints180.org/event/exercise-snacks/2028-07-31/
CATEGORIES:Exercise Snacks
END:VEVENT
END:VCALENDAR