BEGIN:VCALENDAR
VERSION:2.0
PRODID:-//Touchpoints180™ | Getting to Your Best Life - ECPv6.15.20//NONSGML v1.0//EN
CALSCALE:GREGORIAN
METHOD:PUBLISH
X-WR-CALNAME:Touchpoints180™ | Getting to Your Best Life
X-ORIGINAL-URL:https://www.touchpoints180.org
X-WR-CALDESC:Events for Touchpoints180™ | Getting to Your Best Life
REFRESH-INTERVAL;VALUE=DURATION:PT1H
X-Robots-Tag:noindex
X-PUBLISHED-TTL:PT1H
BEGIN:VTIMEZONE
TZID:America/New_York
BEGIN:DAYLIGHT
TZOFFSETFROM:-0500
TZOFFSETTO:-0400
TZNAME:EDT
DTSTART:20280312T070000
END:DAYLIGHT
BEGIN:STANDARD
TZOFFSETFROM:-0400
TZOFFSETTO:-0500
TZNAME:EST
DTSTART:20281105T060000
END:STANDARD
BEGIN:DAYLIGHT
TZOFFSETFROM:-0500
TZOFFSETTO:-0400
TZNAME:EDT
DTSTART:20290311T070000
END:DAYLIGHT
BEGIN:STANDARD
TZOFFSETFROM:-0400
TZOFFSETTO:-0500
TZNAME:EST
DTSTART:20291104T060000
END:STANDARD
BEGIN:DAYLIGHT
TZOFFSETFROM:-0500
TZOFFSETTO:-0400
TZNAME:EDT
DTSTART:20300310T070000
END:DAYLIGHT
BEGIN:STANDARD
TZOFFSETFROM:-0400
TZOFFSETTO:-0500
TZNAME:EST
DTSTART:20301103T060000
END:STANDARD
END:VTIMEZONE
BEGIN:VEVENT
DTSTART;TZID=America/New_York:20290702T120000
DTEND;TZID=America/New_York:20290702T123000
DTSTAMP:20260425T215543
CREATED:20260404T153304Z
LAST-MODIFIED:20260406T204737Z
UID:10008704-1877688000-1877689800@www.touchpoints180.org
SUMMARY:Exercise Snacks
DESCRIPTION:Kick your metabolism into gear with an exercise snack! Join Jacqui on Zoom today 12-12:30 pm: https://us06web.zoom.us/j/89281574123?pwd=yWYPXbwoBnaAjjWcp4fcgpCuYaT439.1
URL:https://www.touchpoints180.org/event/exercise-snacks/2029-07-02/
CATEGORIES:Exercise Snacks
END:VEVENT
BEGIN:VEVENT
DTSTART;TZID=America/New_York:20290703T120000
DTEND;TZID=America/New_York:20290703T123000
DTSTAMP:20260425T215543
CREATED:20260406T204434Z
LAST-MODIFIED:20260406T204812Z
UID:10008444-1877774400-1877776200@www.touchpoints180.org
SUMMARY:Exercise Snacks
DESCRIPTION:Kick your metabolism into gear with an exercise snack! Join Jacqui on Zoom \nTuesday:  Meeting ID: 891 3442 6124\nhttps://us06web.zoom.us/j/89134426124?pwd=GjmQ31ogUOkEzbp1qX2as9EBfaBYuB.1
URL:https://www.touchpoints180.org/event/exercise-snacks-2/2029-07-03/
CATEGORIES:Exercise Snacks
END:VEVENT
BEGIN:VEVENT
DTSTART;TZID=America/New_York:20290704T120000
DTEND;TZID=America/New_York:20290704T123000
DTSTAMP:20260425T215543
CREATED:20260406T204846Z
LAST-MODIFIED:20260406T204846Z
UID:10009226-1877860800-1877862600@www.touchpoints180.org
SUMMARY:Exercise Snacks
DESCRIPTION:Kick your metabolism into gear with an exercise snack! Join Jacqui on Zoom \n\nWednesday:  Meeting ID: 860 0865 9079\nhttps://us06web.zoom.us/j/86008659079?pwd=BiPyWVUlrWOTXmER9BkbqdqU73coQf.1
URL:https://www.touchpoints180.org/event/exercise-snacks-3/2029-07-04/
CATEGORIES:Exercise Snacks
END:VEVENT
BEGIN:VEVENT
DTSTART;TZID=America/New_York:20290705T120000
DTEND;TZID=America/New_York:20290705T123000
DTSTAMP:20260425T215543
CREATED:20260406T204949Z
LAST-MODIFIED:20260406T204949Z
UID:10009748-1877947200-1877949000@www.touchpoints180.org
SUMMARY:Exercise Snacks
DESCRIPTION:Kick your metabolism into gear with an exercise snack! Join Jacqui on Zoom \n\n\n\nThursday:  Meeting ID: 869 2775 0800\n\nhttps://us06web.zoom.us/j/86927750800?pwd=KyYO24HalChBSE1j8apHDo1oaacuit.1
URL:https://www.touchpoints180.org/event/exercise-snacks-4/2029-07-05/
CATEGORIES:Exercise Snacks
END:VEVENT
BEGIN:VEVENT
DTSTART;TZID=America/New_York:20290709T120000
DTEND;TZID=America/New_York:20290709T123000
DTSTAMP:20260425T215543
CREATED:20260404T153304Z
LAST-MODIFIED:20260406T204737Z
UID:10008705-1878292800-1878294600@www.touchpoints180.org
SUMMARY:Exercise Snacks
DESCRIPTION:Kick your metabolism into gear with an exercise snack! Join Jacqui on Zoom today 12-12:30 pm: https://us06web.zoom.us/j/89281574123?pwd=yWYPXbwoBnaAjjWcp4fcgpCuYaT439.1
URL:https://www.touchpoints180.org/event/exercise-snacks/2029-07-09/
CATEGORIES:Exercise Snacks
END:VEVENT
BEGIN:VEVENT
DTSTART;TZID=America/New_York:20290710T120000
DTEND;TZID=America/New_York:20290710T123000
DTSTAMP:20260425T215543
CREATED:20260406T204434Z
LAST-MODIFIED:20260406T204812Z
UID:10008445-1878379200-1878381000@www.touchpoints180.org
SUMMARY:Exercise Snacks
DESCRIPTION:Kick your metabolism into gear with an exercise snack! Join Jacqui on Zoom \nTuesday:  Meeting ID: 891 3442 6124\nhttps://us06web.zoom.us/j/89134426124?pwd=GjmQ31ogUOkEzbp1qX2as9EBfaBYuB.1
URL:https://www.touchpoints180.org/event/exercise-snacks-2/2029-07-10/
CATEGORIES:Exercise Snacks
END:VEVENT
BEGIN:VEVENT
DTSTART;TZID=America/New_York:20290711T120000
DTEND;TZID=America/New_York:20290711T123000
DTSTAMP:20260425T215543
CREATED:20260406T204846Z
LAST-MODIFIED:20260406T204846Z
UID:10009227-1878465600-1878467400@www.touchpoints180.org
SUMMARY:Exercise Snacks
DESCRIPTION:Kick your metabolism into gear with an exercise snack! Join Jacqui on Zoom \n\nWednesday:  Meeting ID: 860 0865 9079\nhttps://us06web.zoom.us/j/86008659079?pwd=BiPyWVUlrWOTXmER9BkbqdqU73coQf.1
URL:https://www.touchpoints180.org/event/exercise-snacks-3/2029-07-11/
CATEGORIES:Exercise Snacks
END:VEVENT
BEGIN:VEVENT
DTSTART;TZID=America/New_York:20290712T120000
DTEND;TZID=America/New_York:20290712T123000
DTSTAMP:20260425T215543
CREATED:20260406T204949Z
LAST-MODIFIED:20260406T204949Z
UID:10009749-1878552000-1878553800@www.touchpoints180.org
SUMMARY:Exercise Snacks
DESCRIPTION:Kick your metabolism into gear with an exercise snack! Join Jacqui on Zoom \n\n\n\nThursday:  Meeting ID: 869 2775 0800\n\nhttps://us06web.zoom.us/j/86927750800?pwd=KyYO24HalChBSE1j8apHDo1oaacuit.1
URL:https://www.touchpoints180.org/event/exercise-snacks-4/2029-07-12/
CATEGORIES:Exercise Snacks
END:VEVENT
BEGIN:VEVENT
DTSTART;TZID=America/New_York:20290716T120000
DTEND;TZID=America/New_York:20290716T123000
DTSTAMP:20260425T215543
CREATED:20260404T153304Z
LAST-MODIFIED:20260406T204737Z
UID:10008706-1878897600-1878899400@www.touchpoints180.org
SUMMARY:Exercise Snacks
DESCRIPTION:Kick your metabolism into gear with an exercise snack! Join Jacqui on Zoom today 12-12:30 pm: https://us06web.zoom.us/j/89281574123?pwd=yWYPXbwoBnaAjjWcp4fcgpCuYaT439.1
URL:https://www.touchpoints180.org/event/exercise-snacks/2029-07-16/
CATEGORIES:Exercise Snacks
END:VEVENT
BEGIN:VEVENT
DTSTART;TZID=America/New_York:20290717T120000
DTEND;TZID=America/New_York:20290717T123000
DTSTAMP:20260425T215543
CREATED:20260406T204434Z
LAST-MODIFIED:20260406T204812Z
UID:10008446-1878984000-1878985800@www.touchpoints180.org
SUMMARY:Exercise Snacks
DESCRIPTION:Kick your metabolism into gear with an exercise snack! Join Jacqui on Zoom \nTuesday:  Meeting ID: 891 3442 6124\nhttps://us06web.zoom.us/j/89134426124?pwd=GjmQ31ogUOkEzbp1qX2as9EBfaBYuB.1
URL:https://www.touchpoints180.org/event/exercise-snacks-2/2029-07-17/
CATEGORIES:Exercise Snacks
END:VEVENT
BEGIN:VEVENT
DTSTART;TZID=America/New_York:20290718T120000
DTEND;TZID=America/New_York:20290718T123000
DTSTAMP:20260425T215543
CREATED:20260406T204846Z
LAST-MODIFIED:20260406T204846Z
UID:10009228-1879070400-1879072200@www.touchpoints180.org
SUMMARY:Exercise Snacks
DESCRIPTION:Kick your metabolism into gear with an exercise snack! Join Jacqui on Zoom \n\nWednesday:  Meeting ID: 860 0865 9079\nhttps://us06web.zoom.us/j/86008659079?pwd=BiPyWVUlrWOTXmER9BkbqdqU73coQf.1
URL:https://www.touchpoints180.org/event/exercise-snacks-3/2029-07-18/
CATEGORIES:Exercise Snacks
END:VEVENT
BEGIN:VEVENT
DTSTART;TZID=America/New_York:20290719T120000
DTEND;TZID=America/New_York:20290719T123000
DTSTAMP:20260425T215543
CREATED:20260406T204949Z
LAST-MODIFIED:20260406T204949Z
UID:10009750-1879156800-1879158600@www.touchpoints180.org
SUMMARY:Exercise Snacks
DESCRIPTION:Kick your metabolism into gear with an exercise snack! Join Jacqui on Zoom \n\n\n\nThursday:  Meeting ID: 869 2775 0800\n\nhttps://us06web.zoom.us/j/86927750800?pwd=KyYO24HalChBSE1j8apHDo1oaacuit.1
URL:https://www.touchpoints180.org/event/exercise-snacks-4/2029-07-19/
CATEGORIES:Exercise Snacks
END:VEVENT
BEGIN:VEVENT
DTSTART;TZID=America/New_York:20290723T120000
DTEND;TZID=America/New_York:20290723T123000
DTSTAMP:20260425T215543
CREATED:20260404T153304Z
LAST-MODIFIED:20260406T204737Z
UID:10008707-1879502400-1879504200@www.touchpoints180.org
SUMMARY:Exercise Snacks
DESCRIPTION:Kick your metabolism into gear with an exercise snack! Join Jacqui on Zoom today 12-12:30 pm: https://us06web.zoom.us/j/89281574123?pwd=yWYPXbwoBnaAjjWcp4fcgpCuYaT439.1
URL:https://www.touchpoints180.org/event/exercise-snacks/2029-07-23/
CATEGORIES:Exercise Snacks
END:VEVENT
BEGIN:VEVENT
DTSTART;TZID=America/New_York:20290724T120000
DTEND;TZID=America/New_York:20290724T123000
DTSTAMP:20260425T215543
CREATED:20260406T204434Z
LAST-MODIFIED:20260406T204812Z
UID:10008447-1879588800-1879590600@www.touchpoints180.org
SUMMARY:Exercise Snacks
DESCRIPTION:Kick your metabolism into gear with an exercise snack! Join Jacqui on Zoom \nTuesday:  Meeting ID: 891 3442 6124\nhttps://us06web.zoom.us/j/89134426124?pwd=GjmQ31ogUOkEzbp1qX2as9EBfaBYuB.1
URL:https://www.touchpoints180.org/event/exercise-snacks-2/2029-07-24/
CATEGORIES:Exercise Snacks
END:VEVENT
BEGIN:VEVENT
DTSTART;TZID=America/New_York:20290725T120000
DTEND;TZID=America/New_York:20290725T123000
DTSTAMP:20260425T215543
CREATED:20260406T204846Z
LAST-MODIFIED:20260406T204846Z
UID:10009229-1879675200-1879677000@www.touchpoints180.org
SUMMARY:Exercise Snacks
DESCRIPTION:Kick your metabolism into gear with an exercise snack! Join Jacqui on Zoom \n\nWednesday:  Meeting ID: 860 0865 9079\nhttps://us06web.zoom.us/j/86008659079?pwd=BiPyWVUlrWOTXmER9BkbqdqU73coQf.1
URL:https://www.touchpoints180.org/event/exercise-snacks-3/2029-07-25/
CATEGORIES:Exercise Snacks
END:VEVENT
BEGIN:VEVENT
DTSTART;TZID=America/New_York:20290726T120000
DTEND;TZID=America/New_York:20290726T123000
DTSTAMP:20260425T215543
CREATED:20260406T204949Z
LAST-MODIFIED:20260406T204949Z
UID:10009751-1879761600-1879763400@www.touchpoints180.org
SUMMARY:Exercise Snacks
DESCRIPTION:Kick your metabolism into gear with an exercise snack! Join Jacqui on Zoom \n\n\n\nThursday:  Meeting ID: 869 2775 0800\n\nhttps://us06web.zoom.us/j/86927750800?pwd=KyYO24HalChBSE1j8apHDo1oaacuit.1
URL:https://www.touchpoints180.org/event/exercise-snacks-4/2029-07-26/
CATEGORIES:Exercise Snacks
END:VEVENT
BEGIN:VEVENT
DTSTART;TZID=America/New_York:20290730T120000
DTEND;TZID=America/New_York:20290730T123000
DTSTAMP:20260425T215543
CREATED:20260404T153304Z
LAST-MODIFIED:20260406T204737Z
UID:10008708-1880107200-1880109000@www.touchpoints180.org
SUMMARY:Exercise Snacks
DESCRIPTION:Kick your metabolism into gear with an exercise snack! Join Jacqui on Zoom today 12-12:30 pm: https://us06web.zoom.us/j/89281574123?pwd=yWYPXbwoBnaAjjWcp4fcgpCuYaT439.1
URL:https://www.touchpoints180.org/event/exercise-snacks/2029-07-30/
CATEGORIES:Exercise Snacks
END:VEVENT
BEGIN:VEVENT
DTSTART;TZID=America/New_York:20290731T120000
DTEND;TZID=America/New_York:20290731T123000
DTSTAMP:20260425T215543
CREATED:20260406T204434Z
LAST-MODIFIED:20260406T204812Z
UID:10008448-1880193600-1880195400@www.touchpoints180.org
SUMMARY:Exercise Snacks
DESCRIPTION:Kick your metabolism into gear with an exercise snack! Join Jacqui on Zoom \nTuesday:  Meeting ID: 891 3442 6124\nhttps://us06web.zoom.us/j/89134426124?pwd=GjmQ31ogUOkEzbp1qX2as9EBfaBYuB.1
URL:https://www.touchpoints180.org/event/exercise-snacks-2/2029-07-31/
CATEGORIES:Exercise Snacks
END:VEVENT
END:VCALENDAR