BEGIN:VCALENDAR
VERSION:2.0
PRODID:-//Touchpoints180™ | Getting to Your Best Life - ECPv6.15.20//NONSGML v1.0//EN
CALSCALE:GREGORIAN
METHOD:PUBLISH
X-ORIGINAL-URL:https://www.touchpoints180.org
X-WR-CALDESC:Events for Touchpoints180™ | Getting to Your Best Life
REFRESH-INTERVAL;VALUE=DURATION:PT1H
X-Robots-Tag:noindex
X-PUBLISHED-TTL:PT1H
BEGIN:VTIMEZONE
TZID:America/New_York
BEGIN:DAYLIGHT
TZOFFSETFROM:-0500
TZOFFSETTO:-0400
TZNAME:EDT
DTSTART:20260308T070000
END:DAYLIGHT
BEGIN:STANDARD
TZOFFSETFROM:-0400
TZOFFSETTO:-0500
TZNAME:EST
DTSTART:20261101T060000
END:STANDARD
BEGIN:DAYLIGHT
TZOFFSETFROM:-0500
TZOFFSETTO:-0400
TZNAME:EDT
DTSTART:20270314T070000
END:DAYLIGHT
BEGIN:STANDARD
TZOFFSETFROM:-0400
TZOFFSETTO:-0500
TZNAME:EST
DTSTART:20271107T060000
END:STANDARD
BEGIN:DAYLIGHT
TZOFFSETFROM:-0500
TZOFFSETTO:-0400
TZNAME:EDT
DTSTART:20280312T070000
END:DAYLIGHT
BEGIN:STANDARD
TZOFFSETFROM:-0400
TZOFFSETTO:-0500
TZNAME:EST
DTSTART:20281105T060000
END:STANDARD
END:VTIMEZONE
BEGIN:VEVENT
DTSTART;TZID=America/New_York:20270804T163000
DTEND;TZID=America/New_York:20270804T173000
DTSTAMP:20260421T224600
CREATED:20260105T181950Z
LAST-MODIFIED:20260105T181951Z
UID:10006112-1817397000-1817400600@www.touchpoints180.org
SUMMARY:Kindness Method
DESCRIPTION:Please register here to attend this workshop: https://us06web.zoom.us/j/81591410364?pwd=uFGKJBOXkMRl81LLJf5X4zE2TmodBr.1
URL:https://www.touchpoints180.org/event/kindness-method-2-2/2027-08-04/
CATEGORIES:Kindness Method
END:VEVENT
BEGIN:VEVENT
DTSTART;TZID=America/New_York:20270811T163000
DTEND;TZID=America/New_York:20270811T173000
DTSTAMP:20260421T224600
CREATED:20260105T181950Z
LAST-MODIFIED:20260105T181951Z
UID:10006113-1818001800-1818005400@www.touchpoints180.org
SUMMARY:Kindness Method
DESCRIPTION:Please register here to attend this workshop: https://us06web.zoom.us/j/81591410364?pwd=uFGKJBOXkMRl81LLJf5X4zE2TmodBr.1
URL:https://www.touchpoints180.org/event/kindness-method-2-2/2027-08-11/
CATEGORIES:Kindness Method
END:VEVENT
BEGIN:VEVENT
DTSTART;TZID=America/New_York:20270818T163000
DTEND;TZID=America/New_York:20270818T173000
DTSTAMP:20260421T224600
CREATED:20260105T181950Z
LAST-MODIFIED:20260105T181951Z
UID:10006114-1818606600-1818610200@www.touchpoints180.org
SUMMARY:Kindness Method
DESCRIPTION:Please register here to attend this workshop: https://us06web.zoom.us/j/81591410364?pwd=uFGKJBOXkMRl81LLJf5X4zE2TmodBr.1
URL:https://www.touchpoints180.org/event/kindness-method-2-2/2027-08-18/
CATEGORIES:Kindness Method
END:VEVENT
BEGIN:VEVENT
DTSTART;TZID=America/New_York:20270825T163000
DTEND;TZID=America/New_York:20270825T173000
DTSTAMP:20260421T224600
CREATED:20260105T181950Z
LAST-MODIFIED:20260105T181951Z
UID:10006115-1819211400-1819215000@www.touchpoints180.org
SUMMARY:Kindness Method
DESCRIPTION:Please register here to attend this workshop: https://us06web.zoom.us/j/81591410364?pwd=uFGKJBOXkMRl81LLJf5X4zE2TmodBr.1
URL:https://www.touchpoints180.org/event/kindness-method-2-2/2027-08-25/
CATEGORIES:Kindness Method
END:VEVENT
END:VCALENDAR