BEGIN:VCALENDAR
VERSION:2.0
PRODID:-//Touchpoints180™ | Getting to Your Best Life - ECPv6.15.20//NONSGML v1.0//EN
CALSCALE:GREGORIAN
METHOD:PUBLISH
X-WR-CALNAME:Touchpoints180™ | Getting to Your Best Life
X-ORIGINAL-URL:https://www.touchpoints180.org
X-WR-CALDESC:Events for Touchpoints180™ | Getting to Your Best Life
REFRESH-INTERVAL;VALUE=DURATION:PT1H
X-Robots-Tag:noindex
X-PUBLISHED-TTL:PT1H
BEGIN:VTIMEZONE
TZID:America/New_York
BEGIN:DAYLIGHT
TZOFFSETFROM:-0500
TZOFFSETTO:-0400
TZNAME:EDT
DTSTART:20270314T070000
END:DAYLIGHT
BEGIN:STANDARD
TZOFFSETFROM:-0400
TZOFFSETTO:-0500
TZNAME:EST
DTSTART:20271107T060000
END:STANDARD
BEGIN:DAYLIGHT
TZOFFSETFROM:-0500
TZOFFSETTO:-0400
TZNAME:EDT
DTSTART:20280312T070000
END:DAYLIGHT
BEGIN:STANDARD
TZOFFSETFROM:-0400
TZOFFSETTO:-0500
TZNAME:EST
DTSTART:20281105T060000
END:STANDARD
BEGIN:DAYLIGHT
TZOFFSETFROM:-0500
TZOFFSETTO:-0400
TZNAME:EDT
DTSTART:20290311T070000
END:DAYLIGHT
BEGIN:STANDARD
TZOFFSETFROM:-0400
TZOFFSETTO:-0500
TZNAME:EST
DTSTART:20291104T060000
END:STANDARD
END:VTIMEZONE
BEGIN:VEVENT
DTSTART;TZID=America/New_York:20280503T163000
DTEND;TZID=America/New_York:20280503T173000
DTSTAMP:20260421T014422
CREATED:20260105T181950Z
LAST-MODIFIED:20260105T181951Z
UID:10006151-1840984200-1840987800@www.touchpoints180.org
SUMMARY:Kindness Method
DESCRIPTION:Please register here to attend this workshop: https://us06web.zoom.us/j/81591410364?pwd=uFGKJBOXkMRl81LLJf5X4zE2TmodBr.1
URL:https://www.touchpoints180.org/event/kindness-method-2-2/2028-05-03/
CATEGORIES:Kindness Method
END:VEVENT
BEGIN:VEVENT
DTSTART;TZID=America/New_York:20280510T163000
DTEND;TZID=America/New_York:20280510T173000
DTSTAMP:20260421T014422
CREATED:20260105T181950Z
LAST-MODIFIED:20260105T181951Z
UID:10006152-1841589000-1841592600@www.touchpoints180.org
SUMMARY:Kindness Method
DESCRIPTION:Please register here to attend this workshop: https://us06web.zoom.us/j/81591410364?pwd=uFGKJBOXkMRl81LLJf5X4zE2TmodBr.1
URL:https://www.touchpoints180.org/event/kindness-method-2-2/2028-05-10/
CATEGORIES:Kindness Method
END:VEVENT
BEGIN:VEVENT
DTSTART;TZID=America/New_York:20280517T163000
DTEND;TZID=America/New_York:20280517T173000
DTSTAMP:20260421T014422
CREATED:20260105T181950Z
LAST-MODIFIED:20260105T181951Z
UID:10006153-1842193800-1842197400@www.touchpoints180.org
SUMMARY:Kindness Method
DESCRIPTION:Please register here to attend this workshop: https://us06web.zoom.us/j/81591410364?pwd=uFGKJBOXkMRl81LLJf5X4zE2TmodBr.1
URL:https://www.touchpoints180.org/event/kindness-method-2-2/2028-05-17/
CATEGORIES:Kindness Method
END:VEVENT
BEGIN:VEVENT
DTSTART;TZID=America/New_York:20280524T163000
DTEND;TZID=America/New_York:20280524T173000
DTSTAMP:20260421T014422
CREATED:20260105T181950Z
LAST-MODIFIED:20260105T181951Z
UID:10006154-1842798600-1842802200@www.touchpoints180.org
SUMMARY:Kindness Method
DESCRIPTION:Please register here to attend this workshop: https://us06web.zoom.us/j/81591410364?pwd=uFGKJBOXkMRl81LLJf5X4zE2TmodBr.1
URL:https://www.touchpoints180.org/event/kindness-method-2-2/2028-05-24/
CATEGORIES:Kindness Method
END:VEVENT
BEGIN:VEVENT
DTSTART;TZID=America/New_York:20280531T163000
DTEND;TZID=America/New_York:20280531T173000
DTSTAMP:20260421T014422
CREATED:20260105T181950Z
LAST-MODIFIED:20260105T181951Z
UID:10006155-1843403400-1843407000@www.touchpoints180.org
SUMMARY:Kindness Method
DESCRIPTION:Please register here to attend this workshop: https://us06web.zoom.us/j/81591410364?pwd=uFGKJBOXkMRl81LLJf5X4zE2TmodBr.1
URL:https://www.touchpoints180.org/event/kindness-method-2-2/2028-05-31/
CATEGORIES:Kindness Method
END:VEVENT
END:VCALENDAR