BEGIN:VCALENDAR
VERSION:2.0
PRODID:-//Touchpoints180™ | Getting to Your Best Life - ECPv6.15.20//NONSGML v1.0//EN
CALSCALE:GREGORIAN
METHOD:PUBLISH
X-ORIGINAL-URL:https://www.touchpoints180.org
X-WR-CALDESC:Events for Touchpoints180™ | Getting to Your Best Life
REFRESH-INTERVAL;VALUE=DURATION:PT1H
X-Robots-Tag:noindex
X-PUBLISHED-TTL:PT1H
BEGIN:VTIMEZONE
TZID:America/New_York
BEGIN:DAYLIGHT
TZOFFSETFROM:-0500
TZOFFSETTO:-0400
TZNAME:EDT
DTSTART:20270314T070000
END:DAYLIGHT
BEGIN:STANDARD
TZOFFSETFROM:-0400
TZOFFSETTO:-0500
TZNAME:EST
DTSTART:20271107T060000
END:STANDARD
BEGIN:DAYLIGHT
TZOFFSETFROM:-0500
TZOFFSETTO:-0400
TZNAME:EDT
DTSTART:20280312T070000
END:DAYLIGHT
BEGIN:STANDARD
TZOFFSETFROM:-0400
TZOFFSETTO:-0500
TZNAME:EST
DTSTART:20281105T060000
END:STANDARD
BEGIN:DAYLIGHT
TZOFFSETFROM:-0500
TZOFFSETTO:-0400
TZNAME:EDT
DTSTART:20290311T070000
END:DAYLIGHT
BEGIN:STANDARD
TZOFFSETFROM:-0400
TZOFFSETTO:-0500
TZNAME:EST
DTSTART:20291104T060000
END:STANDARD
END:VTIMEZONE
BEGIN:VEVENT
DTSTART;TZID=America/New_York:20280901T120000
DTEND;TZID=America/New_York:20280901T123000
DTSTAMP:20260421T113630
CREATED:20260105T185917Z
LAST-MODIFIED:20260109T155538Z
UID:10007024-1851422400-1851424200@www.touchpoints180.org
SUMMARY:Meditation
DESCRIPTION:The Touchpoints180 Team is inviting you to Meditation. Click to join this workshop:\nhttps://us06web.zoom.us/j/82998165556?pwd=XafuJcHMvn26EPbOVqBd4aoH65HqIk.1
URL:https://www.touchpoints180.org/event/meditation/2028-09-01/
CATEGORIES:Meditation
END:VEVENT
BEGIN:VEVENT
DTSTART;TZID=America/New_York:20280908T120000
DTEND;TZID=America/New_York:20280908T123000
DTSTAMP:20260421T113630
CREATED:20260105T185917Z
LAST-MODIFIED:20260109T155538Z
UID:10007025-1852027200-1852029000@www.touchpoints180.org
SUMMARY:Meditation
DESCRIPTION:The Touchpoints180 Team is inviting you to Meditation. Click to join this workshop:\nhttps://us06web.zoom.us/j/82998165556?pwd=XafuJcHMvn26EPbOVqBd4aoH65HqIk.1
URL:https://www.touchpoints180.org/event/meditation/2028-09-08/
CATEGORIES:Meditation
END:VEVENT
BEGIN:VEVENT
DTSTART;TZID=America/New_York:20280915T120000
DTEND;TZID=America/New_York:20280915T123000
DTSTAMP:20260421T113630
CREATED:20260105T185917Z
LAST-MODIFIED:20260109T155538Z
UID:10007026-1852632000-1852633800@www.touchpoints180.org
SUMMARY:Meditation
DESCRIPTION:The Touchpoints180 Team is inviting you to Meditation. Click to join this workshop:\nhttps://us06web.zoom.us/j/82998165556?pwd=XafuJcHMvn26EPbOVqBd4aoH65HqIk.1
URL:https://www.touchpoints180.org/event/meditation/2028-09-15/
CATEGORIES:Meditation
END:VEVENT
BEGIN:VEVENT
DTSTART;TZID=America/New_York:20280922T120000
DTEND;TZID=America/New_York:20280922T123000
DTSTAMP:20260421T113630
CREATED:20260105T185917Z
LAST-MODIFIED:20260109T155538Z
UID:10007027-1853236800-1853238600@www.touchpoints180.org
SUMMARY:Meditation
DESCRIPTION:The Touchpoints180 Team is inviting you to Meditation. Click to join this workshop:\nhttps://us06web.zoom.us/j/82998165556?pwd=XafuJcHMvn26EPbOVqBd4aoH65HqIk.1
URL:https://www.touchpoints180.org/event/meditation/2028-09-22/
CATEGORIES:Meditation
END:VEVENT
BEGIN:VEVENT
DTSTART;TZID=America/New_York:20280929T120000
DTEND;TZID=America/New_York:20280929T123000
DTSTAMP:20260421T113630
CREATED:20260105T185917Z
LAST-MODIFIED:20260109T155538Z
UID:10007028-1853841600-1853843400@www.touchpoints180.org
SUMMARY:Meditation
DESCRIPTION:The Touchpoints180 Team is inviting you to Meditation. Click to join this workshop:\nhttps://us06web.zoom.us/j/82998165556?pwd=XafuJcHMvn26EPbOVqBd4aoH65HqIk.1
URL:https://www.touchpoints180.org/event/meditation/2028-09-29/
CATEGORIES:Meditation
END:VEVENT
END:VCALENDAR