BEGIN:VCALENDAR
VERSION:2.0
PRODID:-//Touchpoints180™ | Getting to Your Best Life - ECPv6.15.20//NONSGML v1.0//EN
CALSCALE:GREGORIAN
METHOD:PUBLISH
X-ORIGINAL-URL:https://www.touchpoints180.org
X-WR-CALDESC:Events for Touchpoints180™ | Getting to Your Best Life
REFRESH-INTERVAL;VALUE=DURATION:PT1H
X-Robots-Tag:noindex
X-PUBLISHED-TTL:PT1H
BEGIN:VTIMEZONE
TZID:America/New_York
BEGIN:DAYLIGHT
TZOFFSETFROM:-0500
TZOFFSETTO:-0400
TZNAME:EDT
DTSTART:20260308T070000
END:DAYLIGHT
BEGIN:STANDARD
TZOFFSETFROM:-0400
TZOFFSETTO:-0500
TZNAME:EST
DTSTART:20261101T060000
END:STANDARD
BEGIN:DAYLIGHT
TZOFFSETFROM:-0500
TZOFFSETTO:-0400
TZNAME:EDT
DTSTART:20270314T070000
END:DAYLIGHT
BEGIN:STANDARD
TZOFFSETFROM:-0400
TZOFFSETTO:-0500
TZNAME:EST
DTSTART:20271107T060000
END:STANDARD
BEGIN:DAYLIGHT
TZOFFSETFROM:-0500
TZOFFSETTO:-0400
TZNAME:EDT
DTSTART:20280312T070000
END:DAYLIGHT
BEGIN:STANDARD
TZOFFSETFROM:-0400
TZOFFSETTO:-0500
TZNAME:EST
DTSTART:20281105T060000
END:STANDARD
END:VTIMEZONE
BEGIN:VEVENT
DTSTART;TZID=America/New_York:20270601T140000
DTEND;TZID=America/New_York:20270601T150000
DTSTAMP:20260419T235307
CREATED:20250321T000649Z
LAST-MODIFIED:20250321T110615Z
UID:10000377-1811858400-1811862000@www.touchpoints180.org
SUMMARY:New Beginnings
DESCRIPTION:Click to join the workshop: https://us06web.zoom.us/j/86564583544?pwd=LgMe7NGQRe0NRsT9jibL6FPkJ9YQt3.1
URL:https://www.touchpoints180.org/event/new-beginnings-2/2027-06-01/
CATEGORIES:New Beginnings
END:VEVENT
BEGIN:VEVENT
DTSTART;TZID=America/New_York:20270603T173000
DTEND;TZID=America/New_York:20270603T183000
DTSTAMP:20260419T235307
CREATED:20251211T192912Z
LAST-MODIFIED:20260106T182122Z
UID:10000640-1812043800-1812047400@www.touchpoints180.org
SUMMARY:New Beginnings
DESCRIPTION:Click here to join the workshop:  https://us06web.zoom.us/j/86881060395?pwd=yOg5uSTh0PVIt7uv2wL3pozu3b3Ufm.1
URL:https://www.touchpoints180.org/event/new-beginnings-3-2/2027-06-03/
CATEGORIES:New Beginnings
END:VEVENT
BEGIN:VEVENT
DTSTART;TZID=America/New_York:20270607T183000
DTEND;TZID=America/New_York:20270607T193000
DTSTAMP:20260419T235307
CREATED:20251006T101216Z
LAST-MODIFIED:20260114T190652Z
UID:10007237-1812393000-1812396600@www.touchpoints180.org
SUMMARY:New Beginnings
DESCRIPTION:Click here to join the workshop: https://us06web.zoom.us/j/81017547525?pwd=XlpDuIIIuVvayRIs3m1CpH5NDyPX0u.1
URL:https://www.touchpoints180.org/event/new-beginnings-4/2027-06-07/
CATEGORIES:New Beginnings
END:VEVENT
BEGIN:VEVENT
DTSTART;TZID=America/New_York:20270608T140000
DTEND;TZID=America/New_York:20270608T150000
DTSTAMP:20260419T235307
CREATED:20250321T000649Z
LAST-MODIFIED:20250321T110615Z
UID:10000378-1812463200-1812466800@www.touchpoints180.org
SUMMARY:New Beginnings
DESCRIPTION:Click to join the workshop: https://us06web.zoom.us/j/86564583544?pwd=LgMe7NGQRe0NRsT9jibL6FPkJ9YQt3.1
URL:https://www.touchpoints180.org/event/new-beginnings-2/2027-06-08/
CATEGORIES:New Beginnings
END:VEVENT
BEGIN:VEVENT
DTSTART;TZID=America/New_York:20270610T173000
DTEND;TZID=America/New_York:20270610T183000
DTSTAMP:20260419T235307
CREATED:20251211T192912Z
LAST-MODIFIED:20260106T182122Z
UID:10000641-1812648600-1812652200@www.touchpoints180.org
SUMMARY:New Beginnings
DESCRIPTION:Click here to join the workshop:  https://us06web.zoom.us/j/86881060395?pwd=yOg5uSTh0PVIt7uv2wL3pozu3b3Ufm.1
URL:https://www.touchpoints180.org/event/new-beginnings-3-2/2027-06-10/
CATEGORIES:New Beginnings
END:VEVENT
BEGIN:VEVENT
DTSTART;TZID=America/New_York:20270614T183000
DTEND;TZID=America/New_York:20270614T193000
DTSTAMP:20260419T235307
CREATED:20251006T101216Z
LAST-MODIFIED:20260114T190652Z
UID:10007238-1812997800-1813001400@www.touchpoints180.org
SUMMARY:New Beginnings
DESCRIPTION:Click here to join the workshop: https://us06web.zoom.us/j/81017547525?pwd=XlpDuIIIuVvayRIs3m1CpH5NDyPX0u.1
URL:https://www.touchpoints180.org/event/new-beginnings-4/2027-06-14/
CATEGORIES:New Beginnings
END:VEVENT
BEGIN:VEVENT
DTSTART;TZID=America/New_York:20270615T140000
DTEND;TZID=America/New_York:20270615T150000
DTSTAMP:20260419T235307
CREATED:20250321T000649Z
LAST-MODIFIED:20250321T110615Z
UID:10000379-1813068000-1813071600@www.touchpoints180.org
SUMMARY:New Beginnings
DESCRIPTION:Click to join the workshop: https://us06web.zoom.us/j/86564583544?pwd=LgMe7NGQRe0NRsT9jibL6FPkJ9YQt3.1
URL:https://www.touchpoints180.org/event/new-beginnings-2/2027-06-15/
CATEGORIES:New Beginnings
END:VEVENT
BEGIN:VEVENT
DTSTART;TZID=America/New_York:20270617T173000
DTEND;TZID=America/New_York:20270617T183000
DTSTAMP:20260419T235307
CREATED:20251211T192912Z
LAST-MODIFIED:20260106T182122Z
UID:10000642-1813253400-1813257000@www.touchpoints180.org
SUMMARY:New Beginnings
DESCRIPTION:Click here to join the workshop:  https://us06web.zoom.us/j/86881060395?pwd=yOg5uSTh0PVIt7uv2wL3pozu3b3Ufm.1
URL:https://www.touchpoints180.org/event/new-beginnings-3-2/2027-06-17/
CATEGORIES:New Beginnings
END:VEVENT
BEGIN:VEVENT
DTSTART;TZID=America/New_York:20270621T183000
DTEND;TZID=America/New_York:20270621T193000
DTSTAMP:20260419T235307
CREATED:20251006T101216Z
LAST-MODIFIED:20260114T190652Z
UID:10007239-1813602600-1813606200@www.touchpoints180.org
SUMMARY:New Beginnings
DESCRIPTION:Click here to join the workshop: https://us06web.zoom.us/j/81017547525?pwd=XlpDuIIIuVvayRIs3m1CpH5NDyPX0u.1
URL:https://www.touchpoints180.org/event/new-beginnings-4/2027-06-21/
CATEGORIES:New Beginnings
END:VEVENT
BEGIN:VEVENT
DTSTART;TZID=America/New_York:20270622T140000
DTEND;TZID=America/New_York:20270622T150000
DTSTAMP:20260419T235307
CREATED:20250321T000649Z
LAST-MODIFIED:20250321T110615Z
UID:10000380-1813672800-1813676400@www.touchpoints180.org
SUMMARY:New Beginnings
DESCRIPTION:Click to join the workshop: https://us06web.zoom.us/j/86564583544?pwd=LgMe7NGQRe0NRsT9jibL6FPkJ9YQt3.1
URL:https://www.touchpoints180.org/event/new-beginnings-2/2027-06-22/
CATEGORIES:New Beginnings
END:VEVENT
BEGIN:VEVENT
DTSTART;TZID=America/New_York:20270624T173000
DTEND;TZID=America/New_York:20270624T183000
DTSTAMP:20260419T235307
CREATED:20251211T192912Z
LAST-MODIFIED:20260106T182122Z
UID:10000643-1813858200-1813861800@www.touchpoints180.org
SUMMARY:New Beginnings
DESCRIPTION:Click here to join the workshop:  https://us06web.zoom.us/j/86881060395?pwd=yOg5uSTh0PVIt7uv2wL3pozu3b3Ufm.1
URL:https://www.touchpoints180.org/event/new-beginnings-3-2/2027-06-24/
CATEGORIES:New Beginnings
END:VEVENT
BEGIN:VEVENT
DTSTART;TZID=America/New_York:20270628T183000
DTEND;TZID=America/New_York:20270628T193000
DTSTAMP:20260419T235307
CREATED:20251006T101216Z
LAST-MODIFIED:20260114T190652Z
UID:10007240-1814207400-1814211000@www.touchpoints180.org
SUMMARY:New Beginnings
DESCRIPTION:Click here to join the workshop: https://us06web.zoom.us/j/81017547525?pwd=XlpDuIIIuVvayRIs3m1CpH5NDyPX0u.1
URL:https://www.touchpoints180.org/event/new-beginnings-4/2027-06-28/
CATEGORIES:New Beginnings
END:VEVENT
BEGIN:VEVENT
DTSTART;TZID=America/New_York:20270629T140000
DTEND;TZID=America/New_York:20270629T150000
DTSTAMP:20260419T235307
CREATED:20250321T000649Z
LAST-MODIFIED:20250321T110615Z
UID:10000381-1814277600-1814281200@www.touchpoints180.org
SUMMARY:New Beginnings
DESCRIPTION:Click to join the workshop: https://us06web.zoom.us/j/86564583544?pwd=LgMe7NGQRe0NRsT9jibL6FPkJ9YQt3.1
URL:https://www.touchpoints180.org/event/new-beginnings-2/2027-06-29/
CATEGORIES:New Beginnings
END:VEVENT
END:VCALENDAR