BEGIN:VCALENDAR
VERSION:2.0
PRODID:-//Touchpoints180™ | Getting to Your Best Life - ECPv6.15.20//NONSGML v1.0//EN
CALSCALE:GREGORIAN
METHOD:PUBLISH
X-ORIGINAL-URL:https://www.touchpoints180.org
X-WR-CALDESC:Events for Touchpoints180™ | Getting to Your Best Life
REFRESH-INTERVAL;VALUE=DURATION:PT1H
X-Robots-Tag:noindex
X-PUBLISHED-TTL:PT1H
BEGIN:VTIMEZONE
TZID:America/New_York
BEGIN:DAYLIGHT
TZOFFSETFROM:-0500
TZOFFSETTO:-0400
TZNAME:EDT
DTSTART:20260308T070000
END:DAYLIGHT
BEGIN:STANDARD
TZOFFSETFROM:-0400
TZOFFSETTO:-0500
TZNAME:EST
DTSTART:20261101T060000
END:STANDARD
BEGIN:DAYLIGHT
TZOFFSETFROM:-0500
TZOFFSETTO:-0400
TZNAME:EDT
DTSTART:20270314T070000
END:DAYLIGHT
BEGIN:STANDARD
TZOFFSETFROM:-0400
TZOFFSETTO:-0500
TZNAME:EST
DTSTART:20271107T060000
END:STANDARD
BEGIN:DAYLIGHT
TZOFFSETFROM:-0500
TZOFFSETTO:-0400
TZNAME:EDT
DTSTART:20280312T070000
END:DAYLIGHT
BEGIN:STANDARD
TZOFFSETFROM:-0400
TZOFFSETTO:-0500
TZNAME:EST
DTSTART:20281105T060000
END:STANDARD
END:VTIMEZONE
BEGIN:VEVENT
DTSTART;TZID=America/New_York:20270802T183000
DTEND;TZID=America/New_York:20270802T193000
DTSTAMP:20260420T033609
CREATED:20251006T101216Z
LAST-MODIFIED:20260114T190652Z
UID:10007245-1817231400-1817235000@www.touchpoints180.org
SUMMARY:New Beginnings
DESCRIPTION:Click here to join the workshop: https://us06web.zoom.us/j/81017547525?pwd=XlpDuIIIuVvayRIs3m1CpH5NDyPX0u.1
URL:https://www.touchpoints180.org/event/new-beginnings-4/2027-08-02/
CATEGORIES:New Beginnings
END:VEVENT
BEGIN:VEVENT
DTSTART;TZID=America/New_York:20270803T140000
DTEND;TZID=America/New_York:20270803T150000
DTSTAMP:20260420T033609
CREATED:20250321T000649Z
LAST-MODIFIED:20250321T110615Z
UID:10000386-1817301600-1817305200@www.touchpoints180.org
SUMMARY:New Beginnings
DESCRIPTION:Click to join the workshop: https://us06web.zoom.us/j/86564583544?pwd=LgMe7NGQRe0NRsT9jibL6FPkJ9YQt3.1
URL:https://www.touchpoints180.org/event/new-beginnings-2/2027-08-03/
CATEGORIES:New Beginnings
END:VEVENT
BEGIN:VEVENT
DTSTART;TZID=America/New_York:20270805T173000
DTEND;TZID=America/New_York:20270805T183000
DTSTAMP:20260420T033609
CREATED:20251211T192912Z
LAST-MODIFIED:20260106T182122Z
UID:10000649-1817487000-1817490600@www.touchpoints180.org
SUMMARY:New Beginnings
DESCRIPTION:Click here to join the workshop:  https://us06web.zoom.us/j/86881060395?pwd=yOg5uSTh0PVIt7uv2wL3pozu3b3Ufm.1
URL:https://www.touchpoints180.org/event/new-beginnings-3-2/2027-08-05/
CATEGORIES:New Beginnings
END:VEVENT
BEGIN:VEVENT
DTSTART;TZID=America/New_York:20270809T183000
DTEND;TZID=America/New_York:20270809T193000
DTSTAMP:20260420T033609
CREATED:20251006T101216Z
LAST-MODIFIED:20260114T190652Z
UID:10007246-1817836200-1817839800@www.touchpoints180.org
SUMMARY:New Beginnings
DESCRIPTION:Click here to join the workshop: https://us06web.zoom.us/j/81017547525?pwd=XlpDuIIIuVvayRIs3m1CpH5NDyPX0u.1
URL:https://www.touchpoints180.org/event/new-beginnings-4/2027-08-09/
CATEGORIES:New Beginnings
END:VEVENT
BEGIN:VEVENT
DTSTART;TZID=America/New_York:20270810T140000
DTEND;TZID=America/New_York:20270810T150000
DTSTAMP:20260420T033609
CREATED:20250321T000649Z
LAST-MODIFIED:20250321T110615Z
UID:10000387-1817906400-1817910000@www.touchpoints180.org
SUMMARY:New Beginnings
DESCRIPTION:Click to join the workshop: https://us06web.zoom.us/j/86564583544?pwd=LgMe7NGQRe0NRsT9jibL6FPkJ9YQt3.1
URL:https://www.touchpoints180.org/event/new-beginnings-2/2027-08-10/
CATEGORIES:New Beginnings
END:VEVENT
BEGIN:VEVENT
DTSTART;TZID=America/New_York:20270812T173000
DTEND;TZID=America/New_York:20270812T183000
DTSTAMP:20260420T033609
CREATED:20251211T192912Z
LAST-MODIFIED:20260106T182122Z
UID:10000650-1818091800-1818095400@www.touchpoints180.org
SUMMARY:New Beginnings
DESCRIPTION:Click here to join the workshop:  https://us06web.zoom.us/j/86881060395?pwd=yOg5uSTh0PVIt7uv2wL3pozu3b3Ufm.1
URL:https://www.touchpoints180.org/event/new-beginnings-3-2/2027-08-12/
CATEGORIES:New Beginnings
END:VEVENT
BEGIN:VEVENT
DTSTART;TZID=America/New_York:20270816T183000
DTEND;TZID=America/New_York:20270816T193000
DTSTAMP:20260420T033609
CREATED:20251006T101216Z
LAST-MODIFIED:20260114T190652Z
UID:10007247-1818441000-1818444600@www.touchpoints180.org
SUMMARY:New Beginnings
DESCRIPTION:Click here to join the workshop: https://us06web.zoom.us/j/81017547525?pwd=XlpDuIIIuVvayRIs3m1CpH5NDyPX0u.1
URL:https://www.touchpoints180.org/event/new-beginnings-4/2027-08-16/
CATEGORIES:New Beginnings
END:VEVENT
BEGIN:VEVENT
DTSTART;TZID=America/New_York:20270817T140000
DTEND;TZID=America/New_York:20270817T150000
DTSTAMP:20260420T033609
CREATED:20250321T000649Z
LAST-MODIFIED:20250321T110615Z
UID:10000388-1818511200-1818514800@www.touchpoints180.org
SUMMARY:New Beginnings
DESCRIPTION:Click to join the workshop: https://us06web.zoom.us/j/86564583544?pwd=LgMe7NGQRe0NRsT9jibL6FPkJ9YQt3.1
URL:https://www.touchpoints180.org/event/new-beginnings-2/2027-08-17/
CATEGORIES:New Beginnings
END:VEVENT
BEGIN:VEVENT
DTSTART;TZID=America/New_York:20270819T173000
DTEND;TZID=America/New_York:20270819T183000
DTSTAMP:20260420T033609
CREATED:20251211T192912Z
LAST-MODIFIED:20260106T182122Z
UID:10000651-1818696600-1818700200@www.touchpoints180.org
SUMMARY:New Beginnings
DESCRIPTION:Click here to join the workshop:  https://us06web.zoom.us/j/86881060395?pwd=yOg5uSTh0PVIt7uv2wL3pozu3b3Ufm.1
URL:https://www.touchpoints180.org/event/new-beginnings-3-2/2027-08-19/
CATEGORIES:New Beginnings
END:VEVENT
BEGIN:VEVENT
DTSTART;TZID=America/New_York:20270823T183000
DTEND;TZID=America/New_York:20270823T193000
DTSTAMP:20260420T033609
CREATED:20251006T101216Z
LAST-MODIFIED:20260114T190652Z
UID:10007248-1819045800-1819049400@www.touchpoints180.org
SUMMARY:New Beginnings
DESCRIPTION:Click here to join the workshop: https://us06web.zoom.us/j/81017547525?pwd=XlpDuIIIuVvayRIs3m1CpH5NDyPX0u.1
URL:https://www.touchpoints180.org/event/new-beginnings-4/2027-08-23/
CATEGORIES:New Beginnings
END:VEVENT
BEGIN:VEVENT
DTSTART;TZID=America/New_York:20270824T140000
DTEND;TZID=America/New_York:20270824T150000
DTSTAMP:20260420T033609
CREATED:20250321T000649Z
LAST-MODIFIED:20250321T110615Z
UID:10000389-1819116000-1819119600@www.touchpoints180.org
SUMMARY:New Beginnings
DESCRIPTION:Click to join the workshop: https://us06web.zoom.us/j/86564583544?pwd=LgMe7NGQRe0NRsT9jibL6FPkJ9YQt3.1
URL:https://www.touchpoints180.org/event/new-beginnings-2/2027-08-24/
CATEGORIES:New Beginnings
END:VEVENT
BEGIN:VEVENT
DTSTART;TZID=America/New_York:20270826T173000
DTEND;TZID=America/New_York:20270826T183000
DTSTAMP:20260420T033609
CREATED:20251211T192912Z
LAST-MODIFIED:20260106T182122Z
UID:10000652-1819301400-1819305000@www.touchpoints180.org
SUMMARY:New Beginnings
DESCRIPTION:Click here to join the workshop:  https://us06web.zoom.us/j/86881060395?pwd=yOg5uSTh0PVIt7uv2wL3pozu3b3Ufm.1
URL:https://www.touchpoints180.org/event/new-beginnings-3-2/2027-08-26/
CATEGORIES:New Beginnings
END:VEVENT
BEGIN:VEVENT
DTSTART;TZID=America/New_York:20270830T183000
DTEND;TZID=America/New_York:20270830T193000
DTSTAMP:20260420T033609
CREATED:20251006T101216Z
LAST-MODIFIED:20260114T190652Z
UID:10007249-1819650600-1819654200@www.touchpoints180.org
SUMMARY:New Beginnings
DESCRIPTION:Click here to join the workshop: https://us06web.zoom.us/j/81017547525?pwd=XlpDuIIIuVvayRIs3m1CpH5NDyPX0u.1
URL:https://www.touchpoints180.org/event/new-beginnings-4/2027-08-30/
CATEGORIES:New Beginnings
END:VEVENT
BEGIN:VEVENT
DTSTART;TZID=America/New_York:20270831T140000
DTEND;TZID=America/New_York:20270831T150000
DTSTAMP:20260420T033609
CREATED:20250321T000649Z
LAST-MODIFIED:20250321T110615Z
UID:10000390-1819720800-1819724400@www.touchpoints180.org
SUMMARY:New Beginnings
DESCRIPTION:Click to join the workshop: https://us06web.zoom.us/j/86564583544?pwd=LgMe7NGQRe0NRsT9jibL6FPkJ9YQt3.1
URL:https://www.touchpoints180.org/event/new-beginnings-2/2027-08-31/
CATEGORIES:New Beginnings
END:VEVENT
END:VCALENDAR