BEGIN:VCALENDAR
VERSION:2.0
PRODID:-//Touchpoints180™ | Getting to Your Best Life - ECPv6.15.20//NONSGML v1.0//EN
CALSCALE:GREGORIAN
METHOD:PUBLISH
X-ORIGINAL-URL:https://www.touchpoints180.org
X-WR-CALDESC:Events for Touchpoints180™ | Getting to Your Best Life
REFRESH-INTERVAL;VALUE=DURATION:PT1H
X-Robots-Tag:noindex
X-PUBLISHED-TTL:PT1H
BEGIN:VTIMEZONE
TZID:America/New_York
BEGIN:DAYLIGHT
TZOFFSETFROM:-0500
TZOFFSETTO:-0400
TZNAME:EDT
DTSTART:20290311T070000
END:DAYLIGHT
BEGIN:STANDARD
TZOFFSETFROM:-0400
TZOFFSETTO:-0500
TZNAME:EST
DTSTART:20291104T060000
END:STANDARD
BEGIN:DAYLIGHT
TZOFFSETFROM:-0500
TZOFFSETTO:-0400
TZNAME:EDT
DTSTART:20300310T070000
END:DAYLIGHT
BEGIN:STANDARD
TZOFFSETFROM:-0400
TZOFFSETTO:-0500
TZNAME:EST
DTSTART:20301103T060000
END:STANDARD
BEGIN:DAYLIGHT
TZOFFSETFROM:-0500
TZOFFSETTO:-0400
TZNAME:EDT
DTSTART:20310309T070000
END:DAYLIGHT
BEGIN:STANDARD
TZOFFSETFROM:-0400
TZOFFSETTO:-0500
TZNAME:EST
DTSTART:20311102T060000
END:STANDARD
END:VTIMEZONE
BEGIN:VEVENT
DTSTART;TZID=America/New_York:20300801T173000
DTEND;TZID=America/New_York:20300801T183000
DTSTAMP:20260422T083154
CREATED:20251211T192912Z
LAST-MODIFIED:20260106T182122Z
UID:10005865-1911835800-1911839400@www.touchpoints180.org
SUMMARY:New Beginnings
DESCRIPTION:Click here to join the workshop:  https://us06web.zoom.us/j/86881060395?pwd=yOg5uSTh0PVIt7uv2wL3pozu3b3Ufm.1
URL:https://www.touchpoints180.org/event/new-beginnings-3-2/2030-08-01/
CATEGORIES:New Beginnings
END:VEVENT
BEGIN:VEVENT
DTSTART;TZID=America/New_York:20300805T183000
DTEND;TZID=America/New_York:20300805T193000
DTSTAMP:20260422T083154
CREATED:20251006T101216Z
LAST-MODIFIED:20260114T190652Z
UID:10007402-1912185000-1912188600@www.touchpoints180.org
SUMMARY:New Beginnings
DESCRIPTION:Click here to join the workshop: https://us06web.zoom.us/j/81017547525?pwd=XlpDuIIIuVvayRIs3m1CpH5NDyPX0u.1
URL:https://www.touchpoints180.org/event/new-beginnings-4/2030-08-05/
CATEGORIES:New Beginnings
END:VEVENT
BEGIN:VEVENT
DTSTART;TZID=America/New_York:20300806T140000
DTEND;TZID=America/New_York:20300806T150000
DTSTAMP:20260422T083154
CREATED:20250321T000649Z
LAST-MODIFIED:20250321T110615Z
UID:10005954-1912255200-1912258800@www.touchpoints180.org
SUMMARY:New Beginnings
DESCRIPTION:Click to join the workshop: https://us06web.zoom.us/j/86564583544?pwd=LgMe7NGQRe0NRsT9jibL6FPkJ9YQt3.1
URL:https://www.touchpoints180.org/event/new-beginnings-2/2030-08-06/
CATEGORIES:New Beginnings
END:VEVENT
BEGIN:VEVENT
DTSTART;TZID=America/New_York:20300808T173000
DTEND;TZID=America/New_York:20300808T183000
DTSTAMP:20260422T083154
CREATED:20251211T192912Z
LAST-MODIFIED:20260106T182122Z
UID:10005866-1912440600-1912444200@www.touchpoints180.org
SUMMARY:New Beginnings
DESCRIPTION:Click here to join the workshop:  https://us06web.zoom.us/j/86881060395?pwd=yOg5uSTh0PVIt7uv2wL3pozu3b3Ufm.1
URL:https://www.touchpoints180.org/event/new-beginnings-3-2/2030-08-08/
CATEGORIES:New Beginnings
END:VEVENT
BEGIN:VEVENT
DTSTART;TZID=America/New_York:20300812T183000
DTEND;TZID=America/New_York:20300812T193000
DTSTAMP:20260422T083154
CREATED:20251006T101216Z
LAST-MODIFIED:20260114T190652Z
UID:10007403-1912789800-1912793400@www.touchpoints180.org
SUMMARY:New Beginnings
DESCRIPTION:Click here to join the workshop: https://us06web.zoom.us/j/81017547525?pwd=XlpDuIIIuVvayRIs3m1CpH5NDyPX0u.1
URL:https://www.touchpoints180.org/event/new-beginnings-4/2030-08-12/
CATEGORIES:New Beginnings
END:VEVENT
BEGIN:VEVENT
DTSTART;TZID=America/New_York:20300813T140000
DTEND;TZID=America/New_York:20300813T150000
DTSTAMP:20260422T083154
CREATED:20250321T000649Z
LAST-MODIFIED:20250321T110615Z
UID:10005955-1912860000-1912863600@www.touchpoints180.org
SUMMARY:New Beginnings
DESCRIPTION:Click to join the workshop: https://us06web.zoom.us/j/86564583544?pwd=LgMe7NGQRe0NRsT9jibL6FPkJ9YQt3.1
URL:https://www.touchpoints180.org/event/new-beginnings-2/2030-08-13/
CATEGORIES:New Beginnings
END:VEVENT
BEGIN:VEVENT
DTSTART;TZID=America/New_York:20300815T173000
DTEND;TZID=America/New_York:20300815T183000
DTSTAMP:20260422T083154
CREATED:20251211T192912Z
LAST-MODIFIED:20260106T182122Z
UID:10005867-1913045400-1913049000@www.touchpoints180.org
SUMMARY:New Beginnings
DESCRIPTION:Click here to join the workshop:  https://us06web.zoom.us/j/86881060395?pwd=yOg5uSTh0PVIt7uv2wL3pozu3b3Ufm.1
URL:https://www.touchpoints180.org/event/new-beginnings-3-2/2030-08-15/
CATEGORIES:New Beginnings
END:VEVENT
BEGIN:VEVENT
DTSTART;TZID=America/New_York:20300819T183000
DTEND;TZID=America/New_York:20300819T193000
DTSTAMP:20260422T083154
CREATED:20251006T101216Z
LAST-MODIFIED:20260114T190652Z
UID:10007404-1913394600-1913398200@www.touchpoints180.org
SUMMARY:New Beginnings
DESCRIPTION:Click here to join the workshop: https://us06web.zoom.us/j/81017547525?pwd=XlpDuIIIuVvayRIs3m1CpH5NDyPX0u.1
URL:https://www.touchpoints180.org/event/new-beginnings-4/2030-08-19/
CATEGORIES:New Beginnings
END:VEVENT
BEGIN:VEVENT
DTSTART;TZID=America/New_York:20300820T140000
DTEND;TZID=America/New_York:20300820T150000
DTSTAMP:20260422T083154
CREATED:20250321T000649Z
LAST-MODIFIED:20250321T110615Z
UID:10005956-1913464800-1913468400@www.touchpoints180.org
SUMMARY:New Beginnings
DESCRIPTION:Click to join the workshop: https://us06web.zoom.us/j/86564583544?pwd=LgMe7NGQRe0NRsT9jibL6FPkJ9YQt3.1
URL:https://www.touchpoints180.org/event/new-beginnings-2/2030-08-20/
CATEGORIES:New Beginnings
END:VEVENT
BEGIN:VEVENT
DTSTART;TZID=America/New_York:20300822T173000
DTEND;TZID=America/New_York:20300822T183000
DTSTAMP:20260422T083154
CREATED:20251211T192912Z
LAST-MODIFIED:20260106T182122Z
UID:10005868-1913650200-1913653800@www.touchpoints180.org
SUMMARY:New Beginnings
DESCRIPTION:Click here to join the workshop:  https://us06web.zoom.us/j/86881060395?pwd=yOg5uSTh0PVIt7uv2wL3pozu3b3Ufm.1
URL:https://www.touchpoints180.org/event/new-beginnings-3-2/2030-08-22/
CATEGORIES:New Beginnings
END:VEVENT
BEGIN:VEVENT
DTSTART;TZID=America/New_York:20300826T183000
DTEND;TZID=America/New_York:20300826T193000
DTSTAMP:20260422T083154
CREATED:20251006T101216Z
LAST-MODIFIED:20260114T190652Z
UID:10007405-1913999400-1914003000@www.touchpoints180.org
SUMMARY:New Beginnings
DESCRIPTION:Click here to join the workshop: https://us06web.zoom.us/j/81017547525?pwd=XlpDuIIIuVvayRIs3m1CpH5NDyPX0u.1
URL:https://www.touchpoints180.org/event/new-beginnings-4/2030-08-26/
CATEGORIES:New Beginnings
END:VEVENT
BEGIN:VEVENT
DTSTART;TZID=America/New_York:20300827T140000
DTEND;TZID=America/New_York:20300827T150000
DTSTAMP:20260422T083154
CREATED:20250321T000649Z
LAST-MODIFIED:20250321T110615Z
UID:10005957-1914069600-1914073200@www.touchpoints180.org
SUMMARY:New Beginnings
DESCRIPTION:Click to join the workshop: https://us06web.zoom.us/j/86564583544?pwd=LgMe7NGQRe0NRsT9jibL6FPkJ9YQt3.1
URL:https://www.touchpoints180.org/event/new-beginnings-2/2030-08-27/
CATEGORIES:New Beginnings
END:VEVENT
BEGIN:VEVENT
DTSTART;TZID=America/New_York:20300829T173000
DTEND;TZID=America/New_York:20300829T183000
DTSTAMP:20260422T083154
CREATED:20251211T192912Z
LAST-MODIFIED:20260106T182122Z
UID:10005869-1914255000-1914258600@www.touchpoints180.org
SUMMARY:New Beginnings
DESCRIPTION:Click here to join the workshop:  https://us06web.zoom.us/j/86881060395?pwd=yOg5uSTh0PVIt7uv2wL3pozu3b3Ufm.1
URL:https://www.touchpoints180.org/event/new-beginnings-3-2/2030-08-29/
CATEGORIES:New Beginnings
END:VEVENT
END:VCALENDAR