BEGIN:VCALENDAR
VERSION:2.0
PRODID:-//Touchpoints180™ | Getting to Your Best Life - ECPv6.15.20//NONSGML v1.0//EN
CALSCALE:GREGORIAN
METHOD:PUBLISH
X-ORIGINAL-URL:https://www.touchpoints180.org
X-WR-CALDESC:Events for Touchpoints180™ | Getting to Your Best Life
REFRESH-INTERVAL;VALUE=DURATION:PT1H
X-Robots-Tag:noindex
X-PUBLISHED-TTL:PT1H
BEGIN:VTIMEZONE
TZID:America/New_York
BEGIN:DAYLIGHT
TZOFFSETFROM:-0500
TZOFFSETTO:-0400
TZNAME:EDT
DTSTART:20290311T070000
END:DAYLIGHT
BEGIN:STANDARD
TZOFFSETFROM:-0400
TZOFFSETTO:-0500
TZNAME:EST
DTSTART:20291104T060000
END:STANDARD
BEGIN:DAYLIGHT
TZOFFSETFROM:-0500
TZOFFSETTO:-0400
TZNAME:EDT
DTSTART:20300310T070000
END:DAYLIGHT
BEGIN:STANDARD
TZOFFSETFROM:-0400
TZOFFSETTO:-0500
TZNAME:EST
DTSTART:20301103T060000
END:STANDARD
BEGIN:DAYLIGHT
TZOFFSETFROM:-0500
TZOFFSETTO:-0400
TZNAME:EDT
DTSTART:20310309T070000
END:DAYLIGHT
BEGIN:STANDARD
TZOFFSETFROM:-0400
TZOFFSETTO:-0500
TZNAME:EST
DTSTART:20311102T060000
END:STANDARD
END:VTIMEZONE
BEGIN:VEVENT
DTSTART;TZID=America/New_York:20300902T183000
DTEND;TZID=America/New_York:20300902T193000
DTSTAMP:20260422T101845
CREATED:20251006T101216Z
LAST-MODIFIED:20260114T190652Z
UID:10007406-1914604200-1914607800@www.touchpoints180.org
SUMMARY:New Beginnings
DESCRIPTION:Click here to join the workshop: https://us06web.zoom.us/j/81017547525?pwd=XlpDuIIIuVvayRIs3m1CpH5NDyPX0u.1
URL:https://www.touchpoints180.org/event/new-beginnings-4/2030-09-02/
CATEGORIES:New Beginnings
END:VEVENT
BEGIN:VEVENT
DTSTART;TZID=America/New_York:20300903T140000
DTEND;TZID=America/New_York:20300903T150000
DTSTAMP:20260422T101845
CREATED:20250321T000649Z
LAST-MODIFIED:20250321T110615Z
UID:10005958-1914674400-1914678000@www.touchpoints180.org
SUMMARY:New Beginnings
DESCRIPTION:Click to join the workshop: https://us06web.zoom.us/j/86564583544?pwd=LgMe7NGQRe0NRsT9jibL6FPkJ9YQt3.1
URL:https://www.touchpoints180.org/event/new-beginnings-2/2030-09-03/
CATEGORIES:New Beginnings
END:VEVENT
BEGIN:VEVENT
DTSTART;TZID=America/New_York:20300905T173000
DTEND;TZID=America/New_York:20300905T183000
DTSTAMP:20260422T101845
CREATED:20251211T192912Z
LAST-MODIFIED:20260106T182122Z
UID:10005870-1914859800-1914863400@www.touchpoints180.org
SUMMARY:New Beginnings
DESCRIPTION:Click here to join the workshop:  https://us06web.zoom.us/j/86881060395?pwd=yOg5uSTh0PVIt7uv2wL3pozu3b3Ufm.1
URL:https://www.touchpoints180.org/event/new-beginnings-3-2/2030-09-05/
CATEGORIES:New Beginnings
END:VEVENT
BEGIN:VEVENT
DTSTART;TZID=America/New_York:20300909T183000
DTEND;TZID=America/New_York:20300909T193000
DTSTAMP:20260422T101845
CREATED:20251006T101216Z
LAST-MODIFIED:20260114T190652Z
UID:10007407-1915209000-1915212600@www.touchpoints180.org
SUMMARY:New Beginnings
DESCRIPTION:Click here to join the workshop: https://us06web.zoom.us/j/81017547525?pwd=XlpDuIIIuVvayRIs3m1CpH5NDyPX0u.1
URL:https://www.touchpoints180.org/event/new-beginnings-4/2030-09-09/
CATEGORIES:New Beginnings
END:VEVENT
BEGIN:VEVENT
DTSTART;TZID=America/New_York:20300910T140000
DTEND;TZID=America/New_York:20300910T150000
DTSTAMP:20260422T101845
CREATED:20250321T000649Z
LAST-MODIFIED:20250321T110615Z
UID:10005959-1915279200-1915282800@www.touchpoints180.org
SUMMARY:New Beginnings
DESCRIPTION:Click to join the workshop: https://us06web.zoom.us/j/86564583544?pwd=LgMe7NGQRe0NRsT9jibL6FPkJ9YQt3.1
URL:https://www.touchpoints180.org/event/new-beginnings-2/2030-09-10/
CATEGORIES:New Beginnings
END:VEVENT
BEGIN:VEVENT
DTSTART;TZID=America/New_York:20300912T173000
DTEND;TZID=America/New_York:20300912T183000
DTSTAMP:20260422T101845
CREATED:20251211T192912Z
LAST-MODIFIED:20260106T182122Z
UID:10005871-1915464600-1915468200@www.touchpoints180.org
SUMMARY:New Beginnings
DESCRIPTION:Click here to join the workshop:  https://us06web.zoom.us/j/86881060395?pwd=yOg5uSTh0PVIt7uv2wL3pozu3b3Ufm.1
URL:https://www.touchpoints180.org/event/new-beginnings-3-2/2030-09-12/
CATEGORIES:New Beginnings
END:VEVENT
BEGIN:VEVENT
DTSTART;TZID=America/New_York:20300916T183000
DTEND;TZID=America/New_York:20300916T193000
DTSTAMP:20260422T101845
CREATED:20251006T101216Z
LAST-MODIFIED:20260114T190652Z
UID:10007408-1915813800-1915817400@www.touchpoints180.org
SUMMARY:New Beginnings
DESCRIPTION:Click here to join the workshop: https://us06web.zoom.us/j/81017547525?pwd=XlpDuIIIuVvayRIs3m1CpH5NDyPX0u.1
URL:https://www.touchpoints180.org/event/new-beginnings-4/2030-09-16/
CATEGORIES:New Beginnings
END:VEVENT
BEGIN:VEVENT
DTSTART;TZID=America/New_York:20300917T140000
DTEND;TZID=America/New_York:20300917T150000
DTSTAMP:20260422T101845
CREATED:20250321T000649Z
LAST-MODIFIED:20250321T110615Z
UID:10005960-1915884000-1915887600@www.touchpoints180.org
SUMMARY:New Beginnings
DESCRIPTION:Click to join the workshop: https://us06web.zoom.us/j/86564583544?pwd=LgMe7NGQRe0NRsT9jibL6FPkJ9YQt3.1
URL:https://www.touchpoints180.org/event/new-beginnings-2/2030-09-17/
CATEGORIES:New Beginnings
END:VEVENT
BEGIN:VEVENT
DTSTART;TZID=America/New_York:20300919T173000
DTEND;TZID=America/New_York:20300919T183000
DTSTAMP:20260422T101845
CREATED:20251211T192912Z
LAST-MODIFIED:20260106T182122Z
UID:10005872-1916069400-1916073000@www.touchpoints180.org
SUMMARY:New Beginnings
DESCRIPTION:Click here to join the workshop:  https://us06web.zoom.us/j/86881060395?pwd=yOg5uSTh0PVIt7uv2wL3pozu3b3Ufm.1
URL:https://www.touchpoints180.org/event/new-beginnings-3-2/2030-09-19/
CATEGORIES:New Beginnings
END:VEVENT
BEGIN:VEVENT
DTSTART;TZID=America/New_York:20300923T183000
DTEND;TZID=America/New_York:20300923T193000
DTSTAMP:20260422T101845
CREATED:20251006T101216Z
LAST-MODIFIED:20260114T190652Z
UID:10007409-1916418600-1916422200@www.touchpoints180.org
SUMMARY:New Beginnings
DESCRIPTION:Click here to join the workshop: https://us06web.zoom.us/j/81017547525?pwd=XlpDuIIIuVvayRIs3m1CpH5NDyPX0u.1
URL:https://www.touchpoints180.org/event/new-beginnings-4/2030-09-23/
CATEGORIES:New Beginnings
END:VEVENT
BEGIN:VEVENT
DTSTART;TZID=America/New_York:20300924T140000
DTEND;TZID=America/New_York:20300924T150000
DTSTAMP:20260422T101845
CREATED:20250321T000649Z
LAST-MODIFIED:20250321T110615Z
UID:10005961-1916488800-1916492400@www.touchpoints180.org
SUMMARY:New Beginnings
DESCRIPTION:Click to join the workshop: https://us06web.zoom.us/j/86564583544?pwd=LgMe7NGQRe0NRsT9jibL6FPkJ9YQt3.1
URL:https://www.touchpoints180.org/event/new-beginnings-2/2030-09-24/
CATEGORIES:New Beginnings
END:VEVENT
BEGIN:VEVENT
DTSTART;TZID=America/New_York:20300926T173000
DTEND;TZID=America/New_York:20300926T183000
DTSTAMP:20260422T101845
CREATED:20251211T192912Z
LAST-MODIFIED:20260106T182122Z
UID:10005873-1916674200-1916677800@www.touchpoints180.org
SUMMARY:New Beginnings
DESCRIPTION:Click here to join the workshop:  https://us06web.zoom.us/j/86881060395?pwd=yOg5uSTh0PVIt7uv2wL3pozu3b3Ufm.1
URL:https://www.touchpoints180.org/event/new-beginnings-3-2/2030-09-26/
CATEGORIES:New Beginnings
END:VEVENT
BEGIN:VEVENT
DTSTART;TZID=America/New_York:20300930T183000
DTEND;TZID=America/New_York:20300930T193000
DTSTAMP:20260422T101845
CREATED:20251006T101216Z
LAST-MODIFIED:20260114T190652Z
UID:10007410-1917023400-1917027000@www.touchpoints180.org
SUMMARY:New Beginnings
DESCRIPTION:Click here to join the workshop: https://us06web.zoom.us/j/81017547525?pwd=XlpDuIIIuVvayRIs3m1CpH5NDyPX0u.1
URL:https://www.touchpoints180.org/event/new-beginnings-4/2030-09-30/
CATEGORIES:New Beginnings
END:VEVENT
END:VCALENDAR