BEGIN:VCALENDAR
VERSION:2.0
PRODID:-//Touchpoints180™ | Getting to Your Best Life - ECPv6.15.20//NONSGML v1.0//EN
CALSCALE:GREGORIAN
METHOD:PUBLISH
X-WR-CALNAME:Touchpoints180™ | Getting to Your Best Life
X-ORIGINAL-URL:https://www.touchpoints180.org
X-WR-CALDESC:Events for Touchpoints180™ | Getting to Your Best Life
REFRESH-INTERVAL;VALUE=DURATION:PT1H
X-Robots-Tag:noindex
X-PUBLISHED-TTL:PT1H
BEGIN:VTIMEZONE
TZID:America/New_York
BEGIN:DAYLIGHT
TZOFFSETFROM:-0500
TZOFFSETTO:-0400
TZNAME:EDT
DTSTART:20300310T070000
END:DAYLIGHT
BEGIN:STANDARD
TZOFFSETFROM:-0400
TZOFFSETTO:-0500
TZNAME:EST
DTSTART:20301103T060000
END:STANDARD
BEGIN:DAYLIGHT
TZOFFSETFROM:-0500
TZOFFSETTO:-0400
TZNAME:EDT
DTSTART:20310309T070000
END:DAYLIGHT
BEGIN:STANDARD
TZOFFSETFROM:-0400
TZOFFSETTO:-0500
TZNAME:EST
DTSTART:20311102T060000
END:STANDARD
BEGIN:DAYLIGHT
TZOFFSETFROM:-0500
TZOFFSETTO:-0400
TZNAME:EDT
DTSTART:20320314T070000
END:DAYLIGHT
BEGIN:STANDARD
TZOFFSETFROM:-0400
TZOFFSETTO:-0500
TZNAME:EST
DTSTART:20321107T060000
END:STANDARD
END:VTIMEZONE
BEGIN:VEVENT
DTSTART;TZID=America/New_York:20310203T183000
DTEND;TZID=America/New_York:20310203T193000
DTSTAMP:20260423T030606
CREATED:20251006T101216Z
LAST-MODIFIED:20260114T190652Z
UID:10007440-1927909800-1927913400@www.touchpoints180.org
SUMMARY:New Beginnings
DESCRIPTION:Click here to join the workshop: https://us06web.zoom.us/j/81017547525?pwd=XlpDuIIIuVvayRIs3m1CpH5NDyPX0u.1
URL:https://www.touchpoints180.org/event/new-beginnings-4/2031-02-03/
CATEGORIES:New Beginnings
END:VEVENT
BEGIN:VEVENT
DTSTART;TZID=America/New_York:20310204T140000
DTEND;TZID=America/New_York:20310204T150000
DTSTAMP:20260423T030606
CREATED:20250321T000649Z
LAST-MODIFIED:20250321T110615Z
UID:10008244-1927980000-1927983600@www.touchpoints180.org
SUMMARY:New Beginnings
DESCRIPTION:Click to join the workshop: https://us06web.zoom.us/j/86564583544?pwd=LgMe7NGQRe0NRsT9jibL6FPkJ9YQt3.1
URL:https://www.touchpoints180.org/event/new-beginnings-2/2031-02-04/
CATEGORIES:New Beginnings
END:VEVENT
BEGIN:VEVENT
DTSTART;TZID=America/New_York:20310206T173000
DTEND;TZID=America/New_York:20310206T183000
DTSTAMP:20260423T030606
CREATED:20251211T192912Z
LAST-MODIFIED:20260106T182122Z
UID:10007764-1928165400-1928169000@www.touchpoints180.org
SUMMARY:New Beginnings
DESCRIPTION:Click here to join the workshop:  https://us06web.zoom.us/j/86881060395?pwd=yOg5uSTh0PVIt7uv2wL3pozu3b3Ufm.1
URL:https://www.touchpoints180.org/event/new-beginnings-3-2/2031-02-06/
CATEGORIES:New Beginnings
END:VEVENT
BEGIN:VEVENT
DTSTART;TZID=America/New_York:20310210T183000
DTEND;TZID=America/New_York:20310210T193000
DTSTAMP:20260423T030607
CREATED:20251006T101216Z
LAST-MODIFIED:20260114T190652Z
UID:10007441-1928514600-1928518200@www.touchpoints180.org
SUMMARY:New Beginnings
DESCRIPTION:Click here to join the workshop: https://us06web.zoom.us/j/81017547525?pwd=XlpDuIIIuVvayRIs3m1CpH5NDyPX0u.1
URL:https://www.touchpoints180.org/event/new-beginnings-4/2031-02-10/
CATEGORIES:New Beginnings
END:VEVENT
BEGIN:VEVENT
DTSTART;TZID=America/New_York:20310211T140000
DTEND;TZID=America/New_York:20310211T150000
DTSTAMP:20260423T030607
CREATED:20250321T000649Z
LAST-MODIFIED:20250321T110615Z
UID:10008245-1928584800-1928588400@www.touchpoints180.org
SUMMARY:New Beginnings
DESCRIPTION:Click to join the workshop: https://us06web.zoom.us/j/86564583544?pwd=LgMe7NGQRe0NRsT9jibL6FPkJ9YQt3.1
URL:https://www.touchpoints180.org/event/new-beginnings-2/2031-02-11/
CATEGORIES:New Beginnings
END:VEVENT
BEGIN:VEVENT
DTSTART;TZID=America/New_York:20310213T173000
DTEND;TZID=America/New_York:20310213T183000
DTSTAMP:20260423T030607
CREATED:20251211T192912Z
LAST-MODIFIED:20260106T182122Z
UID:10007765-1928770200-1928773800@www.touchpoints180.org
SUMMARY:New Beginnings
DESCRIPTION:Click here to join the workshop:  https://us06web.zoom.us/j/86881060395?pwd=yOg5uSTh0PVIt7uv2wL3pozu3b3Ufm.1
URL:https://www.touchpoints180.org/event/new-beginnings-3-2/2031-02-13/
CATEGORIES:New Beginnings
END:VEVENT
BEGIN:VEVENT
DTSTART;TZID=America/New_York:20310218T140000
DTEND;TZID=America/New_York:20310218T150000
DTSTAMP:20260423T030607
CREATED:20250321T000649Z
LAST-MODIFIED:20250321T110615Z
UID:10008246-1929189600-1929193200@www.touchpoints180.org
SUMMARY:New Beginnings
DESCRIPTION:Click to join the workshop: https://us06web.zoom.us/j/86564583544?pwd=LgMe7NGQRe0NRsT9jibL6FPkJ9YQt3.1
URL:https://www.touchpoints180.org/event/new-beginnings-2/2031-02-18/
CATEGORIES:New Beginnings
END:VEVENT
BEGIN:VEVENT
DTSTART;TZID=America/New_York:20310220T173000
DTEND;TZID=America/New_York:20310220T183000
DTSTAMP:20260423T030607
CREATED:20251211T192912Z
LAST-MODIFIED:20260106T182122Z
UID:10007766-1929375000-1929378600@www.touchpoints180.org
SUMMARY:New Beginnings
DESCRIPTION:Click here to join the workshop:  https://us06web.zoom.us/j/86881060395?pwd=yOg5uSTh0PVIt7uv2wL3pozu3b3Ufm.1
URL:https://www.touchpoints180.org/event/new-beginnings-3-2/2031-02-20/
CATEGORIES:New Beginnings
END:VEVENT
BEGIN:VEVENT
DTSTART;TZID=America/New_York:20310225T140000
DTEND;TZID=America/New_York:20310225T150000
DTSTAMP:20260423T030607
CREATED:20250321T000649Z
LAST-MODIFIED:20250321T110615Z
UID:10008247-1929794400-1929798000@www.touchpoints180.org
SUMMARY:New Beginnings
DESCRIPTION:Click to join the workshop: https://us06web.zoom.us/j/86564583544?pwd=LgMe7NGQRe0NRsT9jibL6FPkJ9YQt3.1
URL:https://www.touchpoints180.org/event/new-beginnings-2/2031-02-25/
CATEGORIES:New Beginnings
END:VEVENT
BEGIN:VEVENT
DTSTART;TZID=America/New_York:20310227T173000
DTEND;TZID=America/New_York:20310227T183000
DTSTAMP:20260423T030607
CREATED:20251211T192912Z
LAST-MODIFIED:20260106T182122Z
UID:10007767-1929979800-1929983400@www.touchpoints180.org
SUMMARY:New Beginnings
DESCRIPTION:Click here to join the workshop:  https://us06web.zoom.us/j/86881060395?pwd=yOg5uSTh0PVIt7uv2wL3pozu3b3Ufm.1
URL:https://www.touchpoints180.org/event/new-beginnings-3-2/2031-02-27/
CATEGORIES:New Beginnings
END:VEVENT
END:VCALENDAR