BEGIN:VCALENDAR
VERSION:2.0
PRODID:-//Touchpoints180™ | Getting to Your Best Life - ECPv6.15.20//NONSGML v1.0//EN
CALSCALE:GREGORIAN
METHOD:PUBLISH
X-WR-CALNAME:Touchpoints180™ | Getting to Your Best Life
X-ORIGINAL-URL:https://www.touchpoints180.org
X-WR-CALDESC:Events for Touchpoints180™ | Getting to Your Best Life
REFRESH-INTERVAL;VALUE=DURATION:PT1H
X-Robots-Tag:noindex
X-PUBLISHED-TTL:PT1H
BEGIN:VTIMEZONE
TZID:America/New_York
BEGIN:DAYLIGHT
TZOFFSETFROM:-0500
TZOFFSETTO:-0400
TZNAME:EDT
DTSTART:20240310T070000
END:DAYLIGHT
BEGIN:STANDARD
TZOFFSETFROM:-0400
TZOFFSETTO:-0500
TZNAME:EST
DTSTART:20241103T060000
END:STANDARD
BEGIN:DAYLIGHT
TZOFFSETFROM:-0500
TZOFFSETTO:-0400
TZNAME:EDT
DTSTART:20250309T070000
END:DAYLIGHT
BEGIN:STANDARD
TZOFFSETFROM:-0400
TZOFFSETTO:-0500
TZNAME:EST
DTSTART:20251102T060000
END:STANDARD
BEGIN:DAYLIGHT
TZOFFSETFROM:-0500
TZOFFSETTO:-0400
TZNAME:EDT
DTSTART:20260308T070000
END:DAYLIGHT
BEGIN:STANDARD
TZOFFSETFROM:-0400
TZOFFSETTO:-0500
TZNAME:EST
DTSTART:20261101T060000
END:STANDARD
END:VTIMEZONE
BEGIN:VEVENT
DTSTART;TZID=America/New_York:20250401T080000
DTEND;TZID=America/New_York:20250401T090000
DTSTAMP:20260420T003248
CREATED:20250321T003305Z
LAST-MODIFIED:20250321T105547Z
UID:10002672-1743494400-1743498000@www.touchpoints180.org
SUMMARY:Commitment
DESCRIPTION:Click to join this workshop on the first Tuesday of the month:  https://us06web.zoom.us/j/84912072130?pwd=PonaoBcV7LXPtApAaFr1YcYwov11nm.1
URL:https://www.touchpoints180.org/event/commitment/2025-04-01/
CATEGORIES:Commitment
END:VEVENT
BEGIN:VEVENT
DTSTART;TZID=America/New_York:20250401T140000
DTEND;TZID=America/New_York:20250401T150000
DTSTAMP:20260420T003248
CREATED:20250321T000649Z
LAST-MODIFIED:20250321T110615Z
UID:10000264-1743516000-1743519600@www.touchpoints180.org
SUMMARY:New Beginnings
DESCRIPTION:Click to join the workshop: https://us06web.zoom.us/j/86564583544?pwd=LgMe7NGQRe0NRsT9jibL6FPkJ9YQt3.1
URL:https://www.touchpoints180.org/event/new-beginnings-2/2025-04-01/
CATEGORIES:New Beginnings
END:VEVENT
BEGIN:VEVENT
DTSTART;TZID=America/New_York:20250401T163000
DTEND;TZID=America/New_York:20250401T173000
DTSTAMP:20260420T003248
CREATED:20250321T002304Z
LAST-MODIFIED:20250321T110300Z
UID:10001831-1743525000-1743528600@www.touchpoints180.org
SUMMARY:Transformations
DESCRIPTION:Click to join this workshop:  https://us06web.zoom.us/meeting/register/SYny-4oITQazkmg6WDLdTQ
URL:https://www.touchpoints180.org/event/transformations/2025-04-01/
CATEGORIES:Transformation
END:VEVENT
BEGIN:VEVENT
DTSTART;TZID=America/New_York:20250402T163000
DTEND;TZID=America/New_York:20250402T173000
DTSTAMP:20260420T003248
CREATED:20250321T002433Z
LAST-MODIFIED:20250321T110117Z
UID:10002092-1743611400-1743615000@www.touchpoints180.org
SUMMARY:Kindness Method
DESCRIPTION:Please register here to attend this workshop:  https://us06web.zoom.us/j/81591410364?pwd=uFGKJBOXkMRl81LLJf5X4zE2TmodBr.1
URL:https://www.touchpoints180.org/event/kindness-method/2025-04-02/
CATEGORIES:Kindness Method
END:VEVENT
BEGIN:VEVENT
DTSTART;TZID=America/New_York:20250403T163000
DTEND;TZID=America/New_York:20250403T173000
DTSTAMP:20260420T003248
CREATED:20250321T001336Z
LAST-MODIFIED:20250321T105939Z
UID:10000788-1743697800-1743701400@www.touchpoints180.org
SUMMARY:Transformations
DESCRIPTION:Click to join this workshop: https://us06web.zoom.us/j/81483328279?pwd=TGtHb7keTPprCAjdVu1fQcyNFUIt95.1
URL:https://www.touchpoints180.org/event/transformation-2/2025-04-03/
CATEGORIES:Transformation
END:VEVENT
BEGIN:VEVENT
DTSTART;TZID=America/New_York:20250407T193000
DTEND;TZID=America/New_York:20250407T200000
DTSTAMP:20260420T003248
CREATED:20250403T000751Z
LAST-MODIFIED:20250403T002118Z
UID:10002858-1744054200-1744056000@www.touchpoints180.org
SUMMARY:Dr. Calabrese First Monday of the Month
DESCRIPTION:Please click to join Dr. Calabrese on the First Monday of the Month: https://us06web.zoom.us/j/88055925031?pwd=bIUcVQufnxfZtn9yakMo9SWcMiOfO8.1 \n 
URL:https://www.touchpoints180.org/event/dr-calabrese-first-monday-of-the-month/
CATEGORIES:Dr. Calabrese
END:VEVENT
BEGIN:VEVENT
DTSTART;TZID=America/New_York:20250408T140000
DTEND;TZID=America/New_York:20250408T150000
DTSTAMP:20260420T003248
CREATED:20250321T000649Z
LAST-MODIFIED:20250321T110615Z
UID:10000265-1744120800-1744124400@www.touchpoints180.org
SUMMARY:New Beginnings
DESCRIPTION:Click to join the workshop: https://us06web.zoom.us/j/86564583544?pwd=LgMe7NGQRe0NRsT9jibL6FPkJ9YQt3.1
URL:https://www.touchpoints180.org/event/new-beginnings-2/2025-04-08/
CATEGORIES:New Beginnings
END:VEVENT
BEGIN:VEVENT
DTSTART;TZID=America/New_York:20250408T163000
DTEND;TZID=America/New_York:20250408T173000
DTSTAMP:20260420T003248
CREATED:20250321T002304Z
LAST-MODIFIED:20250321T110300Z
UID:10001832-1744129800-1744133400@www.touchpoints180.org
SUMMARY:Transformations
DESCRIPTION:Click to join this workshop:  https://us06web.zoom.us/meeting/register/SYny-4oITQazkmg6WDLdTQ
URL:https://www.touchpoints180.org/event/transformations/2025-04-08/
CATEGORIES:Transformation
END:VEVENT
BEGIN:VEVENT
DTSTART;TZID=America/New_York:20250409T163000
DTEND;TZID=America/New_York:20250409T173000
DTSTAMP:20260420T003248
CREATED:20250321T002433Z
LAST-MODIFIED:20250321T110117Z
UID:10002093-1744216200-1744219800@www.touchpoints180.org
SUMMARY:Kindness Method
DESCRIPTION:Please register here to attend this workshop:  https://us06web.zoom.us/j/81591410364?pwd=uFGKJBOXkMRl81LLJf5X4zE2TmodBr.1
URL:https://www.touchpoints180.org/event/kindness-method/2025-04-09/
CATEGORIES:Kindness Method
END:VEVENT
BEGIN:VEVENT
DTSTART;TZID=America/New_York:20250410T163000
DTEND;TZID=America/New_York:20250410T173000
DTSTAMP:20260420T003248
CREATED:20250321T001336Z
LAST-MODIFIED:20250321T105939Z
UID:10000789-1744302600-1744306200@www.touchpoints180.org
SUMMARY:Transformations
DESCRIPTION:Click to join this workshop: https://us06web.zoom.us/j/81483328279?pwd=TGtHb7keTPprCAjdVu1fQcyNFUIt95.1
URL:https://www.touchpoints180.org/event/transformation-2/2025-04-10/
CATEGORIES:Transformation
END:VEVENT
BEGIN:VEVENT
DTSTART;TZID=America/New_York:20250414T150000
DTEND;TZID=America/New_York:20250414T160000
DTSTAMP:20260420T003248
CREATED:20250321T002929Z
LAST-MODIFIED:20250321T105122Z
UID:10002612-1744642800-1744646400@www.touchpoints180.org
SUMMARY:Book Club
DESCRIPTION:Please click to join the Book Club on the 2nd Monday of the month: https://us06web.zoom.us/j/82038694705?pwd=AJeLOAD6bIsNJ1tjkySpOS8USoEeLs.1
URL:https://www.touchpoints180.org/event/book-club/
CATEGORIES:Book Club
END:VEVENT
BEGIN:VEVENT
DTSTART;TZID=America/New_York:20250415T140000
DTEND;TZID=America/New_York:20250415T150000
DTSTAMP:20260420T003248
CREATED:20250321T000649Z
LAST-MODIFIED:20250321T110615Z
UID:10000266-1744725600-1744729200@www.touchpoints180.org
SUMMARY:New Beginnings
DESCRIPTION:Click to join the workshop: https://us06web.zoom.us/j/86564583544?pwd=LgMe7NGQRe0NRsT9jibL6FPkJ9YQt3.1
URL:https://www.touchpoints180.org/event/new-beginnings-2/2025-04-15/
CATEGORIES:New Beginnings
END:VEVENT
BEGIN:VEVENT
DTSTART;TZID=America/New_York:20250415T163000
DTEND;TZID=America/New_York:20250415T173000
DTSTAMP:20260420T003248
CREATED:20250321T002304Z
LAST-MODIFIED:20250321T110300Z
UID:10001833-1744734600-1744738200@www.touchpoints180.org
SUMMARY:Transformations
DESCRIPTION:Click to join this workshop:  https://us06web.zoom.us/meeting/register/SYny-4oITQazkmg6WDLdTQ
URL:https://www.touchpoints180.org/event/transformations/2025-04-15/
CATEGORIES:Transformation
END:VEVENT
BEGIN:VEVENT
DTSTART;TZID=America/New_York:20250416T163000
DTEND;TZID=America/New_York:20250416T173000
DTSTAMP:20260420T003248
CREATED:20250321T002433Z
LAST-MODIFIED:20250321T110117Z
UID:10002094-1744821000-1744824600@www.touchpoints180.org
SUMMARY:Kindness Method
DESCRIPTION:Please register here to attend this workshop:  https://us06web.zoom.us/j/81591410364?pwd=uFGKJBOXkMRl81LLJf5X4zE2TmodBr.1
URL:https://www.touchpoints180.org/event/kindness-method/2025-04-16/
CATEGORIES:Kindness Method
END:VEVENT
BEGIN:VEVENT
DTSTART;TZID=America/New_York:20250417T163000
DTEND;TZID=America/New_York:20250417T173000
DTSTAMP:20260420T003248
CREATED:20250321T001336Z
LAST-MODIFIED:20250321T105939Z
UID:10000790-1744907400-1744911000@www.touchpoints180.org
SUMMARY:Transformations
DESCRIPTION:Click to join this workshop: https://us06web.zoom.us/j/81483328279?pwd=TGtHb7keTPprCAjdVu1fQcyNFUIt95.1
URL:https://www.touchpoints180.org/event/transformation-2/2025-04-17/
CATEGORIES:Transformation
END:VEVENT
BEGIN:VEVENT
DTSTART;TZID=America/New_York:20250421T193000
DTEND;TZID=America/New_York:20250421T200000
DTSTAMP:20260420T003248
CREATED:20250403T000837Z
LAST-MODIFIED:20250403T002218Z
UID:10002919-1745263800-1745265600@www.touchpoints180.org
SUMMARY:Dr. Calabrese Third Monday of the Month
DESCRIPTION:Please click to join Dr. Calabrese on the Third Monday of the Month: https://us06web.zoom.us/j/87553559014?pwd=QU7lw9B4ffPnVwZQJFp7r5Q66l5CJt.1
URL:https://www.touchpoints180.org/event/dr-calabrese-third-monday-of-the-month/2025-04-21/
CATEGORIES:Dr. Calabrese
LOCATION:
END:VEVENT
BEGIN:VEVENT
DTSTART;TZID=America/New_York:20250422T140000
DTEND;TZID=America/New_York:20250422T150000
DTSTAMP:20260420T003248
CREATED:20250321T000649Z
LAST-MODIFIED:20250321T110615Z
UID:10000267-1745330400-1745334000@www.touchpoints180.org
SUMMARY:New Beginnings
DESCRIPTION:Click to join the workshop: https://us06web.zoom.us/j/86564583544?pwd=LgMe7NGQRe0NRsT9jibL6FPkJ9YQt3.1
URL:https://www.touchpoints180.org/event/new-beginnings-2/2025-04-22/
CATEGORIES:New Beginnings
END:VEVENT
BEGIN:VEVENT
DTSTART;TZID=America/New_York:20250422T163000
DTEND;TZID=America/New_York:20250422T173000
DTSTAMP:20260420T003248
CREATED:20250321T002304Z
LAST-MODIFIED:20250321T110300Z
UID:10001834-1745339400-1745343000@www.touchpoints180.org
SUMMARY:Transformations
DESCRIPTION:Click to join this workshop:  https://us06web.zoom.us/meeting/register/SYny-4oITQazkmg6WDLdTQ
URL:https://www.touchpoints180.org/event/transformations/2025-04-22/
CATEGORIES:Transformation
END:VEVENT
BEGIN:VEVENT
DTSTART;TZID=America/New_York:20250423T163000
DTEND;TZID=America/New_York:20250423T173000
DTSTAMP:20260420T003248
CREATED:20250321T002433Z
LAST-MODIFIED:20250321T110117Z
UID:10002095-1745425800-1745429400@www.touchpoints180.org
SUMMARY:Kindness Method
DESCRIPTION:Please register here to attend this workshop:  https://us06web.zoom.us/j/81591410364?pwd=uFGKJBOXkMRl81LLJf5X4zE2TmodBr.1
URL:https://www.touchpoints180.org/event/kindness-method/2025-04-23/
CATEGORIES:Kindness Method
END:VEVENT
BEGIN:VEVENT
DTSTART;TZID=America/New_York:20250424T163000
DTEND;TZID=America/New_York:20250424T173000
DTSTAMP:20260420T003248
CREATED:20250321T001336Z
LAST-MODIFIED:20250321T105939Z
UID:10000791-1745512200-1745515800@www.touchpoints180.org
SUMMARY:Transformations
DESCRIPTION:Click to join this workshop: https://us06web.zoom.us/j/81483328279?pwd=TGtHb7keTPprCAjdVu1fQcyNFUIt95.1
URL:https://www.touchpoints180.org/event/transformation-2/2025-04-24/
CATEGORIES:Transformation
END:VEVENT
BEGIN:VEVENT
DTSTART;TZID=America/New_York:20250429T140000
DTEND;TZID=America/New_York:20250429T150000
DTSTAMP:20260420T003248
CREATED:20250321T000649Z
LAST-MODIFIED:20250321T110615Z
UID:10000268-1745935200-1745938800@www.touchpoints180.org
SUMMARY:New Beginnings
DESCRIPTION:Click to join the workshop: https://us06web.zoom.us/j/86564583544?pwd=LgMe7NGQRe0NRsT9jibL6FPkJ9YQt3.1
URL:https://www.touchpoints180.org/event/new-beginnings-2/2025-04-29/
CATEGORIES:New Beginnings
END:VEVENT
BEGIN:VEVENT
DTSTART;TZID=America/New_York:20250429T163000
DTEND;TZID=America/New_York:20250429T173000
DTSTAMP:20260420T003248
CREATED:20250321T002304Z
LAST-MODIFIED:20250321T110300Z
UID:10001835-1745944200-1745947800@www.touchpoints180.org
SUMMARY:Transformations
DESCRIPTION:Click to join this workshop:  https://us06web.zoom.us/meeting/register/SYny-4oITQazkmg6WDLdTQ
URL:https://www.touchpoints180.org/event/transformations/2025-04-29/
CATEGORIES:Transformation
END:VEVENT
BEGIN:VEVENT
DTSTART;TZID=America/New_York:20250430T163000
DTEND;TZID=America/New_York:20250430T173000
DTSTAMP:20260420T003248
CREATED:20250321T002433Z
LAST-MODIFIED:20250321T110117Z
UID:10002096-1746030600-1746034200@www.touchpoints180.org
SUMMARY:Kindness Method
DESCRIPTION:Please register here to attend this workshop:  https://us06web.zoom.us/j/81591410364?pwd=uFGKJBOXkMRl81LLJf5X4zE2TmodBr.1
URL:https://www.touchpoints180.org/event/kindness-method/2025-04-30/
CATEGORIES:Kindness Method
END:VEVENT
END:VCALENDAR