BEGIN:VCALENDAR
VERSION:2.0
PRODID:-//Touchpoints180™ | Getting to Your Best Life - ECPv6.15.20//NONSGML v1.0//EN
CALSCALE:GREGORIAN
METHOD:PUBLISH
X-ORIGINAL-URL:https://www.touchpoints180.org
X-WR-CALDESC:Events for Touchpoints180™ | Getting to Your Best Life
REFRESH-INTERVAL;VALUE=DURATION:PT1H
X-Robots-Tag:noindex
X-PUBLISHED-TTL:PT1H
BEGIN:VTIMEZONE
TZID:America/New_York
BEGIN:DAYLIGHT
TZOFFSETFROM:-0500
TZOFFSETTO:-0400
TZNAME:EDT
DTSTART:20240310T070000
END:DAYLIGHT
BEGIN:STANDARD
TZOFFSETFROM:-0400
TZOFFSETTO:-0500
TZNAME:EST
DTSTART:20241103T060000
END:STANDARD
BEGIN:DAYLIGHT
TZOFFSETFROM:-0500
TZOFFSETTO:-0400
TZNAME:EDT
DTSTART:20250309T070000
END:DAYLIGHT
BEGIN:STANDARD
TZOFFSETFROM:-0400
TZOFFSETTO:-0500
TZNAME:EST
DTSTART:20251102T060000
END:STANDARD
BEGIN:DAYLIGHT
TZOFFSETFROM:-0500
TZOFFSETTO:-0400
TZNAME:EDT
DTSTART:20260308T070000
END:DAYLIGHT
BEGIN:STANDARD
TZOFFSETFROM:-0400
TZOFFSETTO:-0500
TZNAME:EST
DTSTART:20261101T060000
END:STANDARD
END:VTIMEZONE
BEGIN:VEVENT
DTSTART;TZID=America/New_York:20250501T163000
DTEND;TZID=America/New_York:20250501T173000
DTSTAMP:20260420T121451
CREATED:20250321T001336Z
LAST-MODIFIED:20250321T105939Z
UID:10000792-1746117000-1746120600@www.touchpoints180.org
SUMMARY:Transformations
DESCRIPTION:Click to join this workshop: https://us06web.zoom.us/j/81483328279?pwd=TGtHb7keTPprCAjdVu1fQcyNFUIt95.1
URL:https://www.touchpoints180.org/event/transformation-2/2025-05-01/
CATEGORIES:Transformation
END:VEVENT
BEGIN:VEVENT
DTSTART;TZID=America/New_York:20250505T163000
DTEND;TZID=America/New_York:20250505T173000
DTSTAMP:20260420T121451
CREATED:20250502T000811Z
LAST-MODIFIED:20251218T165420Z
UID:10002097-1746462600-1746466200@www.touchpoints180.org
SUMMARY:Kindness Method
DESCRIPTION:Please register here to attend this workshop: https://us06web.zoom.us/j/81591410364?pwd=uFGKJBOXkMRl81LLJf5X4zE2TmodBr.1
URL:https://www.touchpoints180.org/event/kindness-method-2/2025-05-05/
CATEGORIES:Kindness Method
END:VEVENT
BEGIN:VEVENT
DTSTART;TZID=America/New_York:20250505T193000
DTEND;TZID=America/New_York:20250505T200000
DTSTAMP:20260420T121451
CREATED:20250505T233759Z
LAST-MODIFIED:20251103T191442Z
UID:10002859-1746473400-1746475200@www.touchpoints180.org
SUMMARY:Dr. Calabrese First Monday of the Month
DESCRIPTION:Please click to join Dr. Calabrese on the First Monday of the Month: https://us06web.zoom.us/j/81901576667?pwd=Kfn6PCk4ab9dkRbQ9vuKYeyfSeXzcy.1
URL:https://www.touchpoints180.org/event/dr-calabrese-first-monday-of-the-month-2/2025-05-05/
CATEGORIES:Dr. Calabrese
END:VEVENT
BEGIN:VEVENT
DTSTART;TZID=America/New_York:20250506T080000
DTEND;TZID=America/New_York:20250506T090000
DTSTAMP:20260420T121451
CREATED:20250321T003305Z
LAST-MODIFIED:20250321T105547Z
UID:10002673-1746518400-1746522000@www.touchpoints180.org
SUMMARY:Commitment
DESCRIPTION:Click to join this workshop on the first Tuesday of the month:  https://us06web.zoom.us/j/84912072130?pwd=PonaoBcV7LXPtApAaFr1YcYwov11nm.1
URL:https://www.touchpoints180.org/event/commitment/2025-05-06/
CATEGORIES:Commitment
END:VEVENT
BEGIN:VEVENT
DTSTART;TZID=America/New_York:20250506T140000
DTEND;TZID=America/New_York:20250506T150000
DTSTAMP:20260420T121451
CREATED:20250321T000649Z
LAST-MODIFIED:20250321T110615Z
UID:10000269-1746540000-1746543600@www.touchpoints180.org
SUMMARY:New Beginnings
DESCRIPTION:Click to join the workshop: https://us06web.zoom.us/j/86564583544?pwd=LgMe7NGQRe0NRsT9jibL6FPkJ9YQt3.1
URL:https://www.touchpoints180.org/event/new-beginnings-2/2025-05-06/
CATEGORIES:New Beginnings
END:VEVENT
BEGIN:VEVENT
DTSTART;TZID=America/New_York:20250506T163000
DTEND;TZID=America/New_York:20250506T173000
DTSTAMP:20260420T121451
CREATED:20250502T000546Z
LAST-MODIFIED:20250502T000548Z
UID:10001836-1746549000-1746552600@www.touchpoints180.org
SUMMARY:Transformations
DESCRIPTION:Click to join this workshop:  https://us06web.zoom.us/j/85819620236?pwd=ByHAP9sf9PKBFcJF2al6aAZ58BP5p1.1
URL:https://www.touchpoints180.org/event/transformations-2/2025-05-06/
CATEGORIES:Transformation
END:VEVENT
BEGIN:VEVENT
DTSTART;TZID=America/New_York:20250508T163000
DTEND;TZID=America/New_York:20250508T173000
DTSTAMP:20260420T121451
CREATED:20250321T001336Z
LAST-MODIFIED:20250321T105939Z
UID:10000793-1746721800-1746725400@www.touchpoints180.org
SUMMARY:Transformations
DESCRIPTION:Click to join this workshop: https://us06web.zoom.us/j/81483328279?pwd=TGtHb7keTPprCAjdVu1fQcyNFUIt95.1
URL:https://www.touchpoints180.org/event/transformation-2/2025-05-08/
CATEGORIES:Transformation
END:VEVENT
BEGIN:VEVENT
DTSTART;TZID=America/New_York:20250512T163000
DTEND;TZID=America/New_York:20250512T173000
DTSTAMP:20260420T121451
CREATED:20250502T000811Z
LAST-MODIFIED:20251218T165420Z
UID:10002988-1747067400-1747071000@www.touchpoints180.org
SUMMARY:Kindness Method
DESCRIPTION:Please register here to attend this workshop: https://us06web.zoom.us/j/81591410364?pwd=uFGKJBOXkMRl81LLJf5X4zE2TmodBr.1
URL:https://www.touchpoints180.org/event/kindness-method-2/2025-05-12/
CATEGORIES:Kindness Method
END:VEVENT
BEGIN:VEVENT
DTSTART;TZID=America/New_York:20250513T140000
DTEND;TZID=America/New_York:20250513T150000
DTSTAMP:20260420T121451
CREATED:20250321T000649Z
LAST-MODIFIED:20250321T110615Z
UID:10000270-1747144800-1747148400@www.touchpoints180.org
SUMMARY:New Beginnings
DESCRIPTION:Click to join the workshop: https://us06web.zoom.us/j/86564583544?pwd=LgMe7NGQRe0NRsT9jibL6FPkJ9YQt3.1
URL:https://www.touchpoints180.org/event/new-beginnings-2/2025-05-13/
CATEGORIES:New Beginnings
END:VEVENT
BEGIN:VEVENT
DTSTART;TZID=America/New_York:20250513T163000
DTEND;TZID=America/New_York:20250513T173000
DTSTAMP:20260420T121451
CREATED:20250502T000546Z
LAST-MODIFIED:20250502T000548Z
UID:10001837-1747153800-1747157400@www.touchpoints180.org
SUMMARY:Transformations
DESCRIPTION:Click to join this workshop:  https://us06web.zoom.us/j/85819620236?pwd=ByHAP9sf9PKBFcJF2al6aAZ58BP5p1.1
URL:https://www.touchpoints180.org/event/transformations-2/2025-05-13/
CATEGORIES:Transformation
END:VEVENT
BEGIN:VEVENT
DTSTART;TZID=America/New_York:20250514T173000
DTEND;TZID=America/New_York:20250514T180000
DTSTAMP:20260420T121451
CREATED:20250502T000928Z
LAST-MODIFIED:20260105T182235Z
UID:10006291-1747243800-1747245600@www.touchpoints180.org
SUMMARY:Book Club
DESCRIPTION:Please click to join the Book Club on the 2nd Wednesday of the month: https://us06web.zoom.us/j/83032474127?pwd=F1TfKgcaZp3w2HOZcm7dt4zTAqk9pu.1
URL:https://www.touchpoints180.org/event/book-club-2/2025-05-14/
CATEGORIES:Book Club
END:VEVENT
BEGIN:VEVENT
DTSTART;TZID=America/New_York:20250515T163000
DTEND;TZID=America/New_York:20250515T173000
DTSTAMP:20260420T121451
CREATED:20250321T001336Z
LAST-MODIFIED:20250321T105939Z
UID:10000794-1747326600-1747330200@www.touchpoints180.org
SUMMARY:Transformations
DESCRIPTION:Click to join this workshop: https://us06web.zoom.us/j/81483328279?pwd=TGtHb7keTPprCAjdVu1fQcyNFUIt95.1
URL:https://www.touchpoints180.org/event/transformation-2/2025-05-15/
CATEGORIES:Transformation
END:VEVENT
BEGIN:VEVENT
DTSTART;TZID=America/New_York:20250519T163000
DTEND;TZID=America/New_York:20250519T173000
DTSTAMP:20260420T121451
CREATED:20250502T000811Z
LAST-MODIFIED:20251218T165420Z
UID:10002989-1747672200-1747675800@www.touchpoints180.org
SUMMARY:Kindness Method
DESCRIPTION:Please register here to attend this workshop: https://us06web.zoom.us/j/81591410364?pwd=uFGKJBOXkMRl81LLJf5X4zE2TmodBr.1
URL:https://www.touchpoints180.org/event/kindness-method-2/2025-05-19/
CATEGORIES:Kindness Method
END:VEVENT
BEGIN:VEVENT
DTSTART;TZID=America/New_York:20250519T193000
DTEND;TZID=America/New_York:20250519T200000
DTSTAMP:20260420T121451
CREATED:20250403T000837Z
LAST-MODIFIED:20250403T002218Z
UID:10002920-1747683000-1747684800@www.touchpoints180.org
SUMMARY:Dr. Calabrese Third Monday of the Month
DESCRIPTION:Please click to join Dr. Calabrese on the Third Monday of the Month: https://us06web.zoom.us/j/87553559014?pwd=QU7lw9B4ffPnVwZQJFp7r5Q66l5CJt.1
URL:https://www.touchpoints180.org/event/dr-calabrese-third-monday-of-the-month/2025-05-19/
CATEGORIES:Dr. Calabrese
LOCATION:
END:VEVENT
BEGIN:VEVENT
DTSTART;TZID=America/New_York:20250520T140000
DTEND;TZID=America/New_York:20250520T150000
DTSTAMP:20260420T121451
CREATED:20250321T000649Z
LAST-MODIFIED:20250321T110615Z
UID:10000271-1747749600-1747753200@www.touchpoints180.org
SUMMARY:New Beginnings
DESCRIPTION:Click to join the workshop: https://us06web.zoom.us/j/86564583544?pwd=LgMe7NGQRe0NRsT9jibL6FPkJ9YQt3.1
URL:https://www.touchpoints180.org/event/new-beginnings-2/2025-05-20/
CATEGORIES:New Beginnings
END:VEVENT
BEGIN:VEVENT
DTSTART;TZID=America/New_York:20250520T163000
DTEND;TZID=America/New_York:20250520T173000
DTSTAMP:20260420T121451
CREATED:20250502T000546Z
LAST-MODIFIED:20250502T000548Z
UID:10001838-1747758600-1747762200@www.touchpoints180.org
SUMMARY:Transformations
DESCRIPTION:Click to join this workshop:  https://us06web.zoom.us/j/85819620236?pwd=ByHAP9sf9PKBFcJF2al6aAZ58BP5p1.1
URL:https://www.touchpoints180.org/event/transformations-2/2025-05-20/
CATEGORIES:Transformation
END:VEVENT
BEGIN:VEVENT
DTSTART;TZID=America/New_York:20250522T163000
DTEND;TZID=America/New_York:20250522T173000
DTSTAMP:20260420T121451
CREATED:20250321T001336Z
LAST-MODIFIED:20250321T105939Z
UID:10000795-1747931400-1747935000@www.touchpoints180.org
SUMMARY:Transformations
DESCRIPTION:Click to join this workshop: https://us06web.zoom.us/j/81483328279?pwd=TGtHb7keTPprCAjdVu1fQcyNFUIt95.1
URL:https://www.touchpoints180.org/event/transformation-2/2025-05-22/
CATEGORIES:Transformation
END:VEVENT
BEGIN:VEVENT
DTSTART;TZID=America/New_York:20250526T163000
DTEND;TZID=America/New_York:20250526T173000
DTSTAMP:20260420T121451
CREATED:20250502T000811Z
LAST-MODIFIED:20251218T165420Z
UID:10002990-1748277000-1748280600@www.touchpoints180.org
SUMMARY:Kindness Method
DESCRIPTION:Please register here to attend this workshop: https://us06web.zoom.us/j/81591410364?pwd=uFGKJBOXkMRl81LLJf5X4zE2TmodBr.1
URL:https://www.touchpoints180.org/event/kindness-method-2/2025-05-26/
CATEGORIES:Kindness Method
END:VEVENT
BEGIN:VEVENT
DTSTART;TZID=America/New_York:20250527T140000
DTEND;TZID=America/New_York:20250527T150000
DTSTAMP:20260420T121451
CREATED:20250321T000649Z
LAST-MODIFIED:20250321T110615Z
UID:10000272-1748354400-1748358000@www.touchpoints180.org
SUMMARY:New Beginnings
DESCRIPTION:Click to join the workshop: https://us06web.zoom.us/j/86564583544?pwd=LgMe7NGQRe0NRsT9jibL6FPkJ9YQt3.1
URL:https://www.touchpoints180.org/event/new-beginnings-2/2025-05-27/
CATEGORIES:New Beginnings
END:VEVENT
BEGIN:VEVENT
DTSTART;TZID=America/New_York:20250527T163000
DTEND;TZID=America/New_York:20250527T173000
DTSTAMP:20260420T121451
CREATED:20250502T000546Z
LAST-MODIFIED:20250502T000548Z
UID:10001839-1748363400-1748367000@www.touchpoints180.org
SUMMARY:Transformations
DESCRIPTION:Click to join this workshop:  https://us06web.zoom.us/j/85819620236?pwd=ByHAP9sf9PKBFcJF2al6aAZ58BP5p1.1
URL:https://www.touchpoints180.org/event/transformations-2/2025-05-27/
CATEGORIES:Transformation
END:VEVENT
BEGIN:VEVENT
DTSTART;TZID=America/New_York:20250529T163000
DTEND;TZID=America/New_York:20250529T173000
DTSTAMP:20260420T121451
CREATED:20250321T001336Z
LAST-MODIFIED:20250321T105939Z
UID:10000796-1748536200-1748539800@www.touchpoints180.org
SUMMARY:Transformations
DESCRIPTION:Click to join this workshop: https://us06web.zoom.us/j/81483328279?pwd=TGtHb7keTPprCAjdVu1fQcyNFUIt95.1
URL:https://www.touchpoints180.org/event/transformation-2/2025-05-29/
CATEGORIES:Transformation
END:VEVENT
END:VCALENDAR